BEGIN:VCALENDAR
VERSION:2.0
PRODID:-//Un Café Français - ECPv6.15.13.1//NONSGML v1.0//EN
CALSCALE:GREGORIAN
METHOD:PUBLISH
X-ORIGINAL-URL:https://uncafefrancais.com
X-WR-CALDESC:Évènements pour Un Café Français
REFRESH-INTERVAL;VALUE=DURATION:PT1H
X-Robots-Tag:noindex
X-PUBLISHED-TTL:PT1H
BEGIN:VTIMEZONE
TZID:Europe/Paris
BEGIN:DAYLIGHT
TZOFFSETFROM:+0100
TZOFFSETTO:+0200
TZNAME:CEST
DTSTART:20220327T010000
END:DAYLIGHT
BEGIN:STANDARD
TZOFFSETFROM:+0200
TZOFFSETTO:+0100
TZNAME:CET
DTSTART:20221030T010000
END:STANDARD
BEGIN:DAYLIGHT
TZOFFSETFROM:+0100
TZOFFSETTO:+0200
TZNAME:CEST
DTSTART:20230326T010000
END:DAYLIGHT
BEGIN:STANDARD
TZOFFSETFROM:+0200
TZOFFSETTO:+0100
TZNAME:CET
DTSTART:20231029T010000
END:STANDARD
BEGIN:DAYLIGHT
TZOFFSETFROM:+0100
TZOFFSETTO:+0200
TZNAME:CEST
DTSTART:20240331T010000
END:DAYLIGHT
BEGIN:STANDARD
TZOFFSETFROM:+0200
TZOFFSETTO:+0100
TZNAME:CET
DTSTART:20241027T010000
END:STANDARD
END:VTIMEZONE
BEGIN:VEVENT
DTSTART;TZID=Europe/Paris:20230921T100000
DTEND;TZID=Europe/Paris:20230921T120000
DTSTAMP:20260419T181539
CREATED:20230911T083230Z
LAST-MODIFIED:20230920T091454Z
UID:11599-1695290400-1695297600@uncafefrancais.com
SUMMARY:[:en]Guided Tour : LE SUD DU MARAIS[:fr]Visite Guidée : LE SUD DU MARAIS[:]
DESCRIPTION:Bienvenue à vous curieux parisiens ! Nous sommes ravis de vous accueillir pour une passionnante visite guidée du sud du Marais\, l’un des quartiers les plus emblématiques de Paris. Pendant cette visite\, vous découvrirez l’histoire fascinante\, l’architecture pittoresque et la culture vibrante de cette partie de la ville. Alors\, mettez vos chaussures de marche confortables\, ouvrez grand vos yeux et préparez-vous à explorer le sud du Marais ! \nDurant cette visite nous découvrirons le célèbre Hôtel de Ville. Cette magnifique mairie de style Renaissance est un symbole de la ville de Paris et un exemple parfait de l’architecture de la Renaissance française.\nPuis nous irons dans les ruelles étroites et les cours cachées du Marais\, où vous découvrirez la face cachée des façades ou l’histoire d’habitants célèbres. Prenez juste garde à ne pas vous faire emprisonner dans une fameuse prison du quartier. \nTout au long de la visite\, notre guide expérimenté vous fournira des informations historiques\, culturelles et anecdotiques pour vous immerger pleinement dans l’atmosphère du sud du Marais. N’hésitez pas à poser des questions et à prendre des photos pour immortaliser cette expérience unique. \nNous espérons que cette visite vous offrira une perspective enrichissante sur l’une des parties les plus captivantes de Paris. Alors\, rejoignez-nous pour 2h inoubliables de découverte dans le sud du Marais ! \nDès maintenant\, réserver votre place ! \nconsommation non-comprise / consumption not included
URL:https://uncafefrancais.com/agenda/vg-sudmarais-230921/
LOCATION:Hôtel de Ville\, France
CATEGORIES:[:fr]Visites Guidées Intermédiares[:][:en]Intermediate Guided Tours[:],[:fr]Visites Guidées[:][:en]Guided Tours[:],Evénement Intermédiaires[:][:en]Intermediates Event[:]
ATTACH;FMTTYPE=image/png:https://uncafefrancais.com/wp-content/uploads/2023/09/I-Le-Sud-du-Marais-UCF-COMPRESS.png
END:VEVENT
END:VCALENDAR