BEGIN:VCALENDAR
VERSION:2.0
PRODID:-//Un Café Français - ECPv6.15.13.1//NONSGML v1.0//EN
CALSCALE:GREGORIAN
METHOD:PUBLISH
X-ORIGINAL-URL:https://uncafefrancais.com/en
X-WR-CALDESC:Events for Un Café Français
REFRESH-INTERVAL;VALUE=DURATION:PT1H
X-Robots-Tag:noindex
X-PUBLISHED-TTL:PT1H
BEGIN:VTIMEZONE
TZID:Europe/Paris
BEGIN:DAYLIGHT
TZOFFSETFROM:+0100
TZOFFSETTO:+0200
TZNAME:CEST
DTSTART:20210328T010000
END:DAYLIGHT
BEGIN:STANDARD
TZOFFSETFROM:+0200
TZOFFSETTO:+0100
TZNAME:CET
DTSTART:20211031T010000
END:STANDARD
BEGIN:DAYLIGHT
TZOFFSETFROM:+0100
TZOFFSETTO:+0200
TZNAME:CEST
DTSTART:20220327T010000
END:DAYLIGHT
BEGIN:STANDARD
TZOFFSETFROM:+0200
TZOFFSETTO:+0100
TZNAME:CET
DTSTART:20221030T010000
END:STANDARD
BEGIN:DAYLIGHT
TZOFFSETFROM:+0100
TZOFFSETTO:+0200
TZNAME:CEST
DTSTART:20230326T010000
END:DAYLIGHT
BEGIN:STANDARD
TZOFFSETFROM:+0200
TZOFFSETTO:+0100
TZNAME:CET
DTSTART:20231029T010000
END:STANDARD
END:VTIMEZONE
BEGIN:VEVENT
DTSTART;TZID=Europe/Paris:20220601T183000
DTEND;TZID=Europe/Paris:20220601T200000
DTSTAMP:20260423T091809
CREATED:20220429T152108Z
LAST-MODIFIED:20220515T221419Z
UID:11036-1654108200-1654113600@uncafefrancais.com
SUMMARY:L’Apéro Intermédiaires
DESCRIPTION:One of the best proven ways to progress the learning of a new language is to try communicating and conversing with others. In this “apéro” we offer u the opportunity to meet up in a group of people to discuss in french all along while enjoying a french cultural habit \nConsumption not included
URL:https://uncafefrancais.com/en/agenda/apero-intermediaires-220601/
LOCATION:(Français) Les Associés\, 50\, Bd de la Bastille\, Parais\, 75012\, France
CATEGORIES:[:fr]Apéros Intermédiaires[:][:en]Intermediate Apéros[:],[:fr]Groupes de conversations Intermédiaires[:][:en]Intermediate Conversations Groups[:],[:fr]Groupes de conversations[:][:en]Conversation Groups[:],Apéros
ATTACH;FMTTYPE=image/png:https://uncafefrancais.com/wp-content/uploads/2020/01/UCF-Jumelle-Apero_int.png
END:VEVENT
BEGIN:VEVENT
DTSTART;TZID=Europe/Paris:20220607T140000
DTEND;TZID=Europe/Paris:20220607T153000
DTSTAMP:20260423T091809
CREATED:20220514T201227Z
LAST-MODIFIED:20220514T201227Z
UID:11212-1654610400-1654615800@uncafefrancais.com
SUMMARY:La Pause-Café Intermédiaires
DESCRIPTION:Afternoons are a great time to have a conversation…Take in a new neighbourhood\, settle into a café with original or historic decor and speak French for a good hour. At the end\, we’ll discover or revisit one particular aspect of French that you find difficult\, by most of all putting it to good use! \nConsumption not included
URL:https://uncafefrancais.com/en/agenda/pausecafe-intermediaires-220607/
LOCATION:(Français) Les Associés\, 50\, Bd de la Bastille\, Parais\, 75012\, France
CATEGORIES:[:fr]Groupes de conversations Intermédiaires[:][:en]Intermediate Conversations Groups[:],[:fr]Groupes de conversations[:][:en]Conversation Groups[:],[:fr]Pauses-Café Intermédiaires[:][:en]Intermediate Pauses-Café[:],
ATTACH;FMTTYPE=image/png:https://uncafefrancais.com/wp-content/uploads/2020/01/UCF-Jumelle-Pause-cafe_int.png
END:VEVENT
BEGIN:VEVENT
DTSTART;TZID=Europe/Paris:20220608T183000
DTEND;TZID=Europe/Paris:20220608T200000
DTSTAMP:20260423T091809
CREATED:20220429T152112Z
LAST-MODIFIED:20220515T221415Z
UID:11037-1654713000-1654718400@uncafefrancais.com
SUMMARY:L’Apéro Intermédiaires
DESCRIPTION:One of the best proven ways to progress the learning of a new language is to try communicating and conversing with others. In this “apéro” we offer u the opportunity to meet up in a group of people to discuss in french all along while enjoying a french cultural habit \nConsumption not included
URL:https://uncafefrancais.com/en/agenda/apero-intermediaires-220608/
LOCATION:(Français) Les Associés\, 50\, Bd de la Bastille\, Parais\, 75012\, France
CATEGORIES:[:fr]Apéros Intermédiaires[:][:en]Intermediate Apéros[:],[:fr]Groupes de conversations Intermédiaires[:][:en]Intermediate Conversations Groups[:],[:fr]Groupes de conversations[:][:en]Conversation Groups[:],Apéros
ATTACH;FMTTYPE=image/png:https://uncafefrancais.com/wp-content/uploads/2020/01/UCF-Jumelle-Apero_int.png
END:VEVENT
BEGIN:VEVENT
DTSTART;TZID=Europe/Paris:20220615T183000
DTEND;TZID=Europe/Paris:20220615T200000
DTSTAMP:20260423T091809
CREATED:20220429T152212Z
LAST-MODIFIED:20220515T221530Z
UID:11040-1655317800-1655323200@uncafefrancais.com
SUMMARY:L’Apéro Intermédiaires
DESCRIPTION:One of the best proven ways to progress the learning of a new language is to try communicating and conversing with others. In this “apéro” we offer u the opportunity to meet up in a group of people to discuss in french all along while enjoying a french cultural habit \nConsumption not included
URL:https://uncafefrancais.com/en/agenda/apero-intermediaires-220615/
LOCATION:(Français) Les Associés\, 50\, Bd de la Bastille\, Parais\, 75012\, France
CATEGORIES:[:fr]Apéros Intermédiaires[:][:en]Intermediate Apéros[:],[:fr]Groupes de conversations Intermédiaires[:][:en]Intermediate Conversations Groups[:],[:fr]Groupes de conversations[:][:en]Conversation Groups[:],Apéros
ATTACH;FMTTYPE=image/png:https://uncafefrancais.com/wp-content/uploads/2020/01/UCF-Jumelle-Apero_int.png
END:VEVENT
BEGIN:VEVENT
DTSTART;TZID=Europe/Paris:20220621T140000
DTEND;TZID=Europe/Paris:20220621T153000
DTSTAMP:20260423T091809
CREATED:20220514T200412Z
LAST-MODIFIED:20220514T200642Z
UID:11199-1655820000-1655825400@uncafefrancais.com
SUMMARY:La Pause-Café Intermédiaires
DESCRIPTION:Afternoons are a great time to have a conversation…Take in a new neighbourhood\, settle into a café with original or historic decor and speak French for a good hour. At the end\, we’ll discover or revisit one particular aspect of French that you find difficult\, by most of all putting it to good use! \nConsumption not included
URL:https://uncafefrancais.com/en/agenda/pausecafe-intermediaires-220621/
LOCATION:(Français) Les Associés\, 50\, Bd de la Bastille\, Parais\, 75012\, France
CATEGORIES:[:fr]Apéros Intermédiaires[:][:en]Intermediate Apéros[:],[:fr]Groupes de conversations Intermédiaires[:][:en]Intermediate Conversations Groups[:],[:fr]Groupes de conversations[:][:en]Conversation Groups[:],Apéros
ATTACH;FMTTYPE=image/png:https://uncafefrancais.com/wp-content/uploads/2020/01/UCF-Jumelle-Pause-cafe_int.png
END:VEVENT
BEGIN:VEVENT
DTSTART;TZID=Europe/Paris:20220622T183000
DTEND;TZID=Europe/Paris:20220622T200000
DTSTAMP:20260423T091809
CREATED:20220429T152259Z
LAST-MODIFIED:20220515T221339Z
UID:11041-1655922600-1655928000@uncafefrancais.com
SUMMARY:L’Apéro Intermédiaires
DESCRIPTION:One of the best proven ways to progress the learning of a new language is to try communicating and conversing with others. In this “apéro” we offer u the opportunity to meet up in a group of people to discuss in french all along while enjoying a french cultural habit \nConsumption not included
URL:https://uncafefrancais.com/en/agenda/apero-intermediaires-220622/
CATEGORIES:[:fr]Apéros Intermédiaires[:][:en]Intermediate Apéros[:],[:fr]Groupes de conversations Intermédiaires[:][:en]Intermediate Conversations Groups[:],[:fr]Groupes de conversations[:][:en]Conversation Groups[:],Apéros
ATTACH;FMTTYPE=image/png:https://uncafefrancais.com/wp-content/uploads/2020/01/UCF-Jumelle-Apero_int.png
END:VEVENT
BEGIN:VEVENT
DTSTART;TZID=Europe/Paris:20220628T140000
DTEND;TZID=Europe/Paris:20220628T153000
DTSTAMP:20260423T091809
CREATED:20220514T200423Z
LAST-MODIFIED:20220514T200734Z
UID:11200-1656424800-1656430200@uncafefrancais.com
SUMMARY:La Pause-Café Intermédiaires
DESCRIPTION:Afternoons are a great time to have a conversation…Take in a new neighbourhood\, settle into a café with original or historic decor and speak French for a good hour. At the end\, we’ll discover or revisit one particular aspect of French that you find difficult\, by most of all putting it to good use! \nConsumption not included
URL:https://uncafefrancais.com/en/agenda/pausecafe-intermediaires-220628/
LOCATION:(Français) Les Associés\, 50\, Bd de la Bastille\, Parais\, 75012\, France
CATEGORIES:[:fr]Groupes de conversations Intermédiaires[:][:en]Intermediate Conversations Groups[:],[:fr]Groupes de conversations[:][:en]Conversation Groups[:],[:fr]Pauses-Café Intermédiaires[:][:en]Intermediate Pauses-Café[:],
ATTACH;FMTTYPE=image/png:https://uncafefrancais.com/wp-content/uploads/2020/01/UCF-Jumelle-Pause-cafe_int.png
END:VEVENT
BEGIN:VEVENT
DTSTART;TZID=Europe/Paris:20220629T183000
DTEND;TZID=Europe/Paris:20220629T200000
DTSTAMP:20260423T091809
CREATED:20220429T152357Z
LAST-MODIFIED:20220515T221337Z
UID:11042-1656527400-1656532800@uncafefrancais.com
SUMMARY:L’Apéro Intermédiaires
DESCRIPTION:One of the best proven ways to progress the learning of a new language is to try communicating and conversing with others. In this “apéro” we offer u the opportunity to meet up in a group of people to discuss in french all along while enjoying a french cultural habit \nConsumption not included
URL:https://uncafefrancais.com/en/agenda/apero-intermediaires-220629/
CATEGORIES:[:fr]Apéros Intermédiaires[:][:en]Intermediate Apéros[:],[:fr]Groupes de conversations Intermédiaires[:][:en]Intermediate Conversations Groups[:],[:fr]Groupes de conversations[:][:en]Conversation Groups[:],Apéros
ATTACH;FMTTYPE=image/png:https://uncafefrancais.com/wp-content/uploads/2020/01/UCF-Jumelle-Apero_int.png
END:VEVENT
END:VCALENDAR