BEGIN:VCALENDAR
VERSION:2.0
PRODID:-//Un Café Français - ECPv6.15.13.1//NONSGML v1.0//EN
CALSCALE:GREGORIAN
METHOD:PUBLISH
X-WR-CALNAME:Un Café Français
X-ORIGINAL-URL:https://uncafefrancais.com/en
X-WR-CALDESC:Events for Un Café Français
REFRESH-INTERVAL;VALUE=DURATION:PT1H
X-Robots-Tag:noindex
X-PUBLISHED-TTL:PT1H
BEGIN:VTIMEZONE
TZID:Europe/Paris
BEGIN:DAYLIGHT
TZOFFSETFROM:+0100
TZOFFSETTO:+0200
TZNAME:CEST
DTSTART:20230326T010000
END:DAYLIGHT
BEGIN:STANDARD
TZOFFSETFROM:+0200
TZOFFSETTO:+0100
TZNAME:CET
DTSTART:20231029T010000
END:STANDARD
BEGIN:DAYLIGHT
TZOFFSETFROM:+0100
TZOFFSETTO:+0200
TZNAME:CEST
DTSTART:20240331T010000
END:DAYLIGHT
BEGIN:STANDARD
TZOFFSETFROM:+0200
TZOFFSETTO:+0100
TZNAME:CET
DTSTART:20241027T010000
END:STANDARD
BEGIN:DAYLIGHT
TZOFFSETFROM:+0100
TZOFFSETTO:+0200
TZNAME:CEST
DTSTART:20250330T010000
END:DAYLIGHT
BEGIN:STANDARD
TZOFFSETFROM:+0200
TZOFFSETTO:+0100
TZNAME:CET
DTSTART:20251026T010000
END:STANDARD
END:VTIMEZONE
BEGIN:VTIMEZONE
TZID:Europe/Paris
BEGIN:DAYLIGHT
TZOFFSETFROM:+0100
TZOFFSETTO:+0200
TZNAME:CEST
DTSTART:20230326T010000
END:DAYLIGHT
BEGIN:STANDARD
TZOFFSETFROM:+0200
TZOFFSETTO:+0100
TZNAME:CET
DTSTART:20231029T010000
END:STANDARD
BEGIN:DAYLIGHT
TZOFFSETFROM:+0100
TZOFFSETTO:+0200
TZNAME:CEST
DTSTART:20240331T010000
END:DAYLIGHT
BEGIN:STANDARD
TZOFFSETFROM:+0200
TZOFFSETTO:+0100
TZNAME:CET
DTSTART:20241027T010000
END:STANDARD
BEGIN:DAYLIGHT
TZOFFSETFROM:+0100
TZOFFSETTO:+0200
TZNAME:CEST
DTSTART:20250330T010000
END:DAYLIGHT
BEGIN:STANDARD
TZOFFSETFROM:+0200
TZOFFSETTO:+0100
TZNAME:CET
DTSTART:20251026T010000
END:STANDARD
END:VTIMEZONE
BEGIN:VEVENT
DTSTART;TZID=Europe/Paris:20240103T183000
DTEND;TZID=Europe/Paris:20240103T203000
DTSTAMP:20260421T182332
CREATED:20231231T204829Z
LAST-MODIFIED:20231231T220057Z
UID:11817-1704306600-1704313800@uncafefrancais.com
SUMMARY:L’Apéro Intermédiaires
DESCRIPTION:One of the best proven ways to progress the learning of a new language is to try communicating and conversing with others. In this “apéro” we offer you the opportunity to meet up in a group of people to discuss in french all along while enjoying a French cultural habit. \nConsumption not included
URL:https://uncafefrancais.com/en/agenda/apero-intermediaires-240103/
LOCATION:Le Génie\, 4\, Bld de Beaumarchais\, PARIS\, 75011
CATEGORIES:[:fr]Apéros Intermédiaires[:][:en]Intermediate Apéros[:],[:fr]Groupes de conversations Intermédiaires[:][:en]Intermediate Conversations Groups[:],[:fr]Groupes de conversations[:][:en]Conversation Groups[:],Apéros
ATTACH;FMTTYPE=image/png:https://uncafefrancais.com/wp-content/uploads/2020/01/UCF-Jumelle-Apero_int.png
END:VEVENT
BEGIN:VEVENT
DTSTART;TZID=Europe/Paris:20240109T100000
DTEND;TZID=Europe/Paris:20240109T113000
DTSTAMP:20260421T182332
CREATED:20240101T053318Z
LAST-MODIFIED:20240101T055207Z
UID:11922-1704794400-1704799800@uncafefrancais.com
SUMMARY:Le P’tit Déj’ Intermédiaires
DESCRIPTION:What if started the day with a pleasant conversation in a charming café? Nothing better for getting up to speed. And to finish our time together\, a new topic or some revision…It’s going to be a nice day! \n  \n  \nConsumption not included
URL:https://uncafefrancais.com/en/agenda/ptitdej-intermediaires-240109/
CATEGORIES:[:fr]Groupes de conversations Intermédiaires[:][:en]Intermediate Conversations Groups[:],[:fr]Groupes de conversations[:][:en]Conversation Groups[:],[:fr]P'tits Déj' Intermédiaires[:][:en]Intermediate Breakfasts[:],P'tits Déj'
ATTACH;FMTTYPE=image/png:https://uncafefrancais.com/wp-content/uploads/2020/01/UCF-Jumelle-Pti-Déj_int.png
END:VEVENT
BEGIN:VEVENT
DTSTART;TZID=Europe/Paris:20240110T183000
DTEND;TZID=Europe/Paris:20240110T203000
DTSTAMP:20260421T182332
CREATED:20231231T204916Z
LAST-MODIFIED:20240110T172930Z
UID:11818-1704911400-1704918600@uncafefrancais.com
SUMMARY:L’Apéro Intermédiaires
DESCRIPTION:One of the best proven ways to progress the learning of a new language is to try communicating and conversing with others. In this “apéro” we offer you the opportunity to meet up in a group of people to discuss in french all along while enjoying a French cultural habit. \nConsumption not included
URL:https://uncafefrancais.com/en/agenda/apero-intermediaires-240110/
LOCATION:Le Génie\, 4\, Bld de Beaumarchais\, PARIS\, 75011
CATEGORIES:[:fr]Apéros Intermédiaires[:][:en]Intermediate Apéros[:],[:fr]Groupes de conversations Intermédiaires[:][:en]Intermediate Conversations Groups[:],[:fr]Groupes de conversations[:][:en]Conversation Groups[:],Apéros
ATTACH;FMTTYPE=image/png:https://uncafefrancais.com/wp-content/uploads/2020/01/UCF-Jumelle-Apero_int.png
END:VEVENT
BEGIN:VEVENT
DTSTART;TZID=Europe/Paris:20240117T183000
DTEND;TZID=Europe/Paris:20240117T203000
DTSTAMP:20260421T182332
CREATED:20231231T204950Z
LAST-MODIFIED:20231231T220416Z
UID:11819-1705516200-1705523400@uncafefrancais.com
SUMMARY:L’Apéro Intermédiaires
DESCRIPTION:One of the best proven ways to progress the learning of a new language is to try communicating and conversing with others. In this “apéro” we offer you the opportunity to meet up in a group of people to discuss in french all along while enjoying a French cultural habit. \nConsumption not included
URL:https://uncafefrancais.com/en/agenda/apero-intermediaires-240117/
LOCATION:Le Génie\, 4\, Bld de Beaumarchais\, PARIS\, 75011
CATEGORIES:[:fr]Apéros Intermédiaires[:][:en]Intermediate Apéros[:],[:fr]Groupes de conversations Intermédiaires[:][:en]Intermediate Conversations Groups[:],[:fr]Groupes de conversations[:][:en]Conversation Groups[:],Apéros
ATTACH;FMTTYPE=image/png:https://uncafefrancais.com/wp-content/uploads/2020/01/UCF-Jumelle-Apero_int.png
END:VEVENT
BEGIN:VEVENT
DTSTART;TZID=Europe/Paris:20240118T140000
DTEND;TZID=Europe/Paris:20240118T153000
DTSTAMP:20260421T182332
CREATED:20240101T035931Z
LAST-MODIFIED:20240101T044855Z
UID:11902-1705586400-1705591800@uncafefrancais.com
SUMMARY:La Pause-Café Intermédiaires
DESCRIPTION:Afternoons are a great time to have a conversation…Take in a new neighbourhood\, settle into a café with original or historic decor and speak French for a good hour. At the end\, we’ll discover or revisit one particular aspect of French that you find difficult\, by most of all putting it to good use! \nConsumption not included
URL:https://uncafefrancais.com/en/agenda/pausecafe-intermediaires-240118/
CATEGORIES:[:fr]Groupes de conversations Intermédiaires[:][:en]Intermediate Conversations Groups[:],[:fr]Groupes de conversations[:][:en]Conversation Groups[:],[:fr]Pauses-Café Intermédiaires[:][:en]Intermediate Pauses-Café[:],
ATTACH;FMTTYPE=image/png:https://uncafefrancais.com/wp-content/uploads/2020/01/UCF-Jumelle-Pause-cafe_int.png
END:VEVENT
BEGIN:VEVENT
DTSTART;TZID=Europe/Paris:20240123T100000
DTEND;TZID=Europe/Paris:20240123T113000
DTSTAMP:20260421T182332
CREATED:20240101T053523Z
LAST-MODIFIED:20240101T062348Z
UID:11923-1706004000-1706009400@uncafefrancais.com
SUMMARY:Le P’tit Déj’ Intermédiaires
DESCRIPTION:What if started the day with a pleasant conversation in a charming café? Nothing better for getting up to speed. And to finish our time together\, a new topic or some revision…It’s going to be a nice day! \n  \n  \nConsumption not included
URL:https://uncafefrancais.com/en/agenda/ptitdej-intermediaires-240123/
CATEGORIES:[:fr]Groupes de conversations Intermédiaires[:][:en]Intermediate Conversations Groups[:],[:fr]Groupes de conversations[:][:en]Conversation Groups[:],[:fr]P'tits Déj' Intermédiaires[:][:en]Intermediate Breakfasts[:],P'tits Déj'
ATTACH;FMTTYPE=image/png:https://uncafefrancais.com/wp-content/uploads/2020/01/UCF-Jumelle-Pti-Déj_int.png
END:VEVENT
BEGIN:VEVENT
DTSTART;TZID=Europe/Paris:20240124T183000
DTEND;TZID=Europe/Paris:20240124T203000
DTSTAMP:20260421T182332
CREATED:20231231T205111Z
LAST-MODIFIED:20240124T130108Z
UID:11821-1706121000-1706128200@uncafefrancais.com
SUMMARY:L’Apéro Intermédiaires
DESCRIPTION:One of the best proven ways to progress the learning of a new language is to try communicating and conversing with others. In this “apéro” we offer you the opportunity to meet up in a group of people to discuss in french all along while enjoying a French cultural habit. \nConsumption not included
URL:https://uncafefrancais.com/en/agenda/apero-intermediaires-240124/
LOCATION:Le Génie\, 4\, Bld de Beaumarchais\, PARIS\, 75011
CATEGORIES:[:fr]Apéros Intermédiaires[:][:en]Intermediate Apéros[:],[:fr]Groupes de conversations Intermédiaires[:][:en]Intermediate Conversations Groups[:],[:fr]Groupes de conversations[:][:en]Conversation Groups[:],Apéros
ATTACH;FMTTYPE=image/png:https://uncafefrancais.com/wp-content/uploads/2020/01/UCF-Jumelle-Apero_int.png
END:VEVENT
BEGIN:VEVENT
DTSTART;TZID=Europe/Paris:20240131T183000
DTEND;TZID=Europe/Paris:20240131T203000
DTSTAMP:20260421T182332
CREATED:20231231T205439Z
LAST-MODIFIED:20231231T220609Z
UID:11826-1706725800-1706733000@uncafefrancais.com
SUMMARY:L’Apéro Intermédiaires
DESCRIPTION:One of the best proven ways to progress the learning of a new language is to try communicating and conversing with others. In this “apéro” we offer you the opportunity to meet up in a group of people to discuss in french all along while enjoying a French cultural habit. \nConsumption not included
URL:https://uncafefrancais.com/en/agenda/apero-intermediaires-240131/
LOCATION:Le Génie\, 4\, Bld de Beaumarchais\, PARIS\, 75011
CATEGORIES:[:fr]Apéros Intermédiaires[:][:en]Intermediate Apéros[:],[:fr]Groupes de conversations Intermédiaires[:][:en]Intermediate Conversations Groups[:],[:fr]Groupes de conversations[:][:en]Conversation Groups[:],Apéros
ATTACH;FMTTYPE=image/png:https://uncafefrancais.com/wp-content/uploads/2020/01/UCF-Jumelle-Apero_int.png
END:VEVENT
END:VCALENDAR