BEGIN:VCALENDAR
VERSION:2.0
PRODID:-//Un Café Français - ECPv6.15.13.1//NONSGML v1.0//EN
CALSCALE:GREGORIAN
METHOD:PUBLISH
X-ORIGINAL-URL:https://uncafefrancais.com/en
X-WR-CALDESC:Events for Un Café Français
REFRESH-INTERVAL;VALUE=DURATION:PT1H
X-Robots-Tag:noindex
X-PUBLISHED-TTL:PT1H
BEGIN:VTIMEZONE
TZID:Europe/Paris
BEGIN:DAYLIGHT
TZOFFSETFROM:+0100
TZOFFSETTO:+0200
TZNAME:CEST
DTSTART:20230326T010000
END:DAYLIGHT
BEGIN:STANDARD
TZOFFSETFROM:+0200
TZOFFSETTO:+0100
TZNAME:CET
DTSTART:20231029T010000
END:STANDARD
BEGIN:DAYLIGHT
TZOFFSETFROM:+0100
TZOFFSETTO:+0200
TZNAME:CEST
DTSTART:20240331T010000
END:DAYLIGHT
BEGIN:STANDARD
TZOFFSETFROM:+0200
TZOFFSETTO:+0100
TZNAME:CET
DTSTART:20241027T010000
END:STANDARD
BEGIN:DAYLIGHT
TZOFFSETFROM:+0100
TZOFFSETTO:+0200
TZNAME:CEST
DTSTART:20250330T010000
END:DAYLIGHT
BEGIN:STANDARD
TZOFFSETFROM:+0200
TZOFFSETTO:+0100
TZNAME:CET
DTSTART:20251026T010000
END:STANDARD
END:VTIMEZONE
BEGIN:VTIMEZONE
TZID:Europe/Paris
BEGIN:DAYLIGHT
TZOFFSETFROM:+0100
TZOFFSETTO:+0200
TZNAME:CEST
DTSTART:20230326T010000
END:DAYLIGHT
BEGIN:STANDARD
TZOFFSETFROM:+0200
TZOFFSETTO:+0100
TZNAME:CET
DTSTART:20231029T010000
END:STANDARD
BEGIN:DAYLIGHT
TZOFFSETFROM:+0100
TZOFFSETTO:+0200
TZNAME:CEST
DTSTART:20240331T010000
END:DAYLIGHT
BEGIN:STANDARD
TZOFFSETFROM:+0200
TZOFFSETTO:+0100
TZNAME:CET
DTSTART:20241027T010000
END:STANDARD
BEGIN:DAYLIGHT
TZOFFSETFROM:+0100
TZOFFSETTO:+0200
TZNAME:CEST
DTSTART:20250330T010000
END:DAYLIGHT
BEGIN:STANDARD
TZOFFSETFROM:+0200
TZOFFSETTO:+0100
TZNAME:CET
DTSTART:20251026T010000
END:STANDARD
END:VTIMEZONE
BEGIN:VEVENT
DTSTART;TZID=Europe/Paris:20240305T100000
DTEND;TZID=Europe/Paris:20240305T113000
DTSTAMP:20260421T140209
CREATED:20240226T103618Z
LAST-MODIFIED:20240226T195354Z
UID:12080-1709632800-1709638200@uncafefrancais.com
SUMMARY:Le P’tit Déj’ Intermédiaires
DESCRIPTION:What if started the day with a pleasant conversation in a charming café? Nothing better for getting up to speed. And to finish our time together\, a new topic or some revision…It’s going to be a nice day! \n  \n  \nConsumption not included
URL:https://uncafefrancais.com/en/agenda/ptitdej-intermediaires-240305/
CATEGORIES:[:fr]Groupes de conversations Intermédiaires[:][:en]Intermediate Conversations Groups[:],[:fr]Groupes de conversations[:][:en]Conversation Groups[:],[:fr]P'tits Déj' Intermédiaires[:][:en]Intermediate Breakfasts[:],P'tits Déj'
ATTACH;FMTTYPE=image/png:https://uncafefrancais.com/wp-content/uploads/2020/01/UCF-Jumelle-Pti-Déj_int.png
END:VEVENT
BEGIN:VEVENT
DTSTART;TZID=Europe/Paris:20240306T183000
DTEND;TZID=Europe/Paris:20240306T203000
DTSTAMP:20260421T140209
CREATED:20240225T210741Z
LAST-MODIFIED:20240225T235048Z
UID:11988-1709749800-1709757000@uncafefrancais.com
SUMMARY:L’Apéro Intermédiaires
DESCRIPTION:One of the best proven ways to progress the learning of a new language is to try communicating and conversing with others. In this “apéro” we offer you the opportunity to meet up in a group of people to discuss in french all along while enjoying a French cultural habit. \nConsumption not included
URL:https://uncafefrancais.com/en/agenda/apero-intermediaires-240306/
LOCATION:Le Génie\, 4\, Bld de Beaumarchais\, PARIS\, 75011
CATEGORIES:[:fr]Apéros Intermédiaires[:][:en]Intermediate Apéros[:],[:fr]Groupes de conversations Intermédiaires[:][:en]Intermediate Conversations Groups[:],[:fr]Groupes de conversations[:][:en]Conversation Groups[:],Apéros
ATTACH;FMTTYPE=image/png:https://uncafefrancais.com/wp-content/uploads/2020/01/UCF-Jumelle-Apero_int.png
END:VEVENT
BEGIN:VEVENT
DTSTART;TZID=Europe/Paris:20240313T183000
DTEND;TZID=Europe/Paris:20240313T203000
DTSTAMP:20260421T140209
CREATED:20240225T211438Z
LAST-MODIFIED:20240225T235010Z
UID:11990-1710354600-1710361800@uncafefrancais.com
SUMMARY:L’Apéro Intermédiaires
DESCRIPTION:One of the best proven ways to progress the learning of a new language is to try communicating and conversing with others. In this “apéro” we offer you the opportunity to meet up in a group of people to discuss in french all along while enjoying a French cultural habit. \nConsumption not included
URL:https://uncafefrancais.com/en/agenda/apero-intermediaires-240313/
LOCATION:Le Génie\, 4\, Bld de Beaumarchais\, PARIS\, 75011
CATEGORIES:[:fr]Apéros Intermédiaires[:][:en]Intermediate Apéros[:],[:fr]Groupes de conversations Intermédiaires[:][:en]Intermediate Conversations Groups[:],[:fr]Groupes de conversations[:][:en]Conversation Groups[:],Apéros
ATTACH;FMTTYPE=image/png:https://uncafefrancais.com/wp-content/uploads/2020/01/UCF-Jumelle-Apero_int.png
END:VEVENT
BEGIN:VEVENT
DTSTART;TZID=Europe/Paris:20240314T140000
DTEND;TZID=Europe/Paris:20240314T153000
DTSTAMP:20260421T140209
CREATED:20240101T040042Z
LAST-MODIFIED:20240226T184513Z
UID:11903-1710424800-1710430200@uncafefrancais.com
SUMMARY:La Pause-Café Intermédiaires
DESCRIPTION:Afternoons are a great time to have a conversation…Take in a new neighbourhood\, settle into a café with original or historic decor and speak French for a good hour. At the end\, we’ll discover or revisit one particular aspect of French that you find difficult\, by most of all putting it to good use! \nConsumption not included
URL:https://uncafefrancais.com/en/agenda/pausecafe-intermediaires-240314/
CATEGORIES:[:fr]Groupes de conversations Intermédiaires[:][:en]Intermediate Conversations Groups[:],[:fr]Groupes de conversations[:][:en]Conversation Groups[:],[:fr]Pauses-Café Intermédiaires[:][:en]Intermediate Pauses-Café[:],
ATTACH;FMTTYPE=image/png:https://uncafefrancais.com/wp-content/uploads/2020/01/UCF-Jumelle-Pause-cafe_int.png
END:VEVENT
BEGIN:VEVENT
DTSTART;TZID=Europe/Paris:20240319T100000
DTEND;TZID=Europe/Paris:20240319T113000
DTSTAMP:20260421T140209
CREATED:20240226T103949Z
LAST-MODIFIED:20240226T195240Z
UID:12082-1710842400-1710847800@uncafefrancais.com
SUMMARY:Le P’tit Déj’ Intermédiaires
DESCRIPTION:What if started the day with a pleasant conversation in a charming café? Nothing better for getting up to speed. And to finish our time together\, a new topic or some revision…It’s going to be a nice day! \n  \n  \nConsumption not included
URL:https://uncafefrancais.com/en/agenda/ptitdej-intermediaires-240319/
CATEGORIES:[:fr]Groupes de conversations Intermédiaires[:][:en]Intermediate Conversations Groups[:],[:fr]Groupes de conversations[:][:en]Conversation Groups[:],[:fr]P'tits Déj' Intermédiaires[:][:en]Intermediate Breakfasts[:],P'tits Déj'
ATTACH;FMTTYPE=image/png:https://uncafefrancais.com/wp-content/uploads/2020/01/UCF-Jumelle-Pti-Déj_int.png
END:VEVENT
BEGIN:VEVENT
DTSTART;TZID=Europe/Paris:20240320T183000
DTEND;TZID=Europe/Paris:20240320T203000
DTSTAMP:20260421T140209
CREATED:20240225T212530Z
LAST-MODIFIED:20240225T235018Z
UID:11996-1710959400-1710966600@uncafefrancais.com
SUMMARY:L’Apéro Intermédiaires
DESCRIPTION:One of the best proven ways to progress the learning of a new language is to try communicating and conversing with others. In this “apéro” we offer you the opportunity to meet up in a group of people to discuss in french all along while enjoying a French cultural habit. \nConsumption not included
URL:https://uncafefrancais.com/en/agenda/apero-intermediaires-240320/
LOCATION:Le Génie\, 4\, Bld de Beaumarchais\, PARIS\, 75011
CATEGORIES:[:fr]Apéros Intermédiaires[:][:en]Intermediate Apéros[:],[:fr]Groupes de conversations Intermédiaires[:][:en]Intermediate Conversations Groups[:],[:fr]Groupes de conversations[:][:en]Conversation Groups[:],Apéros
ATTACH;FMTTYPE=image/png:https://uncafefrancais.com/wp-content/uploads/2020/01/UCF-Jumelle-Apero_int.png
END:VEVENT
BEGIN:VEVENT
DTSTART;TZID=Europe/Paris:20240327T183000
DTEND;TZID=Europe/Paris:20240327T203000
DTSTAMP:20260421T140209
CREATED:20240225T213022Z
LAST-MODIFIED:20240225T235209Z
UID:11998-1711564200-1711571400@uncafefrancais.com
SUMMARY:L’Apéro Intermédiaires
DESCRIPTION:One of the best proven ways to progress the learning of a new language is to try communicating and conversing with others. In this “apéro” we offer you the opportunity to meet up in a group of people to discuss in french all along while enjoying a French cultural habit. \nConsumption not included
URL:https://uncafefrancais.com/en/agenda/apero-intermediaires-240327/
LOCATION:Le Génie\, 4\, Bld de Beaumarchais\, PARIS\, 75011
CATEGORIES:[:fr]Apéros Intermédiaires[:][:en]Intermediate Apéros[:],[:fr]Groupes de conversations Intermédiaires[:][:en]Intermediate Conversations Groups[:],[:fr]Groupes de conversations[:][:en]Conversation Groups[:],Apéros
ATTACH;FMTTYPE=image/png:https://uncafefrancais.com/wp-content/uploads/2020/01/UCF-Jumelle-Apero_int.png
END:VEVENT
BEGIN:VEVENT
DTSTART;TZID=Europe/Paris:20240328T140000
DTEND;TZID=Europe/Paris:20240328T153000
DTSTAMP:20260421T140209
CREATED:20240226T183511Z
LAST-MODIFIED:20240226T184503Z
UID:12097-1711634400-1711639800@uncafefrancais.com
SUMMARY:La Pause-Café Intermédiaires
DESCRIPTION:Afternoons are a great time to have a conversation…Take in a new neighbourhood\, settle into a café with original or historic decor and speak French for a good hour. At the end\, we’ll discover or revisit one particular aspect of French that you find difficult\, by most of all putting it to good use! \nConsumption not included
URL:https://uncafefrancais.com/en/agenda/pausecafe-intermediaires-240328/
CATEGORIES:[:fr]Groupes de conversations Intermédiaires[:][:en]Intermediate Conversations Groups[:],[:fr]Groupes de conversations[:][:en]Conversation Groups[:],[:fr]Pauses-Café Intermédiaires[:][:en]Intermediate Pauses-Café[:],
ATTACH;FMTTYPE=image/png:https://uncafefrancais.com/wp-content/uploads/2020/01/UCF-Jumelle-Pause-cafe_int.png
END:VEVENT
END:VCALENDAR