BEGIN:VCALENDAR
VERSION:2.0
PRODID:-//Un Café Français - ECPv6.15.13.1//NONSGML v1.0//EN
CALSCALE:GREGORIAN
METHOD:PUBLISH
X-WR-CALNAME:Un Café Français
X-ORIGINAL-URL:https://uncafefrancais.com
X-WR-CALDESC:Évènements pour Un Café Français
REFRESH-INTERVAL;VALUE=DURATION:PT1H
X-Robots-Tag:noindex
X-PUBLISHED-TTL:PT1H
BEGIN:VTIMEZONE
TZID:Europe/Paris
BEGIN:DAYLIGHT
TZOFFSETFROM:+0100
TZOFFSETTO:+0200
TZNAME:CEST
DTSTART:20230326T010000
END:DAYLIGHT
BEGIN:STANDARD
TZOFFSETFROM:+0200
TZOFFSETTO:+0100
TZNAME:CET
DTSTART:20231029T010000
END:STANDARD
BEGIN:DAYLIGHT
TZOFFSETFROM:+0100
TZOFFSETTO:+0200
TZNAME:CEST
DTSTART:20240331T010000
END:DAYLIGHT
BEGIN:STANDARD
TZOFFSETFROM:+0200
TZOFFSETTO:+0100
TZNAME:CET
DTSTART:20241027T010000
END:STANDARD
BEGIN:DAYLIGHT
TZOFFSETFROM:+0100
TZOFFSETTO:+0200
TZNAME:CEST
DTSTART:20250330T010000
END:DAYLIGHT
BEGIN:STANDARD
TZOFFSETFROM:+0200
TZOFFSETTO:+0100
TZNAME:CET
DTSTART:20251026T010000
END:STANDARD
END:VTIMEZONE
BEGIN:VTIMEZONE
TZID:Europe/Paris
BEGIN:DAYLIGHT
TZOFFSETFROM:+0100
TZOFFSETTO:+0200
TZNAME:CEST
DTSTART:20230326T010000
END:DAYLIGHT
BEGIN:STANDARD
TZOFFSETFROM:+0200
TZOFFSETTO:+0100
TZNAME:CET
DTSTART:20231029T010000
END:STANDARD
BEGIN:DAYLIGHT
TZOFFSETFROM:+0100
TZOFFSETTO:+0200
TZNAME:CEST
DTSTART:20240331T010000
END:DAYLIGHT
BEGIN:STANDARD
TZOFFSETFROM:+0200
TZOFFSETTO:+0100
TZNAME:CET
DTSTART:20241027T010000
END:STANDARD
BEGIN:DAYLIGHT
TZOFFSETFROM:+0100
TZOFFSETTO:+0200
TZNAME:CEST
DTSTART:20250330T010000
END:DAYLIGHT
BEGIN:STANDARD
TZOFFSETFROM:+0200
TZOFFSETTO:+0100
TZNAME:CET
DTSTART:20251026T010000
END:STANDARD
END:VTIMEZONE
BEGIN:VEVENT
DTSTART;TZID=Europe/Paris:20240903T100000
DTEND;TZID=Europe/Paris:20240903T113000
DTSTAMP:20260421T041227
CREATED:20240911T175626Z
LAST-MODIFIED:20240911T175626Z
UID:12834-1725357600-1725363000@uncafefrancais.com
SUMMARY:[:en]Le P’ti Déj’ Intermediates[:fr]Le P’ti Déj’ Intermédiaires[:]
DESCRIPTION:Perfectionnez votre français dans une ambiance détendue ! \nVous maîtrisez les bases du français\, mais vous souhaitez aller plus loin ? Venez vous exercer dans un cadre agréable ! \nRejoignez-nous pour P’ti Déj\, notre événement récurrent tous les 15 jours\, le mardi matin. Pendant 1h30\, vous participerez à des discussions en français avec des exercices adaptés aux niveaux intermédiaires. Nous accueillons résidents\, expatriés et visiteurs. Nous nous retrouverons dans un lieu charmant à Paris ou en proche banlieue\, en petit groupe de 6 participants maximum. \nLe lieu exact sera communiqué après l’inscription\, alors soyez prêts à explorer un peu. C’est une excellente occasion de perfectionner vos compétences en français dans un bistro parisien authentique\, comme les locaux ! \n🚨Tarif : 15 € s’il y a un deuxième participant\, sinon 20€ à compléter sur place.⚠ \nConsommation non comprise. Pensez à prendre des espèces\, les cartes bancaires sont souvent à partir de 10€
URL:https://uncafefrancais.com/agenda/ptidej-intermediaires-240903/
CATEGORIES:[:fr]Groupes de conversations Intermédiaires[:][:en]Intermediate Conversations Groups[:],[:fr]Groupes de conversations[:][:en]Conversation Groups[:],[:fr]P'tits Déj' Intermédiaires[:][:en]Intermediate Breakfasts[:],P'tits Déj'
ATTACH;FMTTYPE=image/png:https://uncafefrancais.com/wp-content/uploads/2020/01/UCF-Jumelle-Pti-Déj_int.png
END:VEVENT
BEGIN:VEVENT
DTSTART;TZID=Europe/Paris:20240911T183000
DTEND;TZID=Europe/Paris:20240911T203000
DTSTAMP:20260421T041227
CREATED:20240908T153609Z
LAST-MODIFIED:20240908T154706Z
UID:12726-1726079400-1726086600@uncafefrancais.com
SUMMARY:L’Apéro Intermédiaires
DESCRIPTION:Un apéro\, un petit groupe\, une discussion en français: voici notre recette secrète pour progresser sans crainte en français et finir gaiement la journée. \n🚨Tarif : 15 € s’il y a un deuxième participant\, sinon 20€ à compléter sur place.⚠ \nConsommation non comprise. Pensez à prendre des espèces\, les cartes bancaires sont souvent à partir de 10€
URL:https://uncafefrancais.com/agenda/apero-intermediaires-240911/
LOCATION:Le Génie\, 4\, Bld de Beaumarchais\, PARIS\, 75011
CATEGORIES:[:fr]Apéros Intermédiaires[:][:en]Intermediate Apéros[:],[:fr]Groupes de conversations Intermédiaires[:][:en]Intermediate Conversations Groups[:],[:fr]Groupes de conversations[:][:en]Conversation Groups[:],Apéros
ATTACH;FMTTYPE=image/png:https://uncafefrancais.com/wp-content/uploads/2020/01/UCF-Jumelle-Apero_int.png
END:VEVENT
BEGIN:VEVENT
DTSTART;TZID=Europe/Paris:20240912T140000
DTEND;TZID=Europe/Paris:20240912T153000
DTSTAMP:20260421T041227
CREATED:20240914T100544Z
LAST-MODIFIED:20240914T101051Z
UID:12992-1726149600-1726155000@uncafefrancais.com
SUMMARY:La Pause-Café Intermédiaires
DESCRIPTION:Une après-midi pour améliorez votre français ! \nVous avez déjà des bases solides en français et vous voulez progresser davantage ? Rejoignez-nous pour une pause café enrichissante ! \nParticipez à Pause-Café\, un événement qui se tient tous les 15 jours\, le jeudi après-midi. Pendant 1h30\, vous discuterez en français avec des exercices adaptés au niveau intermédiaire. Nous accueillons tant les résidents que les visiteurs de passage. Nous nous retrouverons dans un café accueillant à Paris ou en proche banlieue\, en petit groupe de 6 personnes maximum. \nLe lieu exact sera révélé après la première inscription\, alors préparez-vous à une petite aventure. C’est l’occasion idéale pour améliorer votre français dans un authentique café parisien\, comme les locaux ! \n🚨Tarif : 15 € s’il y a un deuxième participant\, sinon 20€ à compléter sur place.⚠ \nConsommation non comprise. Pensez à prendre des espèces\, les cartes bancaires sont souvent à partir de 10€Une après-midi pour améliorez votre français ! \nVous avez déjà des bases solides en français et vous voulez progresser davantage ? Rejoignez-nous pour une pause café enrichissante ! \nParticipez à Pause-Café\, un événement qui se tient tous les 15 jours\, le jeudi après-midi. Pendant 1h30\, vous discuterez en français avec des exercices adaptés au niveau intermédiaire. Nous accueillons tant les résidents que les visiteurs de passage. Nous nous retrouverons dans un café accueillant à Paris ou en proche banlieue\, en petit groupe de 6 personnes maximum. \nLe lieu exact sera révélé après la première inscription\, alors préparez-vous à une petite aventure. C’est l’occasion idéale pour améliorer votre français dans un authentique café parisien\, comme les locaux ! \n🚨Tarif : 15 € s’il y a un deuxième participant\, sinon 20€ à compléter sur place.⚠ \nConsommation non comprise. Pensez à prendre des espèces\, les cartes bancaires sont souvent à partir de 10€
URL:https://uncafefrancais.com/agenda/pausecafe-intermediaires-240912/
CATEGORIES:[:fr]Groupes de conversations Intermédiaires[:][:en]Intermediate Conversations Groups[:],[:fr]Groupes de conversations[:][:en]Conversation Groups[:],[:fr]Pauses-Café Intermédiaires[:][:en]Intermediate Pauses-Café[:],Pauses-Café
ATTACH;FMTTYPE=image/png:https://uncafefrancais.com/wp-content/uploads/2020/01/UCF-Jumelle-Pause-cafe_int.png
END:VEVENT
BEGIN:VEVENT
DTSTART;TZID=Europe/Paris:20240917T100000
DTEND;TZID=Europe/Paris:20240917T113000
DTSTAMP:20260421T041227
CREATED:20240911T164504Z
LAST-MODIFIED:20240911T173100Z
UID:12826-1726567200-1726572600@uncafefrancais.com
SUMMARY:Le P’ti Déj’ Intermédiaires
DESCRIPTION:Perfectionnez votre français dans une ambiance détendue ! \nVous maîtrisez les bases du français\, mais vous souhaitez aller plus loin ? Venez vous exercer dans un cadre agréable ! \nRejoignez-nous pour P’ti Déj\, notre événement récurrent tous les 15 jours\, le mardi matin. Pendant 1h30\, vous participerez à des discussions en français avec des exercices adaptés aux niveaux intermédiaires. Nous accueillons résidents\, expatriés et visiteurs. Nous nous retrouverons dans un lieu charmant à Paris ou en proche banlieue\, en petit groupe de 6 participants maximum. \nLe lieu exact sera communiqué après l’inscription\, alors soyez prêts à explorer un peu. C’est une excellente occasion de perfectionner vos compétences en français dans un bistro parisien authentique\, comme les locaux ! \n🚨Tarif : 15 € s’il y a un deuxième participant\, sinon 20€ à compléter sur place.⚠ \nConsommation non comprise. Pensez à prendre des espèces\, les cartes bancaires sont souvent à partir de 10€
URL:https://uncafefrancais.com/agenda/ptidej-intermediaires-240917/
CATEGORIES:[:fr]Groupes de conversations Intermédiaires[:][:en]Intermediate Conversations Groups[:],[:fr]Groupes de conversations[:][:en]Conversation Groups[:],[:fr]P'tits Déj' Intermédiaires[:][:en]Intermediate Breakfasts[:],P'tits Déj'
ATTACH;FMTTYPE=image/png:https://uncafefrancais.com/wp-content/uploads/2020/01/UCF-Jumelle-Pti-Déj_int.png
END:VEVENT
BEGIN:VEVENT
DTSTART;TZID=Europe/Paris:20240918T183000
DTEND;TZID=Europe/Paris:20240918T203000
DTSTAMP:20260421T041227
CREATED:20240908T155958Z
LAST-MODIFIED:20240908T155958Z
UID:12739-1726684200-1726691400@uncafefrancais.com
SUMMARY:L’Apéro Intermédiaires
DESCRIPTION:Un apéro\, un petit groupe\, une discussion en français: voici notre recette secrète pour progresser sans crainte en français et finir gaiement la journée. \n🚨Tarif : 15 € s’il y a un deuxième participant\, sinon 20€ à compléter sur place.⚠ \nConsommation non comprise. Pensez à prendre des espèces\, les cartes bancaires sont souvent à partir de 10€
URL:https://uncafefrancais.com/agenda/apero-intermediaires-240918/
LOCATION:Le Génie\, 4\, Bld de Beaumarchais\, PARIS\, 75011
CATEGORIES:[:fr]Apéros Intermédiaires[:][:en]Intermediate Apéros[:],[:fr]Groupes de conversations Intermédiaires[:][:en]Intermediate Conversations Groups[:],[:fr]Groupes de conversations[:][:en]Conversation Groups[:],Apéros
ATTACH;FMTTYPE=image/png:https://uncafefrancais.com/wp-content/uploads/2020/01/UCF-Jumelle-Apero_int.png
END:VEVENT
BEGIN:VEVENT
DTSTART;TZID=Europe/Paris:20240925T183000
DTEND;TZID=Europe/Paris:20240925T203000
DTSTAMP:20260421T041227
CREATED:20240908T160058Z
LAST-MODIFIED:20240909T115043Z
UID:12740-1727289000-1727296200@uncafefrancais.com
SUMMARY:L’Apéro Intermédiaires
DESCRIPTION:Un apéro\, un petit groupe\, une discussion en français: voici notre recette secrète pour progresser sans crainte en français et finir gaiement la journée. \n🚨Tarif : 15 € s’il y a un deuxième participant\, sinon 20€ à compléter sur place.⚠ \nConsommation non comprise. Pensez à prendre des espèces\, les cartes bancaires sont souvent à partir de 10€
URL:https://uncafefrancais.com/agenda/apero-intermediaires-240925/
LOCATION:Le Génie\, 4\, Bld de Beaumarchais\, PARIS\, 75011
CATEGORIES:[:fr]Apéros Intermédiaires[:][:en]Intermediate Apéros[:],[:fr]Groupes de conversations Intermédiaires[:][:en]Intermediate Conversations Groups[:],[:fr]Groupes de conversations[:][:en]Conversation Groups[:],Apéros
ATTACH;FMTTYPE=image/png:https://uncafefrancais.com/wp-content/uploads/2020/01/UCF-Jumelle-Apero_int.png
END:VEVENT
BEGIN:VEVENT
DTSTART;TZID=Europe/Paris:20240926T140000
DTEND;TZID=Europe/Paris:20240926T153000
DTSTAMP:20260421T041227
CREATED:20240915T155938Z
LAST-MODIFIED:20240915T161553Z
UID:13010-1727359200-1727364600@uncafefrancais.com
SUMMARY:La Pause-Café Intermédiaires
DESCRIPTION:Une après-midi pour améliorez votre français ! \nVous avez déjà des bases solides en français et vous voulez progresser davantage ? Rejoignez-nous pour une pause café enrichissante ! \nParticipez à Pause-Café\, un événement qui se tient tous les 15 jours\, le jeudi après-midi. Pendant 1h30\, vous discuterez en français avec des exercices adaptés au niveau intermédiaire. Nous accueillons tant les résidents que les visiteurs de passage. Nous nous retrouverons dans un café accueillant à Paris ou en proche banlieue\, en petit groupe de 6 personnes maximum. \nLe lieu exact sera révélé après la première inscription\, alors préparez-vous à une petite aventure. C’est l’occasion idéale pour améliorer votre français dans un authentique café parisien\, comme les locaux ! \n🚨Tarif : 15 € s’il y a un deuxième participant\, sinon 20€ à compléter sur place.⚠ \nConsommation non comprise. Pensez à prendre des espèces\, les cartes bancaires sont souvent à partir de 10€Une après-midi pour améliorez votre français ! \nVous avez déjà des bases solides en français et vous voulez progresser davantage ? Rejoignez-nous pour une pause café enrichissante ! \nParticipez à Pause-Café\, un événement qui se tient tous les 15 jours\, le jeudi après-midi. Pendant 1h30\, vous discuterez en français avec des exercices adaptés au niveau intermédiaire. Nous accueillons tant les résidents que les visiteurs de passage. Nous nous retrouverons dans un café accueillant à Paris ou en proche banlieue\, en petit groupe de 6 personnes maximum. \nLe lieu exact sera révélé après la première inscription\, alors préparez-vous à une petite aventure. C’est l’occasion idéale pour améliorer votre français dans un authentique café parisien\, comme les locaux ! \n🚨Tarif : 15 € s’il y a un deuxième participant\, sinon 20€ à compléter sur place.⚠ \nConsommation non comprise. Pensez à prendre des espèces\, les cartes bancaires sont souvent à partir de 10€Une après-midi pour améliorez votre français ! \nVous avez déjà des bases solides en français et vous voulez progresser davantage ? Rejoignez-nous pour une pause café enrichissante ! \nParticipez à Pause-Café\, un événement qui se tient tous les 15 jours\, le jeudi après-midi. Pendant 1h30\, vous discuterez en français avec des exercices adaptés au niveau intermédiaire. Nous accueillons tant les résidents que les visiteurs de passage. Nous nous retrouverons dans un café accueillant à Paris ou en proche banlieue\, en petit groupe de 6 personnes maximum. \nLe lieu exact sera révélé après la première inscription\, alors préparez-vous à une petite aventure. C’est l’occasion idéale pour améliorer votre français dans un authentique café parisien\, comme les locaux ! \n🚨Tarif : 15 € s’il y a un deuxième participant\, sinon 20€ à compléter sur place.⚠ \nConsommation non comprise. Pensez à prendre des espèces\, les cartes bancaires sont souvent à partir de 10€Une après-midi pour améliorez votre français ! \nVous avez déjà des bases solides en français et vous voulez progresser davantage ? Rejoignez-nous pour une pause café enrichissante ! \nParticipez à Pause-Café\, un événement qui se tient tous les 15 jours\, le jeudi après-midi. Pendant 1h30\, vous discuterez en français avec des exercices adaptés au niveau intermédiaire. Nous accueillons tant les résidents que les visiteurs de passage. Nous nous retrouverons dans un café accueillant à Paris ou en proche banlieue\, en petit groupe de 6 personnes maximum. \nLe lieu exact sera révélé après la première inscription\, alors préparez-vous à une petite aventure. C’est l’occasion idéale pour améliorer votre français dans un authentique café parisien\, comme les locaux ! \n🚨Tarif : 15 € s’il y a un deuxième participant\, sinon 20€ à compléter sur place.⚠ \nConsommation non comprise. Pensez à prendre des espèces\, les cartes bancaires sont souvent à partir de 10€
URL:https://uncafefrancais.com/agenda/pausecafe-intermediaires-240926/
CATEGORIES:[:fr]Groupes de conversations Intermédiaires[:][:en]Intermediate Conversations Groups[:],[:fr]Groupes de conversations[:][:en]Conversation Groups[:],[:fr]Pauses-Café Intermédiaires[:][:en]Intermediate Pauses-Café[:],Pauses-Café
ATTACH;FMTTYPE=image/png:https://uncafefrancais.com/wp-content/uploads/2020/01/UCF-Jumelle-Pause-cafe_int.png
END:VEVENT
END:VCALENDAR