BEGIN:VCALENDAR
VERSION:2.0
PRODID:-//Un Café Français - ECPv6.15.13.1//NONSGML v1.0//EN
CALSCALE:GREGORIAN
METHOD:PUBLISH
X-WR-CALNAME:Un Café Français
X-ORIGINAL-URL:https://uncafefrancais.com
X-WR-CALDESC:Évènements pour Un Café Français
REFRESH-INTERVAL;VALUE=DURATION:PT1H
X-Robots-Tag:noindex
X-PUBLISHED-TTL:PT1H
BEGIN:VTIMEZONE
TZID:Europe/Paris
BEGIN:DAYLIGHT
TZOFFSETFROM:+0100
TZOFFSETTO:+0200
TZNAME:CEST
DTSTART:20230326T010000
END:DAYLIGHT
BEGIN:STANDARD
TZOFFSETFROM:+0200
TZOFFSETTO:+0100
TZNAME:CET
DTSTART:20231029T010000
END:STANDARD
BEGIN:DAYLIGHT
TZOFFSETFROM:+0100
TZOFFSETTO:+0200
TZNAME:CEST
DTSTART:20240331T010000
END:DAYLIGHT
BEGIN:STANDARD
TZOFFSETFROM:+0200
TZOFFSETTO:+0100
TZNAME:CET
DTSTART:20241027T010000
END:STANDARD
BEGIN:DAYLIGHT
TZOFFSETFROM:+0100
TZOFFSETTO:+0200
TZNAME:CEST
DTSTART:20250330T010000
END:DAYLIGHT
BEGIN:STANDARD
TZOFFSETFROM:+0200
TZOFFSETTO:+0100
TZNAME:CET
DTSTART:20251026T010000
END:STANDARD
END:VTIMEZONE
BEGIN:VEVENT
DTSTART;TZID=Europe/Paris:20240402T100000
DTEND;TZID=Europe/Paris:20240402T113000
DTSTAMP:20260421T042709
CREATED:20240226T194416Z
LAST-MODIFIED:20240324T063816Z
UID:12084-1712052000-1712057400@uncafefrancais.com
SUMMARY:Le P’tit Déj’ Intermédiaires
DESCRIPTION:Si nous commencions la journée par une agréable conversation dans un charmant café ? Rien de tel pour nous mettre en forme. Et pour bien terminer notre rencontre\, une petite découverte linguistique ou simplement une révision… Quelle belle journée qui s’annonce\, non ? \n  \n  \nConsommation non comprise
URL:https://uncafefrancais.com/agenda/ptitdej-intermediaires-240402/
CATEGORIES:[:fr]Groupes de conversations Intermédiaires[:][:en]Intermediate Conversations Groups[:],[:fr]Groupes de conversations[:][:en]Conversation Groups[:],[:fr]P'tits Déj' Intermédiaires[:][:en]Intermediate Breakfasts[:],P'tits Déj'
ATTACH;FMTTYPE=image/png:https://uncafefrancais.com/wp-content/uploads/2020/01/UCF-Jumelle-Pti-Déj_int.png
END:VEVENT
BEGIN:VEVENT
DTSTART;TZID=Europe/Paris:20240409T100000
DTEND;TZID=Europe/Paris:20240409T113000
DTSTAMP:20260421T042709
CREATED:20240226T164446Z
LAST-MODIFIED:20240226T193734Z
UID:12089-1712656800-1712662200@uncafefrancais.com
SUMMARY:Le P’tit Déj’ Débutants
DESCRIPTION:Que prendrez-vous au petit déjeuner ? Un confortable café\, une boisson chaude accompagnée d’une conviviale conversation en français\, et pour finir une dose de bonne humeur ?! Une belle façon de commencer la journée. \n  \nConsommation non comprise
URL:https://uncafefrancais.com/agenda/ptitdej-debutants-240409/
CATEGORIES:[:fr]Groupes de conversations Débutants[:][:en]Beginner Conversation Groups[:],[:fr]Groupes de conversations[:][:en]Conversation Groups[:],[:fr]P'tits Déj' Débutants[:][:en]Beginner Breakfasts[:],P'tits Déj'
ATTACH;FMTTYPE=image/png:https://uncafefrancais.com/wp-content/uploads/2020/01/UCF-Jumelle-Pti-Déj_deb.png
END:VEVENT
BEGIN:VEVENT
DTSTART;TZID=Europe/Paris:20240416T100000
DTEND;TZID=Europe/Paris:20240416T113000
DTSTAMP:20260421T042709
CREATED:20240323T223311Z
LAST-MODIFIED:20240324T063749Z
UID:12250-1713261600-1713267000@uncafefrancais.com
SUMMARY:Le P’tit Déj’ Intermédiaires
DESCRIPTION:Si nous commencions la journée par une agréable conversation dans un charmant café ? Rien de tel pour nous mettre en forme. Et pour bien terminer notre rencontre\, une petite découverte linguistique ou simplement une révision… Quelle belle journée qui s’annonce\, non ? \n  \n  \nConsommation non compriseSi nous commencions la journée par une agréable conversation dans un charmant café ? Rien de tel pour nous mettre en forme. Et pour bien terminer notre rencontre\, une petite découverte linguistique ou simplement une révision… Quelle belle journée qui s’annonce\, non ? \n  \n  \nConsommation non comprise
URL:https://uncafefrancais.com/agenda/ptitdej-intermediaires-240416/
CATEGORIES:[:fr]Groupes de conversations Intermédiaires[:][:en]Intermediate Conversations Groups[:],[:fr]Groupes de conversations[:][:en]Conversation Groups[:],[:fr]P'tits Déj' Intermédiaires[:][:en]Intermediate Breakfasts[:],P'tits Déj'
ATTACH;FMTTYPE=image/png:https://uncafefrancais.com/wp-content/uploads/2020/01/UCF-Jumelle-Pti-Déj_int.png
END:VEVENT
BEGIN:VEVENT
DTSTART;TZID=Europe/Paris:20240423T100000
DTEND;TZID=Europe/Paris:20240423T113000
DTSTAMP:20260421T042709
CREATED:20240324T064651Z
LAST-MODIFIED:20240324T071726Z
UID:12245-1713866400-1713871800@uncafefrancais.com
SUMMARY:Le P’tit Déj’ Débutants
DESCRIPTION: Que prendrez-vous au petit déjeuner ? Un confortable café\, une boisson chaude accompagnée d’une conviviale conversation en français\, et pour finir une dose de bonne humeur ?! Une belle façon de commencer la journée. \nConsommation non comprise
URL:https://uncafefrancais.com/agenda/ptitdej-debutants-240423/
CATEGORIES:[:fr]Groupes de conversations Débutants[:][:en]Beginner Conversation Groups[:],[:fr]Groupes de conversations[:][:en]Conversation Groups[:],[:fr]P'tits Déj' Débutants[:][:en]Beginner Breakfasts[:],P'tits Déj'
ATTACH;FMTTYPE=image/png:https://uncafefrancais.com/wp-content/uploads/2020/01/UCF-Jumelle-Pti-Déj_deb.png
END:VEVENT
BEGIN:VEVENT
DTSTART;TZID=Europe/Paris:20240430T100000
DTEND;TZID=Europe/Paris:20240430T113000
DTSTAMP:20260421T042709
CREATED:20240323T223750Z
LAST-MODIFIED:20240324T063712Z
UID:12249-1714471200-1714476600@uncafefrancais.com
SUMMARY:Le P’tit Déj’ Intermédiaires
DESCRIPTION:Si nous commencions la journée par une agréable conversation dans un charmant café ? Rien de tel pour nous mettre en forme. Et pour bien terminer notre rencontre\, une petite découverte linguistique ou simplement une révision… Quelle belle journée qui s’annonce\, non ? \n  \n  \nConsommation non comprise
URL:https://uncafefrancais.com/agenda/ptitdej-intermediaires-240430/
CATEGORIES:[:fr]Groupes de conversations Intermédiaires[:][:en]Intermediate Conversations Groups[:],[:fr]Groupes de conversations[:][:en]Conversation Groups[:],[:fr]P'tits Déj' Intermédiaires[:][:en]Intermediate Breakfasts[:],P'tits Déj'
ATTACH;FMTTYPE=image/png:https://uncafefrancais.com/wp-content/uploads/2020/01/UCF-Jumelle-Pti-Déj_int.png
END:VEVENT
END:VCALENDAR