BEGIN:VCALENDAR
VERSION:2.0
PRODID:-//Un Café Français - ECPv6.15.13.1//NONSGML v1.0//EN
CALSCALE:GREGORIAN
METHOD:PUBLISH
X-WR-CALNAME:Un Café Français
X-ORIGINAL-URL:https://uncafefrancais.com/en
X-WR-CALDESC:Events for Un Café Français
REFRESH-INTERVAL;VALUE=DURATION:PT1H
X-Robots-Tag:noindex
X-PUBLISHED-TTL:PT1H
BEGIN:VTIMEZONE
TZID:Europe/Paris
BEGIN:DAYLIGHT
TZOFFSETFROM:+0100
TZOFFSETTO:+0200
TZNAME:CEST
DTSTART:20230326T010000
END:DAYLIGHT
BEGIN:STANDARD
TZOFFSETFROM:+0200
TZOFFSETTO:+0100
TZNAME:CET
DTSTART:20231029T010000
END:STANDARD
BEGIN:DAYLIGHT
TZOFFSETFROM:+0100
TZOFFSETTO:+0200
TZNAME:CEST
DTSTART:20240331T010000
END:DAYLIGHT
BEGIN:STANDARD
TZOFFSETFROM:+0200
TZOFFSETTO:+0100
TZNAME:CET
DTSTART:20241027T010000
END:STANDARD
BEGIN:DAYLIGHT
TZOFFSETFROM:+0100
TZOFFSETTO:+0200
TZNAME:CEST
DTSTART:20250330T010000
END:DAYLIGHT
BEGIN:STANDARD
TZOFFSETFROM:+0200
TZOFFSETTO:+0100
TZNAME:CET
DTSTART:20251026T010000
END:STANDARD
END:VTIMEZONE
BEGIN:VTIMEZONE
TZID:Europe/Paris
BEGIN:DAYLIGHT
TZOFFSETFROM:+0100
TZOFFSETTO:+0200
TZNAME:CEST
DTSTART:20230326T010000
END:DAYLIGHT
BEGIN:STANDARD
TZOFFSETFROM:+0200
TZOFFSETTO:+0100
TZNAME:CET
DTSTART:20231029T010000
END:STANDARD
BEGIN:DAYLIGHT
TZOFFSETFROM:+0100
TZOFFSETTO:+0200
TZNAME:CEST
DTSTART:20240331T010000
END:DAYLIGHT
BEGIN:STANDARD
TZOFFSETFROM:+0200
TZOFFSETTO:+0100
TZNAME:CET
DTSTART:20241027T010000
END:STANDARD
BEGIN:DAYLIGHT
TZOFFSETFROM:+0100
TZOFFSETTO:+0200
TZNAME:CEST
DTSTART:20250330T010000
END:DAYLIGHT
BEGIN:STANDARD
TZOFFSETFROM:+0200
TZOFFSETTO:+0100
TZNAME:CET
DTSTART:20251026T010000
END:STANDARD
END:VTIMEZONE
BEGIN:VEVENT
DTSTART;TZID=Europe/Paris:20240404T140000
DTEND;TZID=Europe/Paris:20240404T153000
DTSTAMP:20260423T115238
CREATED:20240226T181927Z
LAST-MODIFIED:20240427T153555Z
UID:12094-1712239200-1712244600@uncafefrancais.com
SUMMARY:La Pause-Café Débutants
DESCRIPTION:We’ll meet in a café to speak French and on the way\, discover a new Parisian neighbourhood. Before you go\, we’ll work on one aspect of the French language to make it easier. A busy afternoon when you think about it. \nConsumption not included
URL:https://uncafefrancais.com/en/agenda/pausecafe-debutants-240404/
CATEGORIES:[:fr]Groupes de conversations Débutants[:][:en]Beginner Conversation Groups[:],[:fr]Groupes de conversations[:][:en]Conversation Groups[:],[:fr]Pauses-Café Débutants[:][:en]Beginner Pauses-Café[:],
ATTACH;FMTTYPE=image/png:https://uncafefrancais.com/wp-content/uploads/2020/01/UCF-Jumelle-Pause-cafe_deb.png
END:VEVENT
BEGIN:VEVENT
DTSTART;TZID=Europe/Paris:20240418T140000
DTEND;TZID=Europe/Paris:20240418T153000
DTSTAMP:20260423T115238
CREATED:20240323T221657Z
LAST-MODIFIED:20240427T153350Z
UID:12246-1713448800-1713454200@uncafefrancais.com
SUMMARY:La Pause-Café Débutants
DESCRIPTION:We’ll meet in a café to speak French and on the way\, discover a new Parisian neighbourhood. Before you go\, we’ll work on one aspect of the French language to make it easier. A busy afternoon when you think about it. \nConsumption not included
URL:https://uncafefrancais.com/en/agenda/pausecafe-debutants-240418/
CATEGORIES:[:fr]Groupes de conversations Débutants[:][:en]Beginner Conversation Groups[:],[:fr]Groupes de conversations[:][:en]Conversation Groups[:],[:fr]Pauses-Café Débutants[:][:en]Beginner Pauses-Café[:],
ATTACH;FMTTYPE=image/png:https://uncafefrancais.com/wp-content/uploads/2020/01/UCF-Jumelle-Pause-cafe_deb.png
END:VEVENT
BEGIN:VEVENT
DTSTART;TZID=Europe/Paris:20240423T100000
DTEND;TZID=Europe/Paris:20240423T113000
DTSTAMP:20260423T115238
CREATED:20240324T064651Z
LAST-MODIFIED:20240324T071726Z
UID:12245-1713866400-1713871800@uncafefrancais.com
SUMMARY:Le P’tit Déj’ Débutants
DESCRIPTION:What would you have for breakfast? A comforting cup of tea or coffee\, a friendly conversation in French and a shot of good humour? A good way to start the day. \nConsumption not included \n 
URL:https://uncafefrancais.com/en/agenda/ptitdej-debutants-240423/
CATEGORIES:[:fr]Groupes de conversations Débutants[:][:en]Beginner Conversation Groups[:],[:fr]Groupes de conversations[:][:en]Conversation Groups[:],[:fr]P'tits Déj' Débutants[:][:en]Beginner Breakfasts[:],P'tits Déj'
ATTACH;FMTTYPE=image/png:https://uncafefrancais.com/wp-content/uploads/2020/01/UCF-Jumelle-Pti-Déj_deb.png
END:VEVENT
BEGIN:VEVENT
DTSTART;TZID=Europe/Paris:20240429T130000
DTEND;TZID=Europe/Paris:20240429T150000
DTSTAMP:20260423T115238
CREATED:20240324T135528Z
LAST-MODIFIED:20240427T151040Z
UID:12396-1714395600-1714402800@uncafefrancais.com
SUMMARY:[:en]Discover Weaving on Wooden Frame Workshop for French Learners[:fr]Atelier Découverte du Tissage sur Cadre en Bois[:]
DESCRIPTION:Looking to spice up your French while trying out a funky new art form? Check out this workshop we’ve got going on: learn to weave on a wooden frame\, perfect for French learners! \n\nWho’s it for? \nAnyone who wants to jazz up their French vocab while getting crafty with weaving. Whether you’re just starting out in French or looking for a relaxed\, creative vibe\, this workshop is for you! No weaving experience needed – our expert will walk you through it step by step. \n\n\nWhat’s in store? \nDive into the fascinating world of weaving on a wooden frame for two hours. Get hands-on with demos and guided exercises to learn the basics\, from setting up the loom to making simple patterns. Plus\, practice your French by chatting with fellow learners and picking up tips from our French-speaking pro. \n\n\nWhy get involved? \n\nFun learning: Let loose and have fun while brushing up on your French in an interactive way.\nCreative expression: Express yourself with your own unique weaving while exploring the beauty of French.\nMeeting cool people: Hang out with other language and craft enthusiasts\, and soak in some cultural vibes.\n\n\n\nHow do I join? \nSpots are limited\, so nab yours ASAP! And don’t forget to let us know your French level so we can tailor the workshop to suit you. \n\nDon’t miss this chance to blend language learning with artsy vibes in a laid-back setting. We can’t wait to see you for this awesome adventure!
URL:https://uncafefrancais.com/en/agenda/tissagecadrebois-debutantsintermediairesavances-2404lu29/
LOCATION:L’Atelier des Tissages\, 45\, rue Saint-Blaise\, PARIS\, 75020\, France
CATEGORIES:[:fr]Ateliers Débutants[:][:en]Beginner workshops[:],[:fr]Ateliers Intermédiaires[:][:en]Intermediate workshops[:],[:fr]Ateliers[:][:en]Workshops[:],[:fr]Evénement Avancés[:][:en]Advanced Event[:],Evénement Débutants[:][:en]Beginners Event[:],Evénement Intermédiaires[:][:en]Intermediates Event[:]
ATTACH;FMTTYPE=image/png:https://uncafefrancais.com/wp-content/uploads/2024/02/At.-Tissage-CADRE-A-BOIS-ucf.png
END:VEVENT
END:VCALENDAR