BEGIN:VCALENDAR
VERSION:2.0
PRODID:-//Un Café Français - ECPv6.15.13.1//NONSGML v1.0//EN
CALSCALE:GREGORIAN
METHOD:PUBLISH
X-ORIGINAL-URL:https://uncafefrancais.com
X-WR-CALDESC:Évènements pour Un Café Français
REFRESH-INTERVAL;VALUE=DURATION:PT1H
X-Robots-Tag:noindex
X-PUBLISHED-TTL:PT1H
BEGIN:VTIMEZONE
TZID:Europe/Paris
BEGIN:DAYLIGHT
TZOFFSETFROM:+0100
TZOFFSETTO:+0200
TZNAME:CEST
DTSTART:20230326T010000
END:DAYLIGHT
BEGIN:STANDARD
TZOFFSETFROM:+0200
TZOFFSETTO:+0100
TZNAME:CET
DTSTART:20231029T010000
END:STANDARD
BEGIN:DAYLIGHT
TZOFFSETFROM:+0100
TZOFFSETTO:+0200
TZNAME:CEST
DTSTART:20240331T010000
END:DAYLIGHT
BEGIN:STANDARD
TZOFFSETFROM:+0200
TZOFFSETTO:+0100
TZNAME:CET
DTSTART:20241027T010000
END:STANDARD
BEGIN:DAYLIGHT
TZOFFSETFROM:+0100
TZOFFSETTO:+0200
TZNAME:CEST
DTSTART:20250330T010000
END:DAYLIGHT
BEGIN:STANDARD
TZOFFSETFROM:+0200
TZOFFSETTO:+0100
TZNAME:CET
DTSTART:20251026T010000
END:STANDARD
END:VTIMEZONE
BEGIN:VTIMEZONE
TZID:Europe/Paris
BEGIN:DAYLIGHT
TZOFFSETFROM:+0100
TZOFFSETTO:+0200
TZNAME:CEST
DTSTART:20230326T010000
END:DAYLIGHT
BEGIN:STANDARD
TZOFFSETFROM:+0200
TZOFFSETTO:+0100
TZNAME:CET
DTSTART:20231029T010000
END:STANDARD
BEGIN:DAYLIGHT
TZOFFSETFROM:+0100
TZOFFSETTO:+0200
TZNAME:CEST
DTSTART:20240331T010000
END:DAYLIGHT
BEGIN:STANDARD
TZOFFSETFROM:+0200
TZOFFSETTO:+0100
TZNAME:CET
DTSTART:20241027T010000
END:STANDARD
BEGIN:DAYLIGHT
TZOFFSETFROM:+0100
TZOFFSETTO:+0200
TZNAME:CEST
DTSTART:20250330T010000
END:DAYLIGHT
BEGIN:STANDARD
TZOFFSETFROM:+0200
TZOFFSETTO:+0100
TZNAME:CET
DTSTART:20251026T010000
END:STANDARD
END:VTIMEZONE
BEGIN:VEVENT
DTSTART;TZID=Europe/Paris:20240905T140000
DTEND;TZID=Europe/Paris:20240905T153000
DTSTAMP:20260423T020233
CREATED:20240916T110401Z
LAST-MODIFIED:20240916T143139Z
UID:13068-1725544800-1725550200@uncafefrancais.com
SUMMARY:La Pause-Café Débutants
DESCRIPTION:Profitez d’un après-midi pour pratiquer votre français !  \nVous trouvez le français difficile ? Vous vous sentez perdu(e) ? Faites une pause avec nous ! \nImaginez un après-midi agréable dans un café parisien a parler avec une française. Découvrez le plaisir de pratiquer le français dans un cadre détendu. \nRejoignez-nous pour une Pause-Café Débutant\, un événement qui a lieu tous les 15 jours\, le jeudi après-midi. Pendant 1h30\, vous participerez à des conversations en français avec des exercices simples et adaptés aux débutants. Nos réunions dans un café à Paris ou en proche banlieue\, sont pour les impatriés comme pour les vacanciers. Mais en petit groupe de 6 personnes maximum. \nLe lieu exact sera donné après la première inscription\, alors préparez-vous pour une petite aventure. C’est l’occasion idéale pour améliorer vos compétences en français dans un café parisien authentique\, comme les locaux ! \n🚨Tarif : 15 € s’il y a un deuxième participant\, sinon 20€ à compléter sur place.⚠ \nConsommation non comprise. Pensez à prendre des espèces\, les cartes bancaires sont souvent à partir de 10€ \n 
URL:https://uncafefrancais.com/agenda/pausecafe-debutants-240905/
CATEGORIES:[:fr]Groupes de conversations Débutants[:][:en]Beginner Conversation Groups[:],[:fr]Groupes de conversations[:][:en]Conversation Groups[:],[:fr]Pauses-Café Débutants[:][:en]Beginner Pauses-Café[:],Pauses-Café
ATTACH;FMTTYPE=image/png:https://uncafefrancais.com/wp-content/uploads/2020/01/UCF-Jumelle-Pause-cafe_deb.png
END:VEVENT
BEGIN:VEVENT
DTSTART;TZID=Europe/Paris:20240910T100000
DTEND;TZID=Europe/Paris:20240910T113000
DTSTAMP:20260423T020233
CREATED:20240911T153831Z
LAST-MODIFIED:20240911T154044Z
UID:12793-1725962400-1725967800@uncafefrancais.com
SUMMARY:Le P’ti Déj’ Débutants
DESCRIPTION:Pratiquez le français en toute simplicité ! \nEnvie de perfectionner votre français sans pression ? Rejoignez-nous pour un moment convivial autour d’un café ! \nLe P’ti Déj est une rencontre deux mardis matins par mois\, où vous pouvez pratiquer le français en petit groupe\, dans une ambiance détendue. Pendant 1h30\, que vous soyez débutant ou simplement que vous ayez besoin de pratique\, vous aurez l’occasion de converser en français avec d’autres participants\, encadrés par une native française. \nL’événement se déroule dans un lieu typique à Paris ou en proche banlieue\, en petit comité (maximum 6 participants)\, pour favoriser les échanges et rendre l’expérience plus personnelle. \nLe lieu exact est communiqué dès qu’il y a une inscription. \n🚨Tarif : 15 € s’il y a un deuxième participant\, sinon 20€ à compléter sur place.⚠ \nConsommation non comprise. Pensez à prendre des espèces\, les cartes bancaires sont souvent à partir de 10€
URL:https://uncafefrancais.com/agenda/ptidej-debutants-240910/
CATEGORIES:[:fr]Groupes de conversations Débutants[:][:en]Beginner Conversation Groups[:],[:fr]Groupes de conversations[:][:en]Conversation Groups[:],[:fr]P'tits Déj' Débutants[:][:en]Beginner Breakfasts[:],P'tits Déj'
ATTACH;FMTTYPE=image/png:https://uncafefrancais.com/wp-content/uploads/2020/01/UCF-Jumelle-Pti-Déj_deb.png
END:VEVENT
BEGIN:VEVENT
DTSTART;TZID=Europe/Paris:20240919T140000
DTEND;TZID=Europe/Paris:20240919T153000
DTSTAMP:20260423T020233
CREATED:20240916T113724Z
LAST-MODIFIED:20240916T120750Z
UID:13072-1726754400-1726759800@uncafefrancais.com
SUMMARY:La Pause-Café Débutants
DESCRIPTION:Profitez d’un après-midi pour pratiquer votre français !  \nVous trouvez le français difficile ? Vous vous sentez perdu(e) ? Faites une pause avec nous ! \nImaginez un après-midi agréable dans un café parisien a parler avec une française. Découvrez le plaisir de pratiquer le français dans un cadre détendu. \nRejoignez-nous pour une Pause-Café Débutant\, un événement qui a lieu tous les 15 jours\, le jeudi après-midi. Pendant 1h30\, vous participerez à des conversations en français avec des exercices simples et adaptés aux débutants. Nos réunions dans un café à Paris ou en proche banlieue\, sont pour les impatriés comme pour les vacanciers. Mais en petit groupe de 6 personnes maximum. \nLe lieu exact sera donné après la première inscription\, alors préparez-vous pour une petite aventure. C’est l’occasion idéale pour améliorer vos compétences en français dans un café parisien authentique\, comme les locaux ! \n🚨Tarif : 15 € s’il y a un deuxième participant\, sinon 20€ à compléter sur place.⚠ \nConsommation non comprise. Pensez à prendre des espèces\, les cartes bancaires sont souvent à partir de 10€ \n 
URL:https://uncafefrancais.com/agenda/pausecafe-debutants-240919/
CATEGORIES:[:fr]Groupes de conversations Débutants[:][:en]Beginner Conversation Groups[:],[:fr]Groupes de conversations[:][:en]Conversation Groups[:],[:fr]Pauses-Café Débutants[:][:en]Beginner Pauses-Café[:],Pauses-Café
ATTACH;FMTTYPE=image/png:https://uncafefrancais.com/wp-content/uploads/2020/01/UCF-Jumelle-Pause-cafe_deb.png
END:VEVENT
BEGIN:VEVENT
DTSTART;TZID=Europe/Paris:20240924T100000
DTEND;TZID=Europe/Paris:20240924T113000
DTSTAMP:20260423T020233
CREATED:20240911T160351Z
LAST-MODIFIED:20240911T160608Z
UID:12803-1727172000-1727177400@uncafefrancais.com
SUMMARY:Le P’ti Déj’ Débutants
DESCRIPTION:Pratiquez le français en toute simplicité ! \nEnvie de perfectionner votre français sans pression ? Rejoignez-nous pour un moment convivial autour d’un café ! \nLe P’ti Déj est une rencontre deux mardis matins par mois\, où vous pouvez pratiquer le français en petit groupe\, dans une ambiance détendue. Pendant 1h30\, que vous soyez débutant ou simplement que vous ayez besoin de pratique\, vous aurez l’occasion de converser en français avec d’autres participants\, encadrés par une native française. \nL’événement se déroule dans un lieu typique à Paris ou en proche banlieue\, en petit comité (maximum 6 participants)\, pour favoriser les échanges et rendre l’expérience plus personnelle. \nLe lieu exact est communiqué dès qu’il y a une inscription. \n🚨Tarif : 15 € s’il y a un deuxième participant\, sinon 20€ à compléter sur place.⚠ \nConsommation non comprise. Pensez à prendre des espèces\, les cartes bancaires sont souvent à partir de 10€
URL:https://uncafefrancais.com/agenda/ptidej-debutants-240924/
CATEGORIES:[:fr]Groupes de conversations Débutants[:][:en]Beginner Conversation Groups[:],[:fr]Groupes de conversations[:][:en]Conversation Groups[:],[:fr]P'tits Déj' Débutants[:][:en]Beginner Breakfasts[:],P'tits Déj'
ATTACH;FMTTYPE=image/png:https://uncafefrancais.com/wp-content/uploads/2020/01/UCF-Jumelle-Pti-Déj_deb.png
END:VEVENT
END:VCALENDAR