BEGIN:VCALENDAR
VERSION:2.0
PRODID:-//Un Café Français - ECPv6.15.13.1//NONSGML v1.0//EN
CALSCALE:GREGORIAN
METHOD:PUBLISH
X-WR-CALNAME:Un Café Français
X-ORIGINAL-URL:https://uncafefrancais.com
X-WR-CALDESC:Évènements pour Un Café Français
REFRESH-INTERVAL;VALUE=DURATION:PT1H
X-Robots-Tag:noindex
X-PUBLISHED-TTL:PT1H
BEGIN:VTIMEZONE
TZID:Europe/Paris
BEGIN:DAYLIGHT
TZOFFSETFROM:+0100
TZOFFSETTO:+0200
TZNAME:CEST
DTSTART:20230326T010000
END:DAYLIGHT
BEGIN:STANDARD
TZOFFSETFROM:+0200
TZOFFSETTO:+0100
TZNAME:CET
DTSTART:20231029T010000
END:STANDARD
BEGIN:DAYLIGHT
TZOFFSETFROM:+0100
TZOFFSETTO:+0200
TZNAME:CEST
DTSTART:20240331T010000
END:DAYLIGHT
BEGIN:STANDARD
TZOFFSETFROM:+0200
TZOFFSETTO:+0100
TZNAME:CET
DTSTART:20241027T010000
END:STANDARD
BEGIN:DAYLIGHT
TZOFFSETFROM:+0100
TZOFFSETTO:+0200
TZNAME:CEST
DTSTART:20250330T010000
END:DAYLIGHT
BEGIN:STANDARD
TZOFFSETFROM:+0200
TZOFFSETTO:+0100
TZNAME:CET
DTSTART:20251026T010000
END:STANDARD
END:VTIMEZONE
BEGIN:VTIMEZONE
TZID:Europe/Paris
BEGIN:DAYLIGHT
TZOFFSETFROM:+0100
TZOFFSETTO:+0200
TZNAME:CEST
DTSTART:20230326T010000
END:DAYLIGHT
BEGIN:STANDARD
TZOFFSETFROM:+0200
TZOFFSETTO:+0100
TZNAME:CET
DTSTART:20231029T010000
END:STANDARD
BEGIN:DAYLIGHT
TZOFFSETFROM:+0100
TZOFFSETTO:+0200
TZNAME:CEST
DTSTART:20240331T010000
END:DAYLIGHT
BEGIN:STANDARD
TZOFFSETFROM:+0200
TZOFFSETTO:+0100
TZNAME:CET
DTSTART:20241027T010000
END:STANDARD
BEGIN:DAYLIGHT
TZOFFSETFROM:+0100
TZOFFSETTO:+0200
TZNAME:CEST
DTSTART:20250330T010000
END:DAYLIGHT
BEGIN:STANDARD
TZOFFSETFROM:+0200
TZOFFSETTO:+0100
TZNAME:CET
DTSTART:20251026T010000
END:STANDARD
END:VTIMEZONE
BEGIN:VEVENT
DTSTART;TZID=Europe/Paris:20240102T100000
DTEND;TZID=Europe/Paris:20240102T113000
DTSTAMP:20260421T164454
CREATED:20231231T230739Z
LAST-MODIFIED:20231231T231120Z
UID:11841-1704189600-1704195000@uncafefrancais.com
SUMMARY:Le P’tit Déj’ Débutants
DESCRIPTION:Que prendrez-vous au petit déjeuner ? Un confortable café\, une boisson chaude accompagnée d’une conviviale conversation en français\, et pour finir une dose de bonne humeur ?! Une belle façon de commencer la journée. \n  \nConsommation non comprise
URL:https://uncafefrancais.com/agenda/ptitdej-debutants-240102/
LOCATION:Le Petit Bar\, 57\, Bd Saint-Marcel\, PARIS\, 75013\, France
CATEGORIES:[:fr]Groupes de conversations Débutants[:][:en]Beginner Conversation Groups[:],[:fr]Groupes de conversations[:][:en]Conversation Groups[:],[:fr]P'tits Déj' Débutants[:][:en]Beginner Breakfasts[:],P'tits Déj'
ATTACH;FMTTYPE=image/png:https://uncafefrancais.com/wp-content/uploads/2020/01/UCF-Jumelle-Pti-Déj_deb.png
END:VEVENT
BEGIN:VEVENT
DTSTART;TZID=Europe/Paris:20240108T183000
DTEND;TZID=Europe/Paris:20240108T203000
DTSTAMP:20260421T164454
CREATED:20240101T001742Z
LAST-MODIFIED:20240101T005258Z
UID:11869-1704738600-1704745800@uncafefrancais.com
SUMMARY:L'Apéro Débutants
DESCRIPTION:Trop timide pour parler français ? Alors\, retrouvons-nous un soir à l’« apéro » dans un café\, entre nous\, pour démarrer à votre rythme… Si\, si deux petites heures\, c’est un bon début\, non ? \n  \nConsommation non comprise
URL:https://uncafefrancais.com/agenda/apero-debutants-240108/
LOCATION:Brasserie Le PARIS Café\, 24\, rue Richard LENOIR\, PARIS\, 75011\, France
CATEGORIES:[:fr]Apéros Débutants[:][:en]Beginner Apéros[:],[:fr]Groupes de conversations Débutants[:][:en]Beginner Conversation Groups[:],[:fr]Groupes de conversations[:][:en]Conversation Groups[:],Apéros
ATTACH;FMTTYPE=image/png:https://uncafefrancais.com/wp-content/uploads/2020/01/UCF-Jumelle-Apero_deb.png
END:VEVENT
BEGIN:VEVENT
DTSTART;TZID=Europe/Paris:20240111T140000
DTEND;TZID=Europe/Paris:20240111T153000
DTSTAMP:20260421T164454
CREATED:20240101T073032Z
LAST-MODIFIED:20240101T073655Z
UID:11945-1704981600-1704987000@uncafefrancais.com
SUMMARY:La Pause-Café Débutants
DESCRIPTION:Donnons-nous rendez-vous dans un café pour parler français. En passant\, découvrons un quartier parisien. Et avant de nous quitter\, travaillons un point de la langue pour la rendre plus naturelle. Une après-midi bien remplie\, en perspective… \nConsommation non comprise
URL:https://uncafefrancais.com/agenda/pausecafe-debutants-240111/
CATEGORIES:[:fr]Groupes de conversations Débutants[:][:en]Beginner Conversation Groups[:],[:fr]Groupes de conversations[:][:en]Conversation Groups[:],[:fr]Pauses-Café Intermédiaires[:][:en]Intermediate Pauses-Café[:],Pauses-Café
ATTACH;FMTTYPE=image/png:https://uncafefrancais.com/wp-content/uploads/2020/01/UCF-Jumelle-Pause-cafe_deb.png
END:VEVENT
BEGIN:VEVENT
DTSTART;TZID=Europe/Paris:20240115T183000
DTEND;TZID=Europe/Paris:20240115T203000
DTSTAMP:20260421T164454
CREATED:20240101T002633Z
LAST-MODIFIED:20240101T010059Z
UID:11871-1705343400-1705350600@uncafefrancais.com
SUMMARY:L'Apéro Débutants
DESCRIPTION:Trop timide pour parler français ? Alors\, retrouvons-nous un soir à l’« apéro » dans un café\, entre nous\, pour démarrer à votre rythme… Si\, si deux petites heures\, c’est un bon début\, non ? \n  \nConsommation non comprise
URL:https://uncafefrancais.com/agenda/apero-debutants-240115/
LOCATION:Brasserie Le PARIS Café\, 24\, rue Richard LENOIR\, PARIS\, 75011\, France
CATEGORIES:[:fr]Apéros Débutants[:][:en]Beginner Apéros[:],[:fr]Groupes de conversations Débutants[:][:en]Beginner Conversation Groups[:],[:fr]Groupes de conversations[:][:en]Conversation Groups[:],Apéros
ATTACH;FMTTYPE=image/png:https://uncafefrancais.com/wp-content/uploads/2020/01/UCF-Jumelle-Apero_deb.png
END:VEVENT
BEGIN:VEVENT
DTSTART;TZID=Europe/Paris:20240116T100000
DTEND;TZID=Europe/Paris:20240116T113000
DTSTAMP:20260421T164454
CREATED:20231231T232001Z
LAST-MODIFIED:20231231T234524Z
UID:11843-1705399200-1705404600@uncafefrancais.com
SUMMARY:Le P’tit Déj’ Débutants
DESCRIPTION:Que prendrez-vous au petit déjeuner ? Un confortable café\, une boisson chaude accompagnée d’une conviviale conversation en français\, et pour finir une dose de bonne humeur ?! Une belle façon de commencer la journée. \n  \nConsommation non comprise
URL:https://uncafefrancais.com/agenda/ptitdej-debutants-240116/
CATEGORIES:[:fr]Groupes de conversations Débutants[:][:en]Beginner Conversation Groups[:],[:fr]Groupes de conversations[:][:en]Conversation Groups[:],[:fr]P'tits Déj' Débutants[:][:en]Beginner Breakfasts[:],P'tits Déj'
ATTACH;FMTTYPE=image/png:https://uncafefrancais.com/wp-content/uploads/2020/01/UCF-Jumelle-Pti-Déj_deb.png
END:VEVENT
BEGIN:VEVENT
DTSTART;TZID=Europe/Paris:20240122T183000
DTEND;TZID=Europe/Paris:20240122T203000
DTSTAMP:20260421T164454
CREATED:20240101T002709Z
LAST-MODIFIED:20240101T010221Z
UID:11872-1705948200-1705955400@uncafefrancais.com
SUMMARY:L'Apéro Débutants
DESCRIPTION:Trop timide pour parler français ? Alors\, retrouvons-nous un soir à l’« apéro » dans un café\, entre nous\, pour démarrer à votre rythme… Si\, si deux petites heures\, c’est un bon début\, non ? \n  \nConsommation non comprise
URL:https://uncafefrancais.com/agenda/apero-debutants-240122/
LOCATION:Brasserie Le PARIS Café\, 24\, rue Richard LENOIR\, PARIS\, 75011\, France
CATEGORIES:[:fr]Apéros Débutants[:][:en]Beginner Apéros[:],[:fr]Groupes de conversations Débutants[:][:en]Beginner Conversation Groups[:],[:fr]Groupes de conversations[:][:en]Conversation Groups[:],Apéros
ATTACH;FMTTYPE=image/png:https://uncafefrancais.com/wp-content/uploads/2020/01/UCF-Jumelle-Apero_deb.png
END:VEVENT
BEGIN:VEVENT
DTSTART;TZID=Europe/Paris:20240125T140000
DTEND;TZID=Europe/Paris:20240125T153000
DTSTAMP:20260421T164454
CREATED:20240101T080211Z
LAST-MODIFIED:20240101T080517Z
UID:11949-1706191200-1706196600@uncafefrancais.com
SUMMARY:La Pause-Café Débutants
DESCRIPTION:Donnons-nous rendez-vous dans un café pour parler français. En passant\, découvrons un quartier parisien. Et avant de nous quitter\, travaillons un point de la langue pour la rendre plus naturelle. Une après-midi bien remplie\, en perspective… \nConsommation non comprise
URL:https://uncafefrancais.com/agenda/pausecafe-debutants-240125/
CATEGORIES:[:fr]Groupes de conversations Débutants[:][:en]Beginner Conversation Groups[:],[:fr]Groupes de conversations[:][:en]Conversation Groups[:],[:fr]Pauses-Café Intermédiaires[:][:en]Intermediate Pauses-Café[:],Pauses-Café
ATTACH;FMTTYPE=image/png:https://uncafefrancais.com/wp-content/uploads/2020/01/UCF-Jumelle-Pause-cafe_deb.png
END:VEVENT
BEGIN:VEVENT
DTSTART;TZID=Europe/Paris:20240129T183000
DTEND;TZID=Europe/Paris:20240129T203000
DTSTAMP:20260421T164454
CREATED:20240101T002838Z
LAST-MODIFIED:20240101T010411Z
UID:11873-1706553000-1706560200@uncafefrancais.com
SUMMARY:L'Apéro Débutants
DESCRIPTION:Trop timide pour parler français ? Alors\, retrouvons-nous un soir à l’« apéro » dans un café\, entre nous\, pour démarrer à votre rythme… Si\, si deux petites heures\, c’est un bon début\, non ? \n  \nConsommation non comprise
URL:https://uncafefrancais.com/agenda/apero-debutants-240129/
LOCATION:Brasserie Le PARIS Café\, 24\, rue Richard LENOIR\, PARIS\, 75011\, France
CATEGORIES:[:fr]Apéros Débutants[:][:en]Beginner Apéros[:],[:fr]Groupes de conversations Débutants[:][:en]Beginner Conversation Groups[:],[:fr]Groupes de conversations[:][:en]Conversation Groups[:],Apéros
ATTACH;FMTTYPE=image/png:https://uncafefrancais.com/wp-content/uploads/2020/01/UCF-Jumelle-Apero_deb.png
END:VEVENT
BEGIN:VEVENT
DTSTART;TZID=Europe/Paris:20240130T100000
DTEND;TZID=Europe/Paris:20240130T113000
DTSTAMP:20260421T164454
CREATED:20231231T235438Z
LAST-MODIFIED:20231231T235520Z
UID:11864-1706608800-1706614200@uncafefrancais.com
SUMMARY:Le P’tit Déj’ Débutants
DESCRIPTION:Que prendrez-vous au petit déjeuner ? Un confortable café\, une boisson chaude accompagnée d’une conviviale conversation en français\, et pour finir une dose de bonne humeur ?! Une belle façon de commencer la journée. \n  \nConsommation non comprise
URL:https://uncafefrancais.com/agenda/ptitdej-debutants-240130/
CATEGORIES:[:fr]Groupes de conversations Débutants[:][:en]Beginner Conversation Groups[:],[:fr]Groupes de conversations[:][:en]Conversation Groups[:],[:fr]P'tits Déj' Débutants[:][:en]Beginner Breakfasts[:],P'tits Déj'
ATTACH;FMTTYPE=image/png:https://uncafefrancais.com/wp-content/uploads/2020/01/UCF-Jumelle-Pti-Déj_deb.png
END:VEVENT
END:VCALENDAR