BEGIN:VCALENDAR
VERSION:2.0
PRODID:-//Un Café Français - ECPv6.15.13.1//NONSGML v1.0//EN
CALSCALE:GREGORIAN
METHOD:PUBLISH
X-ORIGINAL-URL:https://uncafefrancais.com/en
X-WR-CALDESC:Events for Un Café Français
REFRESH-INTERVAL;VALUE=DURATION:PT1H
X-Robots-Tag:noindex
X-PUBLISHED-TTL:PT1H
BEGIN:VTIMEZONE
TZID:Europe/Paris
BEGIN:DAYLIGHT
TZOFFSETFROM:+0100
TZOFFSETTO:+0200
TZNAME:CEST
DTSTART:20200329T010000
END:DAYLIGHT
BEGIN:STANDARD
TZOFFSETFROM:+0200
TZOFFSETTO:+0100
TZNAME:CET
DTSTART:20201025T010000
END:STANDARD
BEGIN:DAYLIGHT
TZOFFSETFROM:+0100
TZOFFSETTO:+0200
TZNAME:CEST
DTSTART:20210328T010000
END:DAYLIGHT
BEGIN:STANDARD
TZOFFSETFROM:+0200
TZOFFSETTO:+0100
TZNAME:CET
DTSTART:20211031T010000
END:STANDARD
BEGIN:DAYLIGHT
TZOFFSETFROM:+0100
TZOFFSETTO:+0200
TZNAME:CEST
DTSTART:20220327T010000
END:DAYLIGHT
BEGIN:STANDARD
TZOFFSETFROM:+0200
TZOFFSETTO:+0100
TZNAME:CET
DTSTART:20221030T010000
END:STANDARD
BEGIN:DAYLIGHT
TZOFFSETFROM:+0100
TZOFFSETTO:+0200
TZNAME:CEST
DTSTART:20230326T010000
END:DAYLIGHT
BEGIN:STANDARD
TZOFFSETFROM:+0200
TZOFFSETTO:+0100
TZNAME:CET
DTSTART:20231029T010000
END:STANDARD
END:VTIMEZONE
BEGIN:VEVENT
DTSTART;TZID=Europe/Paris:20220416T153000
DTEND;TZID=Europe/Paris:20220416T173000
DTSTAMP:20260422T162826
CREATED:20220407T044254Z
LAST-MODIFIED:20220407T134324Z
UID:10813-1650123000-1650130200@uncafefrancais.com
SUMMARY:[:en]Workshop DRAWING_Portrait : Sketch and Color[:fr]Atelier DESSIN_Portrait : Du Croquis à la Couleur[:]
DESCRIPTION:2 heures pour vous mettre dans la peau de Manet… Bon\, pas encore suffisant mais ça serait un bon début. Avec notre professeur d’Arts Plastiques\, apprenez les bases. Vous n’irez plus au musée de la même façon… \nVenez les mains dans les poches: le matériel vous sera FOURNI \nConsommation non comprise \nNature Morte (09.04) et Portrait sont les 2 parties d’un stage autour du croquis et de la couleur…\nVous pouvez participer à l’un ou à l’autre ou aux deux pour bénéficier de la totalité de votre progression.
URL:https://uncafefrancais.com/en/agenda/atelierdessin-croquiscoul-portrait-220416/
CATEGORIES:[:fr]Ateliers Débutants[:][:en]Beginner workshops[:],[:fr]Ateliers Intermédiaires[:][:en]Intermediate workshops[:],[:fr]Ateliers[:][:en]Workshops[:]
ATTACH;FMTTYPE=image/png:https://uncafefrancais.com/wp-content/uploads/2020/01/uncafefrancais_Atelier-Arts-Plastiques-Mains-compressor.png
END:VEVENT
BEGIN:VEVENT
DTSTART;TZID=Europe/Paris:20220409T153000
DTEND;TZID=Europe/Paris:20220409T173000
DTSTAMP:20260422T162826
CREATED:20220407T084728Z
LAST-MODIFIED:20220407T133519Z
UID:10829-1649518200-1649525400@uncafefrancais.com
SUMMARY:[:en]Workshop DRAWING_Nature Morte : Sketch and Color [:fr]Atelier DESSIN_Nature Morte : Du Croquis à la Couleur[:]
DESCRIPTION:2 hours to be a Manet-to-be or a Delacroix? Probably not\, but you will learn how to draw from a highly-skilled Parisian fine arts teacher\, learn more about art\, all while improving your french. Plus\, you’ll have a fresh perspective next time you visit the Musee d’Orsay. \nCome with your hands in your pockets : the material will be PROVIDED to you. \nConsumption not included \nStill Life (Nature Morte) and Portrait(16.04) are the 2 parts of a course around sketching and colour…\nYou can participate in one or the other or both to fully benefit of your progression.
URL:https://uncafefrancais.com/en/agenda/atelierdessin-croquiscoul-naturemorte-220409/
CATEGORIES:[:fr]Ateliers Débutants[:][:en]Beginner workshops[:],[:fr]Ateliers Intermédiaires[:][:en]Intermediate workshops[:],[:fr]Ateliers[:][:en]Workshops[:]
ATTACH;FMTTYPE=image/png:https://uncafefrancais.com/wp-content/uploads/2020/01/uncafefrancais_Atelier-Arts-Plastiques-Mains-compressor.png
END:VEVENT
BEGIN:VEVENT
DTSTART;TZID=Europe/Paris:20220328T183000
DTEND;TZID=Europe/Paris:20220328T200000
DTSTAMP:20260422T162826
CREATED:20220307T050840Z
LAST-MODIFIED:20220425T070416Z
UID:10673-1648492200-1648497600@uncafefrancais.com
SUMMARY:L'Apéro Débutants
DESCRIPTION:Too shy to speak French? So\, let’s meet one evening at the “apéro” in a café\, between us\, to start at your own pace… Oh\, yeah it’s a good way to start\, I promise! \n  \nConsumption not included
URL:https://uncafefrancais.com/en/agenda/apero-debutants-220328/
LOCATION:(Français) Les Associés\, 50\, Bd de la Bastille\, Parais\, 75012\, France
CATEGORIES:[:fr]Apéros Débutants[:][:en]Beginner Apéros[:],[:fr]Groupes de conversations Débutants[:][:en]Beginner Conversation Groups[:],[:fr]Groupes de conversations[:][:en]Conversation Groups[:],Apéros
ATTACH;FMTTYPE=image/png:https://uncafefrancais.com/wp-content/uploads/2020/01/UCF-Jumelle-Apero_deb.png
END:VEVENT
BEGIN:VEVENT
DTSTART;TZID=Europe/Paris:20220324T140000
DTEND;TZID=Europe/Paris:20220324T153000
DTSTAMP:20260422T162826
CREATED:20220221T124844Z
LAST-MODIFIED:20220424T143255Z
UID:10596-1648130400-1648135800@uncafefrancais.com
SUMMARY:La Pause-Café Débutants
DESCRIPTION:We’ll meet in a café to speak French and on the way\, discover a new Parisian neighbourhood. Before you go\, we’ll work on one aspect of the French language to make it easier. A busy afternoon when you think about it. \nConsumption not included
URL:https://uncafefrancais.com/en/agenda/pausecafe-debutants-220324/
CATEGORIES:[:fr]Groupes de conversations Débutants[:][:en]Beginner Conversation Groups[:],[:fr]Groupes de conversations[:][:en]Conversation Groups[:],[:fr]Pauses-Café Débutants[:][:en]Beginner Pauses-Café[:],
ATTACH;FMTTYPE=image/png:https://uncafefrancais.com/wp-content/uploads/2020/01/UCF-Jumelle-Pause-cafe_deb.png
END:VEVENT
BEGIN:VEVENT
DTSTART;TZID=Europe/Paris:20220321T183000
DTEND;TZID=Europe/Paris:20220321T200000
DTSTAMP:20260422T162826
CREATED:20220307T050953Z
LAST-MODIFIED:20220307T050953Z
UID:10674-1647887400-1647892800@uncafefrancais.com
SUMMARY:L'Apéro Débutants
DESCRIPTION:Too shy to speak French? So\, let’s meet one evening at the “apéro” in a café\, between us\, to start at your own pace… Oh\, yeah it’s a good way to start\, I promise! \n  \nConsumption not included
URL:https://uncafefrancais.com/en/agenda/apero-debutants-220321/
LOCATION:(Français) Les Associés\, 50\, Bd de la Bastille\, Parais\, 75012\, France
ATTACH;FMTTYPE=image/png:https://uncafefrancais.com/wp-content/uploads/2020/01/UCF-Jumelle-Apero_deb.png
END:VEVENT
BEGIN:VEVENT
DTSTART;TZID=Europe/Paris:20220317T140000
DTEND;TZID=Europe/Paris:20220317T153000
DTSTAMP:20260422T162826
CREATED:20220221T125046Z
LAST-MODIFIED:20220307T133127Z
UID:10595-1647525600-1647531000@uncafefrancais.com
SUMMARY:La Pause-Café Débutants
DESCRIPTION:We’ll meet in a café to speak French and on the way\, discover a new Parisian neighbourhood. Before you go\, we’ll work on one aspect of the French language to make it easier. A busy afternoon when you think about it. \nConsumption not included
URL:https://uncafefrancais.com/en/agenda/pausecafe-debutants-220317/
CATEGORIES:[:fr]Groupes de conversations Débutants[:][:en]Beginner Conversation Groups[:],[:fr]Groupes de conversations[:][:en]Conversation Groups[:],[:fr]Pauses-Café Débutants[:][:en]Beginner Pauses-Café[:],
ATTACH;FMTTYPE=image/png:https://uncafefrancais.com/wp-content/uploads/2020/01/UCF-Jumelle-Pause-cafe_deb.png
END:VEVENT
BEGIN:VEVENT
DTSTART;TZID=Europe/Paris:20220314T183000
DTEND;TZID=Europe/Paris:20220314T200000
DTSTAMP:20260422T162826
CREATED:20220307T050945Z
LAST-MODIFIED:20220307T050945Z
UID:10676-1647282600-1647288000@uncafefrancais.com
SUMMARY:L'Apéro Débutants
DESCRIPTION:Too shy to speak French? So\, let’s meet one evening at the “apéro” in a café\, between us\, to start at your own pace… Oh\, yeah it’s a good way to start\, I promise! \n  \nConsumption not included
URL:https://uncafefrancais.com/en/agenda/apero-debutants-220314/
LOCATION:(Français) Les Associés\, 50\, Bd de la Bastille\, Parais\, 75012\, France
ATTACH;FMTTYPE=image/png:https://uncafefrancais.com/wp-content/uploads/2020/01/UCF-Jumelle-Apero_deb.png
END:VEVENT
BEGIN:VEVENT
DTSTART;TZID=Europe/Paris:20220310T140000
DTEND;TZID=Europe/Paris:20220310T153000
DTSTAMP:20260422T162826
CREATED:20220221T125404Z
LAST-MODIFIED:20220307T133137Z
UID:10594-1646920800-1646926200@uncafefrancais.com
SUMMARY:La Pause-Café Débutants
DESCRIPTION:We’ll meet in a café to speak French and on the way\, discover a new Parisian neighbourhood. Before you go\, we’ll work on one aspect of the French language to make it easier. A busy afternoon when you think about it. \nConsumption not included
URL:https://uncafefrancais.com/en/agenda/pausecafe-debutants-220310/
CATEGORIES:[:fr]Groupes de conversations Débutants[:][:en]Beginner Conversation Groups[:],[:fr]Groupes de conversations[:][:en]Conversation Groups[:],[:fr]Pauses-Café Débutants[:][:en]Beginner Pauses-Café[:],
ATTACH;FMTTYPE=image/png:https://uncafefrancais.com/wp-content/uploads/2020/01/UCF-Jumelle-Pause-cafe_deb.png
END:VEVENT
BEGIN:VEVENT
DTSTART;TZID=Europe/Paris:20220307T183000
DTEND;TZID=Europe/Paris:20220307T200000
DTSTAMP:20260422T162826
CREATED:20220307T050810Z
LAST-MODIFIED:20220307T053605Z
UID:10677-1646677800-1646683200@uncafefrancais.com
SUMMARY:L'Apéro Débutants
DESCRIPTION:Too shy to speak French? So\, let’s meet one evening at the “apéro” in a café\, between us\, to start at your own pace… Oh\, yeah it’s a good way to start\, I promise! \n  \nConsumption not included
URL:https://uncafefrancais.com/en/agenda/apero-debutants-220307/
LOCATION:(Français) Les Associés\, 50\, Bd de la Bastille\, Parais\, 75012\, France
ATTACH;FMTTYPE=image/png:https://uncafefrancais.com/wp-content/uploads/2020/01/UCF-Jumelle-Apero_deb.png
END:VEVENT
BEGIN:VEVENT
DTSTART;TZID=Europe/Paris:20220227T150000
DTEND;TZID=Europe/Paris:20220227T170000
DTSTAMP:20260422T162826
CREATED:20220221T134124Z
LAST-MODIFIED:20220221T134810Z
UID:10638-1645974000-1645981200@uncafefrancais.com
SUMMARY:[:en]Workshop : Sketch a moment in Paris[:fr]Atelier Dessin : Croquez un moment français[:]
DESCRIPTION:2 hours to be a Manet-to-be or a Delacroix? Probably not\, but you will learn how to draw from a highly-skilled Parisian fine arts teacher\, learn more about art\, all while improving your french. Plus\, you’ll have a fresh perspective next time you visit the Musee d’Orsay. \nCome with your hands in your pockets : the material will be PROVIDED to you. \nConsumption not included
URL:https://uncafefrancais.com/en/agenda/220227-atelierdessin-croquezunmomentfrancais/
CATEGORIES:[:fr]Ateliers Débutants[:][:en]Beginner workshops[:],[:fr]Ateliers Intermédiaires[:][:en]Intermediate workshops[:],[:fr]Ateliers[:][:en]Workshops[:]
ATTACH;FMTTYPE=image/png:https://uncafefrancais.com/wp-content/uploads/2020/01/uncafefrancais_Atelier-Arts-Plastiques-Mains-compressor.png
END:VEVENT
BEGIN:VEVENT
DTSTART;TZID=Europe/Paris:20220214T183000
DTEND;TZID=Europe/Paris:20220214T200000
DTSTAMP:20260422T162826
CREATED:20220227T165154Z
LAST-MODIFIED:20220227T165154Z
UID:10645-1644863400-1644868800@uncafefrancais.com
SUMMARY:[:fr]L'Apéro Débutants[:]
DESCRIPTION:Too shy to speak French?So\, let’s meet one evening at the “apéro” in a café\, between us\, to start at your own pace… Oh\, yeah it’s a good way to start\, I promise! \n  \nConsumption not included
URL:https://uncafefrancais.com/en/agenda/apero-debutants-220214/
LOCATION:Les Associés\, 50\, Bd de la Bastille\, PARIS\, Île-de-France\, 75012\, France
ATTACH;FMTTYPE=image/png:https://uncafefrancais.com/wp-content/uploads/2020/01/UCF-Jumelle-Apero_deb.png
END:VEVENT
BEGIN:VEVENT
DTSTART;TZID=Europe/Paris:20220207T183000
DTEND;TZID=Europe/Paris:20220207T200000
DTSTAMP:20260422T162826
CREATED:20211006T093815Z
LAST-MODIFIED:20220223T150953Z
UID:10174-1644258600-1644264000@uncafefrancais.com
SUMMARY:L'Apéro Débutants
DESCRIPTION:Too shy to speak French? Okay\, let’s meet for an ‘apéro’ one evening to go at our own pace…Two hours is a pretty good start\, don’t you think? \n  \nConsumption not included
URL:https://uncafefrancais.com/en/agenda/apero-debutants-211101/
LOCATION:Les Associés\, 50\, Bd de la Bastille\, PARIS\, Île-de-France\, 75012\, France
CATEGORIES:[:fr]Apéros Débutants[:][:en]Beginner Apéros[:],[:fr]Groupes de conversations Débutants[:][:en]Beginner Conversation Groups[:],[:fr]Groupes de conversations[:][:en]Conversation Groups[:],Apéros
ATTACH;FMTTYPE=image/png:https://uncafefrancais.com/wp-content/uploads/2020/01/UCF-Jumelle-Apero_deb.png
END:VEVENT
BEGIN:VEVENT
DTSTART;TZID=Europe/Paris:20211125T140000
DTEND;TZID=Europe/Paris:20211125T153000
DTSTAMP:20260422T162826
CREATED:20211006T111603Z
LAST-MODIFIED:20211006T111603Z
UID:10228-1637848800-1637854200@uncafefrancais.com
SUMMARY:La Pause-Café Débutants
DESCRIPTION:We’ll meet in a café to speak French and on the way\, discover a new Parisian neighbourhood. Before you go\, we’ll work on one aspect of the French language to make it easier. A busy afternoon when you think about it. \nConsumption not included
URL:https://uncafefrancais.com/en/agenda/pausecafe-debutants-211125/
CATEGORIES:[:fr]Groupes de conversations Débutants[:][:en]Beginner Conversation Groups[:],[:fr]Groupes de conversations[:][:en]Conversation Groups[:],[:fr]Pauses-Café Débutants[:][:en]Beginner Pauses-Café[:],
ATTACH;FMTTYPE=image/png:https://uncafefrancais.com/wp-content/uploads/2020/01/UCF-Jumelle-Pause-cafe_deb.png
END:VEVENT
BEGIN:VEVENT
DTSTART;TZID=Europe/Paris:20211118T140000
DTEND;TZID=Europe/Paris:20211118T153000
DTSTAMP:20260422T162826
CREATED:20211006T111708Z
LAST-MODIFIED:20211006T111834Z
UID:10225-1637244000-1637249400@uncafefrancais.com
SUMMARY:La Pause-Café Débutants
DESCRIPTION:We’ll meet in a café to speak French and on the way\, discover a new Parisian neighbourhood. Before you go\, we’ll work on one aspect of the French language to make it easier. A busy afternoon when you think about it. \nConsumption not included
URL:https://uncafefrancais.com/en/agenda/pausecafe-debutants-211118/
CATEGORIES:[:fr]Groupes de conversations Débutants[:][:en]Beginner Conversation Groups[:],[:fr]Groupes de conversations[:][:en]Conversation Groups[:],[:fr]Pauses-Café Débutants[:][:en]Beginner Pauses-Café[:],
ATTACH;FMTTYPE=image/png:https://uncafefrancais.com/wp-content/uploads/2020/01/UCF-Jumelle-Pause-cafe_deb.png
END:VEVENT
BEGIN:VEVENT
DTSTART;TZID=Europe/Paris:20211111T140000
DTEND;TZID=Europe/Paris:20211111T153000
DTSTAMP:20260422T162826
CREATED:20211006T105934Z
LAST-MODIFIED:20211006T111716Z
UID:10190-1636639200-1636644600@uncafefrancais.com
SUMMARY:La Pause-Café Débutants
DESCRIPTION:We’ll meet in a café to speak French and on the way\, discover a new Parisian neighbourhood. Before you go\, we’ll work on one aspect of the French language to make it easier. A busy afternoon when you think about it. \nConsumption not included
URL:https://uncafefrancais.com/en/agenda/pausecafe-debutants-211111/
CATEGORIES:[:fr]Groupes de conversations Débutants[:][:en]Beginner Conversation Groups[:],[:fr]Groupes de conversations[:][:en]Conversation Groups[:],[:fr]Pauses-Café Débutants[:][:en]Beginner Pauses-Café[:],
ATTACH;FMTTYPE=image/png:https://uncafefrancais.com/wp-content/uploads/2020/01/UCF-Jumelle-Pause-cafe_deb.png
END:VEVENT
BEGIN:VEVENT
DTSTART;TZID=Europe/Paris:20211104T140000
DTEND;TZID=Europe/Paris:20211104T153000
DTSTAMP:20260422T162826
CREATED:20211006T104921Z
LAST-MODIFIED:20211006T104921Z
UID:10194-1636034400-1636039800@uncafefrancais.com
SUMMARY:La Pause-Café Débutants
DESCRIPTION:We’ll meet in a café to speak French and on the way\, discover a new Parisian neighbourhood. Before you go\, we’ll work on one aspect of the French language to make it easier. A busy afternoon when you think about it. \nConsumption not included
URL:https://uncafefrancais.com/en/agenda/pausecafe-debutants-211104/
CATEGORIES:[:fr]Groupes de conversations Débutants[:][:en]Beginner Conversation Groups[:],[:fr]Groupes de conversations[:][:en]Conversation Groups[:],[:fr]Pauses-Café Débutants[:][:en]Beginner Pauses-Café[:],
ATTACH;FMTTYPE=image/png:https://uncafefrancais.com/wp-content/uploads/2020/01/UCF-Jumelle-Pause-cafe_deb.png
END:VEVENT
BEGIN:VEVENT
DTSTART;TZID=Europe/Paris:20211028T140000
DTEND;TZID=Europe/Paris:20211028T153000
DTSTAMP:20260422T162826
CREATED:20211006T104647Z
LAST-MODIFIED:20211006T105226Z
UID:10200-1635429600-1635435000@uncafefrancais.com
SUMMARY:La Pause-Café Débutants
DESCRIPTION:We’ll meet in a café to speak French and on the way\, discover a new Parisian neighbourhood. Before you go\, we’ll work on one aspect of the French language to make it easier. A busy afternoon when you think about it. \nConsumption not included
URL:https://uncafefrancais.com/en/agenda/pausecafe-debutants-211028/
CATEGORIES:[:fr]Apéros Débutants[:][:en]Beginner Apéros[:],[:fr]Groupes de conversations Débutants[:][:en]Beginner Conversation Groups[:],[:fr]Groupes de conversations[:][:en]Conversation Groups[:],
ATTACH;FMTTYPE=image/png:https://uncafefrancais.com/wp-content/uploads/2020/01/UCF-Jumelle-Pause-cafe_deb.png
END:VEVENT
BEGIN:VEVENT
DTSTART;TZID=Europe/Paris:20211025T183000
DTEND;TZID=Europe/Paris:20211025T203000
DTSTAMP:20260422T162826
CREATED:20211006T093253Z
LAST-MODIFIED:20211006T093253Z
UID:10169-1635186600-1635193800@uncafefrancais.com
SUMMARY:L'Apéro Débutants
DESCRIPTION:Too shy to speak French? Okay\, let’s meet for an ‘apéro’ one evening to go at our own pace…Two hours is a pretty good start\, don’t you think? \n  \nConsumption not included
URL:https://uncafefrancais.com/en/agenda/apero-debutants-211025/
LOCATION:L’Etoile Manquante\, 34\, rue Vieille du Temple\, PARIS\, 75004\, France
CATEGORIES:[:fr]Apéros Débutants[:][:en]Beginner Apéros[:],[:fr]Groupes de conversations Débutants[:][:en]Beginner Conversation Groups[:],[:fr]Groupes de conversations[:][:en]Conversation Groups[:],Apéros
ATTACH;FMTTYPE=image/png:https://uncafefrancais.com/wp-content/uploads/2020/01/UCF-Jumelle-Apero_deb.png
END:VEVENT
BEGIN:VEVENT
DTSTART;TZID=Europe/Paris:20211021T140000
DTEND;TZID=Europe/Paris:20211021T153000
DTSTAMP:20260422T162826
CREATED:20211006T101905Z
LAST-MODIFIED:20211006T105507Z
UID:10193-1634824800-1634830200@uncafefrancais.com
SUMMARY:La Pause-Café Débutants
DESCRIPTION:We’ll meet in a café to speak French and on the way\, discover a new Parisian neighbourhood. Before you go\, we’ll work on one aspect of the French language to make it easier. A busy afternoon when you think about it. \nConsumption not included
URL:https://uncafefrancais.com/en/agenda/pausecafe-debutants-211021/
CATEGORIES:[:fr]Groupes de conversations Débutants[:][:en]Beginner Conversation Groups[:],[:fr]Groupes de conversations[:][:en]Conversation Groups[:],[:fr]Pauses-Café Débutants[:][:en]Beginner Pauses-Café[:],
ATTACH;FMTTYPE=image/png:https://uncafefrancais.com/wp-content/uploads/2020/01/UCF-Jumelle-Pause-cafe_deb.png
END:VEVENT
BEGIN:VEVENT
DTSTART;TZID=Europe/Paris:20211018T183000
DTEND;TZID=Europe/Paris:20211018T203000
DTSTAMP:20260422T162826
CREATED:20210829T175943Z
LAST-MODIFIED:20211006T090648Z
UID:9483-1634581800-1634589000@uncafefrancais.com
SUMMARY:L'Apéro Débutants
DESCRIPTION:Too shy to speak French? Okay\, let’s meet for an ‘apéro’ one evening to go at our own pace…Two hours is a pretty good start\, don’t you think? \n  \nConsumption not included
URL:https://uncafefrancais.com/en/agenda/apero-debutants-211018/
LOCATION:L’Etoile Manquante\, 34\, rue Vieille du Temple\, PARIS\, 75004\, France
CATEGORIES:[:fr]Apéros Débutants[:][:en]Beginner Apéros[:],[:fr]Groupes de conversations Débutants[:][:en]Beginner Conversation Groups[:],[:fr]Groupes de conversations[:][:en]Conversation Groups[:],Apéros
ATTACH;FMTTYPE=image/png:https://uncafefrancais.com/wp-content/uploads/2020/01/UCF-Jumelle-Apero_deb.png
END:VEVENT
BEGIN:VEVENT
DTSTART;TZID=Europe/Paris:20211014T140000
DTEND;TZID=Europe/Paris:20211014T153000
DTSTAMP:20260422T162826
CREATED:20211006T103846Z
LAST-MODIFIED:20211006T105656Z
UID:10188-1634220000-1634225400@uncafefrancais.com
SUMMARY:La Pause-Café Débutants
DESCRIPTION:We’ll meet in a café to speak French and on the way\, discover a new Parisian neighbourhood. Before you go\, we’ll work on one aspect of the French language to make it easier. A busy afternoon when you think about it. \nConsumption not included
URL:https://uncafefrancais.com/en/agenda/pausecafe-debutants-211014/
CATEGORIES:[:fr]Groupes de conversations Débutants[:][:en]Beginner Conversation Groups[:],[:fr]Groupes de conversations[:][:en]Conversation Groups[:],[:fr]Pauses-Café Débutants[:][:en]Beginner Pauses-Café[:],
ATTACH;FMTTYPE=image/png:https://uncafefrancais.com/wp-content/uploads/2020/01/UCF-Jumelle-Pause-cafe_deb.png
END:VEVENT
BEGIN:VEVENT
DTSTART;TZID=Europe/Paris:20211011T183000
DTEND;TZID=Europe/Paris:20211011T203000
DTSTAMP:20260422T162826
CREATED:20211006T093002Z
LAST-MODIFIED:20211006T093002Z
UID:10168-1633977000-1633984200@uncafefrancais.com
SUMMARY:L'Apéro Débutants
DESCRIPTION:Too shy to speak French? Okay\, let’s meet for an ‘apéro’ one evening to go at our own pace…Two hours is a pretty good start\, don’t you think? \n  \nConsumption not included
URL:https://uncafefrancais.com/en/agenda/apero-debutants-211011/
LOCATION:L’Etoile Manquante\, 34\, rue Vieille du Temple\, PARIS\, 75004\, France
CATEGORIES:[:fr]Apéros Débutants[:][:en]Beginner Apéros[:],[:fr]Groupes de conversations Débutants[:][:en]Beginner Conversation Groups[:],[:fr]Groupes de conversations[:][:en]Conversation Groups[:],Apéros
ATTACH;FMTTYPE=image/png:https://uncafefrancais.com/wp-content/uploads/2020/01/UCF-Jumelle-Apero_deb.png
END:VEVENT
BEGIN:VEVENT
DTSTART;TZID=Europe/Paris:20210923T140000
DTEND;TZID=Europe/Paris:20210923T153000
DTSTAMP:20260422T162826
CREATED:20210829T210541Z
LAST-MODIFIED:20210829T211922Z
UID:9546-1632405600-1632411000@uncafefrancais.com
SUMMARY:La Pause-Café Débutants
DESCRIPTION:We’ll meet in a café to speak French and on the way\, discover a new Parisian neighbourhood. Before you go\, we’ll work on one aspect of the French language to make it easier. A busy afternoon when you think about it. \nConsumption not included
URL:https://uncafefrancais.com/en/agenda/pausecafe-debutants-210923/
CATEGORIES:[:fr]Groupes de conversations Intermédiaires[:][:en]Intermediate Conversations Groups[:],[:fr]Groupes de conversations[:][:en]Conversation Groups[:],[:fr]Pauses-Café Débutants[:][:en]Beginner Pauses-Café[:],
ATTACH;FMTTYPE=image/png:https://uncafefrancais.com/wp-content/uploads/2020/01/UCF-Jumelle-Pause-cafe_deb.png
END:VEVENT
BEGIN:VEVENT
DTSTART;TZID=Europe/Paris:20210920T183000
DTEND;TZID=Europe/Paris:20210920T203000
DTSTAMP:20260422T162826
CREATED:20210829T175746Z
LAST-MODIFIED:20210829T190049Z
UID:9482-1632162600-1632169800@uncafefrancais.com
SUMMARY:L'Apéro Débutants
DESCRIPTION:Too shy to speak French? Okay\, let’s meet for an ‘apéro’ one evening to go at our own pace…Two hours is a pretty good start\, don’t you think? \n  \nConsumption not included
URL:https://uncafefrancais.com/en/agenda/apero-debutants-210920/
LOCATION:L’Etoile Manquante\, 34\, rue Vieille du Temple\, PARIS\, 75004\, France
CATEGORIES:[:fr]Apéros Débutants[:][:en]Beginner Apéros[:],[:fr]Groupes de conversations Débutants[:][:en]Beginner Conversation Groups[:],[:fr]Groupes de conversations[:][:en]Conversation Groups[:],Apéros
ATTACH;FMTTYPE=image/png:https://uncafefrancais.com/wp-content/uploads/2020/01/UCF-Jumelle-Apero_deb.png
END:VEVENT
BEGIN:VEVENT
DTSTART;TZID=Europe/Paris:20210916T140000
DTEND;TZID=Europe/Paris:20210916T153000
DTSTAMP:20260422T162826
CREATED:20210829T210431Z
LAST-MODIFIED:20210829T211923Z
UID:9544-1631800800-1631806200@uncafefrancais.com
SUMMARY:La Pause-Café Débutants
DESCRIPTION:We’ll meet in a café to speak French and on the way\, discover a new Parisian neighbourhood. Before you go\, we’ll work on one aspect of the French language to make it easier. A busy afternoon when you think about it. \nConsumption not included
URL:https://uncafefrancais.com/en/agenda/pausecafe-debutants-210916/
CATEGORIES:[:fr]Groupes de conversations Intermédiaires[:][:en]Intermediate Conversations Groups[:],[:fr]Groupes de conversations[:][:en]Conversation Groups[:],[:fr]Pauses-Café Débutants[:][:en]Beginner Pauses-Café[:],
ATTACH;FMTTYPE=image/png:https://uncafefrancais.com/wp-content/uploads/2020/01/UCF-Jumelle-Pause-cafe_deb.png
END:VEVENT
BEGIN:VEVENT
DTSTART;TZID=Europe/Paris:20210913T183000
DTEND;TZID=Europe/Paris:20210913T203000
DTSTAMP:20260422T162826
CREATED:20210829T175729Z
LAST-MODIFIED:20210829T190049Z
UID:9481-1631557800-1631565000@uncafefrancais.com
SUMMARY:L'Apéro Débutants
DESCRIPTION:Too shy to speak French? Okay\, let’s meet for an ‘apéro’ one evening to go at our own pace…Two hours is a pretty good start\, don’t you think? \n  \nConsumption not included
URL:https://uncafefrancais.com/en/agenda/apero-debutants-210913/
LOCATION:L’Etoile Manquante\, 34\, rue Vieille du Temple\, PARIS\, 75004\, France
CATEGORIES:[:fr]Apéros Débutants[:][:en]Beginner Apéros[:],[:fr]Groupes de conversations Débutants[:][:en]Beginner Conversation Groups[:],[:fr]Groupes de conversations[:][:en]Conversation Groups[:],Apéros
ATTACH;FMTTYPE=image/png:https://uncafefrancais.com/wp-content/uploads/2020/01/UCF-Jumelle-Apero_deb.png
END:VEVENT
BEGIN:VEVENT
DTSTART;TZID=Europe/Paris:20210909T140000
DTEND;TZID=Europe/Paris:20210909T153000
DTSTAMP:20260422T162826
CREATED:20210829T210401Z
LAST-MODIFIED:20210829T211923Z
UID:9545-1631196000-1631201400@uncafefrancais.com
SUMMARY:La Pause-Café Débutants
DESCRIPTION:We’ll meet in a café to speak French and on the way\, discover a new Parisian neighbourhood. Before you go\, we’ll work on one aspect of the French language to make it easier. A busy afternoon when you think about it. \nConsumption not included
URL:https://uncafefrancais.com/en/agenda/pausecafe-debutants-210909/
CATEGORIES:[:fr]Groupes de conversations Intermédiaires[:][:en]Intermediate Conversations Groups[:],[:fr]Groupes de conversations[:][:en]Conversation Groups[:],[:fr]Pauses-Café Débutants[:][:en]Beginner Pauses-Café[:],
ATTACH;FMTTYPE=image/png:https://uncafefrancais.com/wp-content/uploads/2020/01/UCF-Jumelle-Pause-cafe_deb.png
END:VEVENT
BEGIN:VEVENT
DTSTART;TZID=Europe/Paris:20210906T183000
DTEND;TZID=Europe/Paris:20210906T203000
DTSTAMP:20260422T162826
CREATED:20210829T175722Z
LAST-MODIFIED:20210829T190049Z
UID:9480-1630953000-1630960200@uncafefrancais.com
SUMMARY:L'Apéro Débutants
DESCRIPTION:Too shy to speak French? Okay\, let’s meet for an ‘apéro’ one evening to go at our own pace…Two hours is a pretty good start\, don’t you think? \n  \nConsumption not included
URL:https://uncafefrancais.com/en/agenda/apero-debutants-210906/
LOCATION:L’Etoile Manquante\, 34\, rue Vieille du Temple\, PARIS\, 75004\, France
CATEGORIES:[:fr]Apéros Débutants[:][:en]Beginner Apéros[:],[:fr]Groupes de conversations Débutants[:][:en]Beginner Conversation Groups[:],[:fr]Groupes de conversations[:][:en]Conversation Groups[:],Apéros
ATTACH;FMTTYPE=image/png:https://uncafefrancais.com/wp-content/uploads/2020/01/UCF-Jumelle-Apero_deb.png
END:VEVENT
BEGIN:VEVENT
DTSTART;TZID=Europe/Paris:20210902T140000
DTEND;TZID=Europe/Paris:20210902T153000
DTSTAMP:20260422T162826
CREATED:20210829T210256Z
LAST-MODIFIED:20210829T211923Z
UID:9522-1630591200-1630596600@uncafefrancais.com
SUMMARY:La Pause-Café Débutants
DESCRIPTION:We’ll meet in a café to speak French and on the way\, discover a new Parisian neighbourhood. Before you go\, we’ll work on one aspect of the French language to make it easier. A busy afternoon when you think about it. \nConsumption not included
URL:https://uncafefrancais.com/en/agenda/pausecafe-debutants-210902/
CATEGORIES:[:fr]Groupes de conversations Intermédiaires[:][:en]Intermediate Conversations Groups[:],[:fr]Groupes de conversations[:][:en]Conversation Groups[:],[:fr]Pauses-Café Débutants[:][:en]Beginner Pauses-Café[:],
ATTACH;FMTTYPE=image/png:https://uncafefrancais.com/wp-content/uploads/2020/01/UCF-Jumelle-Pause-cafe_deb.png
END:VEVENT
BEGIN:VEVENT
DTSTART;TZID=Europe/Paris:20210830T183000
DTEND;TZID=Europe/Paris:20210830T203000
DTSTAMP:20260422T162826
CREATED:20210724T203652Z
LAST-MODIFIED:20210724T203814Z
UID:9297-1630348200-1630355400@uncafefrancais.com
SUMMARY:L'Apéro Débutants
DESCRIPTION:Too shy to speak French? Okay\, let’s meet for an ‘apéro’ one evening to go at our own pace…Two hours is a pretty good start\, don’t you think? \n  \nConsumption not included
URL:https://uncafefrancais.com/en/agenda/apero-debutants-210830/
LOCATION:L’Etoile Manquante\, 34\, rue Vieille du Temple\, PARIS\, 75004\, France
CATEGORIES:[:fr]Apéros Débutants[:][:en]Beginner Apéros[:],[:fr]Groupes de conversations Débutants[:][:en]Beginner Conversation Groups[:],[:fr]Groupes de conversations[:][:en]Conversation Groups[:],Apéros
ATTACH;FMTTYPE=image/png:https://uncafefrancais.com/wp-content/uploads/2020/01/UCF-Jumelle-Apero_deb.png
END:VEVENT
END:VCALENDAR