BEGIN:VCALENDAR
VERSION:2.0
PRODID:-//Un Café Français - ECPv6.15.13.1//NONSGML v1.0//EN
CALSCALE:GREGORIAN
METHOD:PUBLISH
X-WR-CALNAME:Un Café Français
X-ORIGINAL-URL:https://uncafefrancais.com/en
X-WR-CALDESC:Events for Un Café Français
REFRESH-INTERVAL;VALUE=DURATION:PT1H
X-Robots-Tag:noindex
X-PUBLISHED-TTL:PT1H
BEGIN:VTIMEZONE
TZID:Europe/Paris
BEGIN:DAYLIGHT
TZOFFSETFROM:+0100
TZOFFSETTO:+0200
TZNAME:CEST
DTSTART:20190331T010000
END:DAYLIGHT
BEGIN:STANDARD
TZOFFSETFROM:+0200
TZOFFSETTO:+0100
TZNAME:CET
DTSTART:20191027T010000
END:STANDARD
BEGIN:DAYLIGHT
TZOFFSETFROM:+0100
TZOFFSETTO:+0200
TZNAME:CEST
DTSTART:20200329T010000
END:DAYLIGHT
BEGIN:STANDARD
TZOFFSETFROM:+0200
TZOFFSETTO:+0100
TZNAME:CET
DTSTART:20201025T010000
END:STANDARD
BEGIN:DAYLIGHT
TZOFFSETFROM:+0100
TZOFFSETTO:+0200
TZNAME:CEST
DTSTART:20210328T010000
END:DAYLIGHT
BEGIN:STANDARD
TZOFFSETFROM:+0200
TZOFFSETTO:+0100
TZNAME:CET
DTSTART:20211031T010000
END:STANDARD
BEGIN:DAYLIGHT
TZOFFSETFROM:+0100
TZOFFSETTO:+0200
TZNAME:CEST
DTSTART:20220327T010000
END:DAYLIGHT
BEGIN:STANDARD
TZOFFSETFROM:+0200
TZOFFSETTO:+0100
TZNAME:CET
DTSTART:20221030T010000
END:STANDARD
END:VTIMEZONE
BEGIN:VTIMEZONE
TZID:Europe/Paris
BEGIN:DAYLIGHT
TZOFFSETFROM:+0100
TZOFFSETTO:+0200
TZNAME:CEST
DTSTART:20190331T010000
END:DAYLIGHT
BEGIN:STANDARD
TZOFFSETFROM:+0200
TZOFFSETTO:+0100
TZNAME:CET
DTSTART:20191027T010000
END:STANDARD
BEGIN:DAYLIGHT
TZOFFSETFROM:+0100
TZOFFSETTO:+0200
TZNAME:CEST
DTSTART:20200329T010000
END:DAYLIGHT
BEGIN:STANDARD
TZOFFSETFROM:+0200
TZOFFSETTO:+0100
TZNAME:CET
DTSTART:20201025T010000
END:STANDARD
BEGIN:DAYLIGHT
TZOFFSETFROM:+0100
TZOFFSETTO:+0200
TZNAME:CEST
DTSTART:20210328T010000
END:DAYLIGHT
BEGIN:STANDARD
TZOFFSETFROM:+0200
TZOFFSETTO:+0100
TZNAME:CET
DTSTART:20211031T010000
END:STANDARD
END:VTIMEZONE
BEGIN:VEVENT
DTSTART;TZID=Europe/Paris:20210823T183000
DTEND;TZID=Europe/Paris:20210823T203000
DTSTAMP:20260422T204329
CREATED:20210724T204121Z
LAST-MODIFIED:20210724T204121Z
UID:9296-1629743400-1629750600@uncafefrancais.com
SUMMARY:L'Apéro Débutants
DESCRIPTION:Too shy to speak French? Okay\, let’s meet for an ‘apéro’ one evening to go at our own pace…Two hours is a pretty good start\, don’t you think? \n  \nConsumption not included
URL:https://uncafefrancais.com/en/agenda/apero-debutants-210823/
LOCATION:L’Etoile Manquante\, 34\, rue Vieille du Temple\, PARIS\, 75004\, France
CATEGORIES:[:fr]Apéros Débutants[:][:en]Beginner Apéros[:],[:fr]Groupes de conversations Débutants[:][:en]Beginner Conversation Groups[:],[:fr]Groupes de conversations[:][:en]Conversation Groups[:],Apéros
ATTACH;FMTTYPE=image/png:https://uncafefrancais.com/wp-content/uploads/2020/01/UCF-Jumelle-Apero_deb.png
END:VEVENT
BEGIN:VEVENT
DTSTART;TZID=Europe/Paris:20210816T183000
DTEND;TZID=Europe/Paris:20210816T203000
DTSTAMP:20260422T204329
CREATED:20210724T204455Z
LAST-MODIFIED:20210724T204455Z
UID:9295-1629138600-1629145800@uncafefrancais.com
SUMMARY:L'Apéro Débutants
DESCRIPTION:Too shy to speak French? Okay\, let’s meet for an ‘apéro’ one evening to go at our own pace…Two hours is a pretty good start\, don’t you think? \n  \nConsumption not included
URL:https://uncafefrancais.com/en/agenda/apero-debutants-210816/
LOCATION:L’Etoile Manquante\, 34\, rue Vieille du Temple\, PARIS\, 75004\, France
CATEGORIES:[:fr]Apéros Débutants[:][:en]Beginner Apéros[:],[:fr]Groupes de conversations Débutants[:][:en]Beginner Conversation Groups[:],[:fr]Groupes de conversations[:][:en]Conversation Groups[:],Apéros
ATTACH;FMTTYPE=image/png:https://uncafefrancais.com/wp-content/uploads/2020/01/UCF-Jumelle-Apero_deb.png
END:VEVENT
BEGIN:VEVENT
DTSTART;TZID=Europe/Paris:20210809T183000
DTEND;TZID=Europe/Paris:20210809T203000
DTSTAMP:20260422T204329
CREATED:20210724T201609Z
LAST-MODIFIED:20210724T204533Z
UID:9294-1628533800-1628541000@uncafefrancais.com
SUMMARY:L'Apéro Débutants
DESCRIPTION:Too shy to speak French? Okay\, let’s meet for an ‘apéro’ one evening to go at our own pace…Two hours is a pretty good start\, don’t you think? \n  \nConsumption not included
URL:https://uncafefrancais.com/en/agenda/apero-debutants-210809/
LOCATION:L’Etoile Manquante\, 34\, rue Vieille du Temple\, PARIS\, 75004\, France
CATEGORIES:[:fr]Apéros Débutants[:][:en]Beginner Apéros[:],[:fr]Groupes de conversations Débutants[:][:en]Beginner Conversation Groups[:],[:fr]Groupes de conversations[:][:en]Conversation Groups[:],Apéros
ATTACH;FMTTYPE=image/png:https://uncafefrancais.com/wp-content/uploads/2020/01/UCF-Jumelle-Apero_deb.png
END:VEVENT
BEGIN:VEVENT
DTSTART;TZID=Europe/Paris:20210802T183000
DTEND;TZID=Europe/Paris:20210802T203000
DTSTAMP:20260422T204329
CREATED:20210724T193359Z
LAST-MODIFIED:20210724T204552Z
UID:9284-1627929000-1627936200@uncafefrancais.com
SUMMARY:L'Apéro Débutants
DESCRIPTION:Too shy to speak French? Okay\, let’s meet for an ‘apéro’ one evening to go at our own pace…Two hours is a pretty good start\, don’t you think? \n  \nConsumption not included
URL:https://uncafefrancais.com/en/agenda/apero-debutants-210802/
LOCATION:L’Etoile Manquante\, 34\, rue Vieille du Temple\, PARIS\, 75004\, France
CATEGORIES:[:fr]Apéros Débutants[:][:en]Beginner Apéros[:],[:fr]Groupes de conversations Débutants[:][:en]Beginner Conversation Groups[:],[:fr]Groupes de conversations[:][:en]Conversation Groups[:],Apéros
ATTACH;FMTTYPE=image/png:https://uncafefrancais.com/wp-content/uploads/2020/01/UCF-Jumelle-Apero_deb.png
END:VEVENT
BEGIN:VEVENT
DTSTART;TZID=Europe/Paris:20210729T140000
DTEND;TZID=Europe/Paris:20210729T153000
DTSTAMP:20260422T204329
CREATED:20210630T010936Z
LAST-MODIFIED:20210630T165559Z
UID:8859-1627567200-1627572600@uncafefrancais.com
SUMMARY:La Pause-Café Débutants
DESCRIPTION:We’ll meet in a café to speak French and on the way\, discover a new Parisian neighbourhood. Before you go\, we’ll work on one aspect of the French language to make it easier. A busy afternoon when you think about it. \n  \n  \nConsumption not included
URL:https://uncafefrancais.com/en/agenda/pausecafe-debutants-210729/
CATEGORIES:[:fr]Groupes de conversations Débutants[:][:en]Beginner Conversation Groups[:],[:fr]Groupes de conversations[:][:en]Conversation Groups[:],[:fr]Pauses-Café Débutants[:][:en]Beginner Pauses-Café[:],
ATTACH;FMTTYPE=image/png:https://uncafefrancais.com/wp-content/uploads/2020/01/UCF-Jumelle-Pause-cafe_deb.png
END:VEVENT
BEGIN:VEVENT
DTSTART;TZID=Europe/Paris:20210726T183000
DTEND;TZID=Europe/Paris:20210726T203000
DTSTAMP:20260422T204329
CREATED:20210629T220537Z
LAST-MODIFIED:20210726T161850Z
UID:8823-1627324200-1627331400@uncafefrancais.com
SUMMARY:L'Apéro Débutants
DESCRIPTION:Too shy to speak French? Okay\, let’s meet for an ‘apéro’ one evening to go at our own pace…Two hours is a pretty good start\, don’t you think? \n  \nConsumption not included
URL:https://uncafefrancais.com/en/agenda/apero-debutants-210726/
LOCATION:L’Etoile Manquante\, 34\, rue Vieille du Temple\, PARIS\, 75004\, France
CATEGORIES:[:fr]Apéros Débutants[:][:en]Beginner Apéros[:],[:fr]Groupes de conversations Débutants[:][:en]Beginner Conversation Groups[:],[:fr]Groupes de conversations[:][:en]Conversation Groups[:],Apéros
ATTACH;FMTTYPE=image/png:https://uncafefrancais.com/wp-content/uploads/2020/01/UCF-Jumelle-Apero_deb.png
END:VEVENT
BEGIN:VEVENT
DTSTART;TZID=Europe/Paris:20210723T073000
DTEND;TZID=Europe/Paris:20210723T183000
DTSTAMP:20260422T204329
CREATED:20210701T140824Z
LAST-MODIFIED:20210701T212358Z
UID:8877-1627025400-1627065000@uncafefrancais.com
SUMMARY:Visite :  PROVINS - Tous niveaux
DESCRIPTION:This time\, Un Café Français offers you a free and exotic visit\, a nice day off. \nIndeed\, we leave Paris (but not its region) to discover together a very old city\, still full of history. \nThis visit is unguided : we will not have a guide\, which will allow us to go at our own pace\, to take breaks as we please\, to chat quietly in French. \nYou can come accompanied by non-French speakers: we will have more than the opportunity to speak French\, during this long day of French. But we will also be able to exchange in English to make their day as friendly as possible. Thus\, you will discover together another part of the French and European history. \nAlors\, on y va ? \n  \nTransports & consommations non-compris / Transportation & consumptions not included\nMinimum de participants / Minimum number of attendees : 1 \nPensez à vos masques et gel hydrohalcoolique / Think of your masks and hydrohalcoholic gel !!
URL:https://uncafefrancais.com/en/agenda/visite-provins210723/
LOCATION:PROVINS\, PROVINS\, Ile-de-France\, 77160\, France
CATEGORIES:[:fr]Visite[:][:en]Tours[:]
ATTACH;FMTTYPE=image/png:https://uncafefrancais.com/wp-content/uploads/2021/02/2019_IDF-Provins_jum.png
END:VEVENT
BEGIN:VEVENT
DTSTART;TZID=Europe/Paris:20210722T140000
DTEND;TZID=Europe/Paris:20210722T153000
DTSTAMP:20260422T204329
CREATED:20210630T124542Z
LAST-MODIFIED:20210630T165559Z
UID:8858-1626962400-1626967800@uncafefrancais.com
SUMMARY:La Pause-Café Débutants
DESCRIPTION:We’ll meet in a café to speak French and on the way\, discover a new Parisian neighbourhood. Before you go\, we’ll work on one aspect of the French language to make it easier. A busy afternoon when you think about it. \n  \n  \nConsumption not included
URL:https://uncafefrancais.com/en/agenda/pausecafe-debutants-210722/
CATEGORIES:[:fr]Groupes de conversations Débutants[:][:en]Beginner Conversation Groups[:],[:fr]Groupes de conversations[:][:en]Conversation Groups[:],[:fr]Pauses-Café Débutants[:][:en]Beginner Pauses-Café[:],
ATTACH;FMTTYPE=image/png:https://uncafefrancais.com/wp-content/uploads/2020/01/UCF-Jumelle-Pause-cafe_deb.png
END:VEVENT
BEGIN:VEVENT
DTSTART;TZID=Europe/Paris:20210719T183000
DTEND;TZID=Europe/Paris:20210719T203000
DTSTAMP:20260422T204329
CREATED:20210629T220602Z
LAST-MODIFIED:20210630T164506Z
UID:8822-1626719400-1626726600@uncafefrancais.com
SUMMARY:L'Apéro Débutants
DESCRIPTION:Too shy to speak French? Okay\, let’s meet for an ‘apéro’ one evening to go at our own pace…Two hours is a pretty good start\, don’t you think? \n  \nConsumption not included
URL:https://uncafefrancais.com/en/agenda/apero-debutants-210719/
LOCATION:L’Etoile Manquante\, 34\, rue Vieille du Temple\, PARIS\, 75004\, France
CATEGORIES:[:fr]Apéros Débutants[:][:en]Beginner Apéros[:],[:fr]Groupes de conversations Débutants[:][:en]Beginner Conversation Groups[:],[:fr]Groupes de conversations[:][:en]Conversation Groups[:],Apéros
ATTACH;FMTTYPE=image/png:https://uncafefrancais.com/wp-content/uploads/2020/01/UCF-Jumelle-Apero_deb.png
END:VEVENT
BEGIN:VEVENT
DTSTART;TZID=Europe/Paris:20210715T140000
DTEND;TZID=Europe/Paris:20210715T153000
DTSTAMP:20260422T204329
CREATED:20210630T011108Z
LAST-MODIFIED:20210630T165559Z
UID:8857-1626357600-1626363000@uncafefrancais.com
SUMMARY:La Pause-Café Débutants
DESCRIPTION:We’ll meet in a café to speak French and on the way\, discover a new Parisian neighbourhood. Before you go\, we’ll work on one aspect of the French language to make it easier. A busy afternoon when you think about it. \n  \n  \nConsumption not included
URL:https://uncafefrancais.com/en/agenda/pausecafe-debutants-210715/
CATEGORIES:[:fr]Groupes de conversations Débutants[:][:en]Beginner Conversation Groups[:],[:fr]Groupes de conversations[:][:en]Conversation Groups[:],[:fr]Pauses-Café Débutants[:][:en]Beginner Pauses-Café[:],
ATTACH;FMTTYPE=image/png:https://uncafefrancais.com/wp-content/uploads/2020/01/UCF-Jumelle-Pause-cafe_deb.png
END:VEVENT
BEGIN:VEVENT
DTSTART;TZID=Europe/Paris:20210712T183000
DTEND;TZID=Europe/Paris:20210712T203000
DTSTAMP:20260422T204329
CREATED:20210629T220617Z
LAST-MODIFIED:20210630T164506Z
UID:8821-1626114600-1626121800@uncafefrancais.com
SUMMARY:L'Apéro Débutants
DESCRIPTION:Too shy to speak French? Okay\, let’s meet for an ‘apéro’ one evening to go at our own pace…Two hours is a pretty good start\, don’t you think? \n  \nConsumption not included
URL:https://uncafefrancais.com/en/agenda/apero-debutants-210712/
LOCATION:L’Etoile Manquante\, 34\, rue Vieille du Temple\, PARIS\, 75004\, France
CATEGORIES:[:fr]Apéros Débutants[:][:en]Beginner Apéros[:],[:fr]Groupes de conversations Débutants[:][:en]Beginner Conversation Groups[:],[:fr]Groupes de conversations[:][:en]Conversation Groups[:],Apéros
ATTACH;FMTTYPE=image/png:https://uncafefrancais.com/wp-content/uploads/2020/01/UCF-Jumelle-Apero_deb.png
END:VEVENT
BEGIN:VEVENT
DTSTART;TZID=Europe/Paris:20210708T140000
DTEND;TZID=Europe/Paris:20210708T153000
DTSTAMP:20260422T204329
CREATED:20210630T005252Z
LAST-MODIFIED:20210630T165559Z
UID:8856-1625752800-1625758200@uncafefrancais.com
SUMMARY:La Pause-Café Débutants
DESCRIPTION:We’ll meet in a café to speak French and on the way\, discover a new Parisian neighbourhood. Before you go\, we’ll work on one aspect of the French language to make it easier. A busy afternoon when you think about it. \n  \n  \nConsumption not included
URL:https://uncafefrancais.com/en/agenda/pausecafe-debutants-210708/
CATEGORIES:[:fr]Groupes de conversations Débutants[:][:en]Beginner Conversation Groups[:],[:fr]Groupes de conversations[:][:en]Conversation Groups[:],[:fr]Pauses-Café Débutants[:][:en]Beginner Pauses-Café[:],
ATTACH;FMTTYPE=image/png:https://uncafefrancais.com/wp-content/uploads/2020/01/UCF-Jumelle-Pause-cafe_deb.png
END:VEVENT
BEGIN:VEVENT
DTSTART;TZID=Europe/Paris:20210705T183000
DTEND;TZID=Europe/Paris:20210705T203000
DTSTAMP:20260422T204329
CREATED:20210715T173000Z
LAST-MODIFIED:20210724T192202Z
UID:8813-1625509800-1625517000@uncafefrancais.com
SUMMARY:L'Apéro Débutants
DESCRIPTION:Too shy to speak French? Okay\, let’s meet for an ‘apéro’ one evening to go at our own pace…Two hours is a pretty good start\, don’t you think? \n  \nConsumption not included
URL:https://uncafefrancais.com/en/agenda/apero-debutants-210705/
LOCATION:L’Etoile Manquante\, 34\, rue Vieille du Temple\, PARIS\, 75004\, France
CATEGORIES:[:fr]Apéros Débutants[:][:en]Beginner Apéros[:],[:fr]Groupes de conversations Débutants[:][:en]Beginner Conversation Groups[:],[:fr]Groupes de conversations[:][:en]Conversation Groups[:],Apéros
ATTACH;FMTTYPE=image/png:https://uncafefrancais.com/wp-content/uploads/2020/01/UCF-Jumelle-Apero_deb.png
END:VEVENT
BEGIN:VEVENT
DTSTART;TZID=Europe/Paris:20201230T093000
DTEND;TZID=Europe/Paris:20201230T110000
DTSTAMP:20260422T204329
CREATED:20201129T184610Z
LAST-MODIFIED:20210630T164655Z
UID:7603-1609320600-1609326000@uncafefrancais.com
SUMMARY:Le P’tit Déj’ Débutants - [:fr]EN LIGNE[:][:en]ONLINE[:]
DESCRIPTION:Breakfast is an essential part of the day. So why not start the day with a wonderful conversation in French to feel good ?! A happy way to start the day ! \n  \nConsumption not included
URL:https://uncafefrancais.com/en/agenda/eptitdej-debutants-201230/
CATEGORIES:[:fr]Groupes de conversations Débutants[:][:en]Beginner Conversation Groups[:],[:fr]Groupes de conversations[:][:en]Conversation Groups[:],[:fr]P'tits Déj' Débutants[:][:en]Beginner Breakfasts[:],P'tits Déj'
ATTACH;FMTTYPE=image/png:https://uncafefrancais.com/wp-content/uploads/2020/08/FormuleConversGrammCompress.png
END:VEVENT
BEGIN:VEVENT
DTSTART;TZID=Europe/Paris:20201223T093000
DTEND;TZID=Europe/Paris:20201223T110000
DTSTAMP:20260422T204329
CREATED:20201129T184030Z
LAST-MODIFIED:20210630T164655Z
UID:7604-1608715800-1608721200@uncafefrancais.com
SUMMARY:Le P’tit Déj’ Débutants - [:fr]EN LIGNE[:][:en]ONLINE[:]
DESCRIPTION:Breakfast is an essential part of the day. So why not start the day with a wonderful conversation in French to feel good ?! A happy way to start the day ! \n  \nConsumption not included
URL:https://uncafefrancais.com/en/agenda/eptitdej-debutants-201223/
CATEGORIES:[:fr]Groupes de conversations Débutants[:][:en]Beginner Conversation Groups[:],[:fr]Groupes de conversations[:][:en]Conversation Groups[:],[:fr]P'tits Déj' Débutants[:][:en]Beginner Breakfasts[:],P'tits Déj'
ATTACH;FMTTYPE=image/png:https://uncafefrancais.com/wp-content/uploads/2020/08/FormuleConversGrammCompress.png
END:VEVENT
BEGIN:VEVENT
DTSTART;TZID=Europe/Paris:20201216T093000
DTEND;TZID=Europe/Paris:20201216T110000
DTSTAMP:20260422T204329
CREATED:20201129T183307Z
LAST-MODIFIED:20210630T172940Z
UID:7605-1608111000-1608116400@uncafefrancais.com
SUMMARY:Le P’tit Déj’ Débutants - [:fr]EN LIGNE[:][:en]ONLINE[:]
DESCRIPTION:Breakfast is an essential part of the day. So why not start the day with a wonderful conversation in French to feel good ?! A happy way to start the day ! \nConsumption not included
URL:https://uncafefrancais.com/en/agenda/eptitdej-debutants-201216/
CATEGORIES:[:fr]Groupes de conversations Débutants[:][:en]Beginner Conversation Groups[:],[:fr]Groupes de conversations[:][:en]Conversation Groups[:],[:fr]P'tits Déj' Débutants[:][:en]Beginner Breakfasts[:],P'tits Déj'
ATTACH;FMTTYPE=image/png:https://uncafefrancais.com/wp-content/uploads/2020/08/FormuleConversGrammCompress.png
END:VEVENT
BEGIN:VEVENT
DTSTART;TZID=Europe/Paris:20201202T093000
DTEND;TZID=Europe/Paris:20201202T110000
DTSTAMP:20260422T204329
CREATED:20201129T200235Z
LAST-MODIFIED:20210630T164655Z
UID:7607-1606901400-1606906800@uncafefrancais.com
SUMMARY:Le P’tit Déj’ Débutants - [:fr]EN LIGNE[:][:en]ONLINE[:]
DESCRIPTION:What would you have for breakfast? A comforting cup of tea or coffee\, a friendly conversation in French and a shot of good humour? A good way to start the day. \n  \nConsumption not included
URL:https://uncafefrancais.com/en/agenda/eptitdej-debutants-201202/
CATEGORIES:[:fr]Groupes de conversations Débutants[:][:en]Beginner Conversation Groups[:],[:fr]Groupes de conversations[:][:en]Conversation Groups[:],[:fr]P'tits Déj' Débutants[:][:en]Beginner Breakfasts[:],P'tits Déj'
ATTACH;FMTTYPE=image/png:https://uncafefrancais.com/wp-content/uploads/2020/08/FormuleConversGrammCompress.png
END:VEVENT
BEGIN:VEVENT
DTSTART;TZID=Europe/Paris:20201130T183000
DTEND;TZID=Europe/Paris:20201130T193000
DTSTAMP:20260422T204329
CREATED:20201009T151123Z
LAST-MODIFIED:20210630T164507Z
UID:6922-1606761000-1606764600@uncafefrancais.com
SUMMARY:L'Apéro Débutants - [:fr]EN LIGNE[:][:en]ONLINE[:]
DESCRIPTION:Too shy to speak French? Okay\, let’s meet for an ‘apéro’ one evening to go at our own pace…Two hours is a pretty good start\, don’t you think? \n  \nConsumption not included
URL:https://uncafefrancais.com/en/agenda/apero-debutants-201130/
CATEGORIES:[:fr]Apéros Débutants[:][:en]Beginner Apéros[:],[:fr]Groupes de conversations Débutants[:][:en]Beginner Conversation Groups[:],[:fr]Groupes de conversations[:][:en]Conversation Groups[:],Apéros
END:VEVENT
BEGIN:VEVENT
DTSTART;TZID=Europe/Paris:20201126T140000
DTEND;TZID=Europe/Paris:20201126T153000
DTSTAMP:20260422T204329
CREATED:20201030T151705Z
LAST-MODIFIED:20210630T165600Z
UID:7247-1606399200-1606404600@uncafefrancais.com
SUMMARY:La Pause-Café Débutants - [:fr]EN LIGNE[:][:en]ONLINE[:]
DESCRIPTION:What would you have for breakfast? A comforting cup of tea or coffee\, a friendly conversation in French and a shot of good humour? A good way to start the day. \n  \nConsumption not included
URL:https://uncafefrancais.com/en/agenda/epausecafe-debutants-201126/
CATEGORIES:[:fr]Groupes de conversations Débutants[:][:en]Beginner Conversation Groups[:],[:fr]Groupes de conversations[:][:en]Conversation Groups[:],[:fr]Pauses-Café Débutants[:][:en]Beginner Pauses-Café[:],
END:VEVENT
BEGIN:VEVENT
DTSTART;TZID=Europe/Paris:20201125T194500
DTEND;TZID=Europe/Paris:20201125T204500
DTSTAMP:20260422T204329
CREATED:20201029T220517Z
LAST-MODIFIED:20210630T164507Z
UID:7141-1606333500-1606337100@uncafefrancais.com
SUMMARY:L'Apéro Débutants - [:fr]EN LIGNE[:][:en]ONLINE[:]
DESCRIPTION:Too shy to speak French? Okay\, let’s meet for an ‘apéro’ one evening to go at our own pace…Two hours is a pretty good start\, don’t you think? \n  \nConsumption not included
URL:https://uncafefrancais.com/en/agenda/eapero-debutants-201125/
CATEGORIES:[:fr]Apéros Débutants[:][:en]Beginner Apéros[:],[:fr]Groupes de conversations Débutants[:][:en]Beginner Conversation Groups[:],[:fr]Groupes de conversations[:][:en]Conversation Groups[:],Apéros
END:VEVENT
BEGIN:VEVENT
DTSTART;TZID=Europe/Paris:20201125T093000
DTEND;TZID=Europe/Paris:20201125T110000
DTSTAMP:20260422T204329
CREATED:20201030T163051Z
LAST-MODIFIED:20210630T164655Z
UID:7287-1606296600-1606302000@uncafefrancais.com
SUMMARY:Le P’tit Déj’ Débutants - [:fr]EN LIGNE[:][:en]ONLINE[:]
DESCRIPTION:What would you have for breakfast? A comforting cup of tea or coffee\, a friendly conversation in French and a shot of good humour? A good way to start the day. \n  \nConsumption not included
URL:https://uncafefrancais.com/en/agenda/eptitdej-debutants-201125/
CATEGORIES:[:fr]Groupes de conversations Débutants[:][:en]Beginner Conversation Groups[:],[:fr]Groupes de conversations[:][:en]Conversation Groups[:],[:fr]P'tits Déj' Débutants[:][:en]Beginner Breakfasts[:],P'tits Déj'
ATTACH;FMTTYPE=image/png:https://uncafefrancais.com/wp-content/uploads/2020/08/FormuleConversGrammCompress.png
END:VEVENT
BEGIN:VEVENT
DTSTART;TZID=Europe/Paris:20201123T183000
DTEND;TZID=Europe/Paris:20201123T193000
DTSTAMP:20260422T204329
CREATED:20201009T150317Z
LAST-MODIFIED:20210630T164507Z
UID:6917-1606156200-1606159800@uncafefrancais.com
SUMMARY:L'Apéro Débutants - [:fr]EN LIGNE[:][:en]ONLINE[:]
DESCRIPTION:Too shy to speak French? Okay\, let’s meet for an ‘apéro’ one evening to go at our own pace…Two hours is a pretty good start\, don’t you think? \n  \nConsumption not included
URL:https://uncafefrancais.com/en/agenda/apero-debutants-201123/
CATEGORIES:[:fr]Apéros Débutants[:][:en]Beginner Apéros[:],[:fr]Groupes de conversations Débutants[:][:en]Beginner Conversation Groups[:],[:fr]Groupes de conversations[:][:en]Conversation Groups[:],Apéros
END:VEVENT
BEGIN:VEVENT
DTSTART;TZID=Europe/Paris:20201119T140000
DTEND;TZID=Europe/Paris:20201119T153000
DTSTAMP:20260422T204329
CREATED:20201030T151713Z
LAST-MODIFIED:20210630T165600Z
UID:7249-1605794400-1605799800@uncafefrancais.com
SUMMARY:La Pause-Café Débutants - [:fr]EN LIGNE[:][:en]ONLINE[:]
DESCRIPTION:We’ll meet in a café to speak French and on the way\, discover a new Parisian neighbourhood. Before you go\, we’ll work on one aspect of the French language to make it easier. A busy afternoon when you think about it. \n  \nConsumption not included
URL:https://uncafefrancais.com/en/agenda/epausecafe-debutants-201119/
CATEGORIES:[:fr]Groupes de conversations Débutants[:][:en]Beginner Conversation Groups[:],[:fr]Groupes de conversations[:][:en]Conversation Groups[:],[:fr]Pauses-Café Débutants[:][:en]Beginner Pauses-Café[:],
END:VEVENT
BEGIN:VEVENT
DTSTART;TZID=Europe/Paris:20201118T194500
DTEND;TZID=Europe/Paris:20201118T204500
DTSTAMP:20260422T204329
CREATED:20201029T203752Z
LAST-MODIFIED:20210630T164507Z
UID:7120-1605728700-1605732300@uncafefrancais.com
SUMMARY:L'Apéro Débutants - [:fr]EN LIGNE[:][:en]ONLINE[:]
DESCRIPTION:Too shy to speak French? Okay\, let’s meet for an ‘apéro’ one evening to go at our own pace…Two hours is a pretty good start\, don’t you think? \n  \nConsumption not included
URL:https://uncafefrancais.com/en/agenda/eapero-debutants-201118/
CATEGORIES:[:fr]Apéros Débutants[:][:en]Beginner Apéros[:],[:fr]Groupes de conversations Débutants[:][:en]Beginner Conversation Groups[:],[:fr]Groupes de conversations[:][:en]Conversation Groups[:],Apéros
END:VEVENT
BEGIN:VEVENT
DTSTART;TZID=Europe/Paris:20201118T093000
DTEND;TZID=Europe/Paris:20201118T110000
DTSTAMP:20260422T204329
CREATED:20201030T161055Z
LAST-MODIFIED:20210630T164655Z
UID:7200-1605691800-1605697200@uncafefrancais.com
SUMMARY:Le P’tit Déj’ Débutants - [:fr]EN LIGNE[:][:en]ONLINE[:]
DESCRIPTION:What would you have for breakfast? A comforting cup of tea or coffee\, a friendly conversation in French and a shot of good humour? A good way to start the day. \n  \nConsumption not included
URL:https://uncafefrancais.com/en/agenda/eptitdej-debutants-201118/
CATEGORIES:[:fr]Groupes de conversations Débutants[:][:en]Beginner Conversation Groups[:],[:fr]Groupes de conversations[:][:en]Conversation Groups[:],[:fr]P'tits Déj' Débutants[:][:en]Beginner Breakfasts[:],P'tits Déj'
END:VEVENT
BEGIN:VEVENT
DTSTART;TZID=Europe/Paris:20201116T183000
DTEND;TZID=Europe/Paris:20201116T193000
DTSTAMP:20260422T204329
CREATED:20201009T145645Z
LAST-MODIFIED:20210630T164507Z
UID:6918-1605551400-1605555000@uncafefrancais.com
SUMMARY:L'Apéro Débutants - [:fr]EN LIGNE[:][:en]ONLINE[:]
DESCRIPTION:Too shy to speak French? Okay\, let’s meet for an ‘apéro’ one evening to go at our own pace…Two hours is a pretty good start\, don’t you think? \n  \nConsumption not included
URL:https://uncafefrancais.com/en/agenda/apero-debutants-201116/
CATEGORIES:[:fr]Apéros Débutants[:][:en]Beginner Apéros[:],[:fr]Groupes de conversations Débutants[:][:en]Beginner Conversation Groups[:],[:fr]Groupes de conversations[:][:en]Conversation Groups[:],Apéros
END:VEVENT
BEGIN:VEVENT
DTSTART;TZID=Europe/Paris:20201111T194500
DTEND;TZID=Europe/Paris:20201111T204500
DTSTAMP:20260422T204329
CREATED:20201029T204419Z
LAST-MODIFIED:20210630T164507Z
UID:7122-1605123900-1605127500@uncafefrancais.com
SUMMARY:L'Apéro Débutants - [:fr]EN LIGNE[:][:en]ONLINE[:]
DESCRIPTION:Too shy to speak French? Okay\, let’s meet for an ‘apéro’ one evening to go at our own pace…Two hours is a pretty good start\, don’t you think? \n  \nConsumption not included
URL:https://uncafefrancais.com/en/agenda/eapero-debutants-201111/
CATEGORIES:[:fr]Apéros Débutants[:][:en]Beginner Apéros[:],[:fr]Groupes de conversations Débutants[:][:en]Beginner Conversation Groups[:],[:fr]Groupes de conversations[:][:en]Conversation Groups[:],Apéros
END:VEVENT
BEGIN:VEVENT
DTSTART;TZID=Europe/Paris:20201111T093000
DTEND;TZID=Europe/Paris:20201111T110000
DTSTAMP:20260422T204329
CREATED:20201030T163054Z
LAST-MODIFIED:20210630T164655Z
UID:7289-1605087000-1605092400@uncafefrancais.com
SUMMARY:Le P’tit Déj’ Débutants - [:fr]EN LIGNE[:][:en]ONLINE[:]
DESCRIPTION:What would you have for breakfast? A comforting cup of tea or coffee\, a friendly conversation in French and a shot of good humour? A good way to start the day. \n  \nConsumption not included
URL:https://uncafefrancais.com/en/agenda/eptitdej-debutants-201111/
CATEGORIES:[:fr]Groupes de conversations Débutants[:][:en]Beginner Conversation Groups[:],[:fr]Groupes de conversations[:][:en]Conversation Groups[:],[:fr]P'tits Déj' Débutants[:][:en]Beginner Breakfasts[:],P'tits Déj'
ATTACH;FMTTYPE=image/png:https://uncafefrancais.com/wp-content/uploads/2020/08/FormuleConversGrammCompress.png
END:VEVENT
BEGIN:VEVENT
DTSTART;TZID=Europe/Paris:20201109T183000
DTEND;TZID=Europe/Paris:20201109T193000
DTSTAMP:20260422T204329
CREATED:20201009T142639Z
LAST-MODIFIED:20210630T164507Z
UID:6919-1604946600-1604950200@uncafefrancais.com
SUMMARY:L'Apéro Débutants - [:fr]EN LIGNE[:][:en]ONLINE[:]
DESCRIPTION:Too shy to speak French? Okay\, let’s meet for an ‘apéro’ one evening to go at our own pace…Two hours is a pretty good start\, don’t you think? \n  \nConsumption not included
URL:https://uncafefrancais.com/en/agenda/apero-debutants-201109/
LOCATION:Lundi Apéro Zoom Déb.
CATEGORIES:[:fr]Apéros Débutants[:][:en]Beginner Apéros[:],[:fr]Groupes de conversations Débutants[:][:en]Beginner Conversation Groups[:],[:fr]Groupes de conversations[:][:en]Conversation Groups[:],Apéros
END:VEVENT
BEGIN:VEVENT
DTSTART;TZID=Europe/Paris:20201105T140000
DTEND;TZID=Europe/Paris:20201105T153000
DTSTAMP:20260422T204329
CREATED:20201030T141700Z
LAST-MODIFIED:20210630T165600Z
UID:7202-1604584800-1604590200@uncafefrancais.com
SUMMARY:La Pause-Café Débutants - [:fr]EN LIGNE[:][:en]ONLINE[:]
DESCRIPTION:We’ll meet in a café to speak French and on the way\, discover a new Parisian neighbourhood. Before you go\, we’ll work on one aspect of the French language to make it easier. A busy afternoon when you think about it. \n  \nConsumption not included
URL:https://uncafefrancais.com/en/agenda/epausecafe-debutants-201105/
CATEGORIES:[:fr]Groupes de conversations Débutants[:][:en]Beginner Conversation Groups[:],[:fr]Groupes de conversations[:][:en]Conversation Groups[:],[:fr]Pauses-Café Débutants[:][:en]Beginner Pauses-Café[:],
END:VEVENT
END:VCALENDAR