BEGIN:VCALENDAR
VERSION:2.0
PRODID:-//Un Café Français - ECPv6.15.13.1//NONSGML v1.0//EN
CALSCALE:GREGORIAN
METHOD:PUBLISH
X-ORIGINAL-URL:https://uncafefrancais.com
X-WR-CALDESC:Évènements pour Un Café Français
REFRESH-INTERVAL;VALUE=DURATION:PT1H
X-Robots-Tag:noindex
X-PUBLISHED-TTL:PT1H
BEGIN:VTIMEZONE
TZID:Europe/Paris
BEGIN:DAYLIGHT
TZOFFSETFROM:+0100
TZOFFSETTO:+0200
TZNAME:CEST
DTSTART:20190331T010000
END:DAYLIGHT
BEGIN:STANDARD
TZOFFSETFROM:+0200
TZOFFSETTO:+0100
TZNAME:CET
DTSTART:20191027T010000
END:STANDARD
BEGIN:DAYLIGHT
TZOFFSETFROM:+0100
TZOFFSETTO:+0200
TZNAME:CEST
DTSTART:20200329T010000
END:DAYLIGHT
BEGIN:STANDARD
TZOFFSETFROM:+0200
TZOFFSETTO:+0100
TZNAME:CET
DTSTART:20201025T010000
END:STANDARD
BEGIN:DAYLIGHT
TZOFFSETFROM:+0100
TZOFFSETTO:+0200
TZNAME:CEST
DTSTART:20210328T010000
END:DAYLIGHT
BEGIN:STANDARD
TZOFFSETFROM:+0200
TZOFFSETTO:+0100
TZNAME:CET
DTSTART:20211031T010000
END:STANDARD
END:VTIMEZONE
BEGIN:VEVENT
DTSTART;TZID=Europe/Paris:20200824T183000
DTEND;TZID=Europe/Paris:20200824T203000
DTSTAMP:20260423T091003
CREATED:20200801T180114Z
LAST-MODIFIED:20200801T180114Z
UID:5968-1598293800-1598301000@uncafefrancais.com
SUMMARY:L'Apéro Débutants
DESCRIPTION:
URL:https://uncafefrancais.com/agenda/apero-debutants-200824/
CATEGORIES:[:fr]Apéros Débutants[:][:en]Beginner Apéros[:],[:fr]Groupes de conversations Débutants[:][:en]Beginner Conversation Groups[:],[:fr]Groupes de conversations[:][:en]Conversation Groups[:],Apéros
ATTACH;FMTTYPE=image/png:https://uncafefrancais.com/wp-content/uploads/2020/01/UCF-Jumelle-Apero_deb.png
END:VEVENT
BEGIN:VEVENT
DTSTART;TZID=Europe/Paris:20200820T140000
DTEND;TZID=Europe/Paris:20200820T153000
DTSTAMP:20260423T091003
CREATED:20200729T193329Z
LAST-MODIFIED:20210630T165601Z
UID:5919-1597932000-1597937400@uncafefrancais.com
SUMMARY:La Pause-Café Débutants
DESCRIPTION:
URL:https://uncafefrancais.com/agenda/pausecafe-debutants-200820/
CATEGORIES:[:fr]Groupes de conversations Débutants[:][:en]Beginner Conversation Groups[:],[:fr]Groupes de conversations[:][:en]Conversation Groups[:],[:fr]Pauses-Café Débutants[:][:en]Beginner Pauses-Café[:],Pauses-Café
ATTACH;FMTTYPE=image/png:https://uncafefrancais.com/wp-content/uploads/2020/01/UCF-Jumelle-Pause-cafe_deb.png
END:VEVENT
BEGIN:VEVENT
DTSTART;TZID=Europe/Paris:20200819T093000
DTEND;TZID=Europe/Paris:20200819T110000
DTSTAMP:20260423T091003
CREATED:20200728T112219Z
LAST-MODIFIED:20210630T164656Z
UID:5714-1597829400-1597834800@uncafefrancais.com
SUMMARY:Le P’tit Déj’ Débutants
DESCRIPTION:
URL:https://uncafefrancais.com/agenda/ptitdej-debutants-20081919/
CATEGORIES:[:fr]Groupes de conversations Débutants[:][:en]Beginner Conversation Groups[:],[:fr]Groupes de conversations[:][:en]Conversation Groups[:],[:fr]P'tits Déj' Débutants[:][:en]Beginner Breakfasts[:],P'tits Déj'
ATTACH;FMTTYPE=image/png:https://uncafefrancais.com/wp-content/uploads/2020/01/UCF-Jumelle-Pti-Déj_deb.png
END:VEVENT
BEGIN:VEVENT
DTSTART;TZID=Europe/Paris:20200817T183000
DTEND;TZID=Europe/Paris:20200817T203000
DTSTAMP:20260423T091003
CREATED:20200801T191606Z
LAST-MODIFIED:20210630T164508Z
UID:5967-1597689000-1597696200@uncafefrancais.com
SUMMARY:L'Apéro Débutants
DESCRIPTION:
URL:https://uncafefrancais.com/agenda/apero-debutants-200817/
CATEGORIES:[:fr]Apéros Débutants[:][:en]Beginner Apéros[:],[:fr]Groupes de conversations Débutants[:][:en]Beginner Conversation Groups[:],[:fr]Groupes de conversations[:][:en]Conversation Groups[:],Apéros
ATTACH;FMTTYPE=image/png:https://uncafefrancais.com/wp-content/uploads/2020/01/UCF-Jumelle-Apero_deb.png
END:VEVENT
BEGIN:VEVENT
DTSTART;TZID=Europe/Paris:20200813T140000
DTEND;TZID=Europe/Paris:20200813T153000
DTSTAMP:20260423T091003
CREATED:20200729T192100Z
LAST-MODIFIED:20210630T165601Z
UID:5914-1597327200-1597332600@uncafefrancais.com
SUMMARY:La Pause-Café Débutants
DESCRIPTION:
URL:https://uncafefrancais.com/agenda/pausecafe-debutants-200813/
CATEGORIES:[:fr]Groupes de conversations Débutants[:][:en]Beginner Conversation Groups[:],[:fr]Groupes de conversations[:][:en]Conversation Groups[:],[:fr]Pauses-Café Débutants[:][:en]Beginner Pauses-Café[:],Pauses-Café
ATTACH;FMTTYPE=image/png:https://uncafefrancais.com/wp-content/uploads/2020/01/UCF-Jumelle-Pause-cafe_deb.png
END:VEVENT
BEGIN:VEVENT
DTSTART;TZID=Europe/Paris:20200812T093000
DTEND;TZID=Europe/Paris:20200812T110000
DTSTAMP:20260423T091003
CREATED:20200728T112450Z
LAST-MODIFIED:20210630T164656Z
UID:5713-1597224600-1597230000@uncafefrancais.com
SUMMARY:Le P’tit Déj’ Débutants
DESCRIPTION:
URL:https://uncafefrancais.com/agenda/ptitdej-debutants-200812/
CATEGORIES:[:fr]Groupes de conversations Débutants[:][:en]Beginner Conversation Groups[:],[:fr]Groupes de conversations[:][:en]Conversation Groups[:],[:fr]P'tits Déj' Débutants[:][:en]Beginner Breakfasts[:],P'tits Déj'
ATTACH;FMTTYPE=image/png:https://uncafefrancais.com/wp-content/uploads/2020/01/UCF-Jumelle-Pti-Déj_deb.png
END:VEVENT
BEGIN:VEVENT
DTSTART;TZID=Europe/Paris:20200810T183000
DTEND;TZID=Europe/Paris:20200810T203000
DTSTAMP:20260423T091003
CREATED:20200801T175240Z
LAST-MODIFIED:20200801T175240Z
UID:5966-1597084200-1597091400@uncafefrancais.com
SUMMARY:L'Apéro Débutants
DESCRIPTION:
URL:https://uncafefrancais.com/agenda/apero-debutants-200810/
CATEGORIES:[:fr]Apéros Débutants[:][:en]Beginner Apéros[:],[:fr]Groupes de conversations Débutants[:][:en]Beginner Conversation Groups[:],[:fr]Groupes de conversations[:][:en]Conversation Groups[:],Apéros
ATTACH;FMTTYPE=image/png:https://uncafefrancais.com/wp-content/uploads/2020/01/UCF-Jumelle-Apero_deb.png
END:VEVENT
BEGIN:VEVENT
DTSTART;TZID=Europe/Paris:20200806T140000
DTEND;TZID=Europe/Paris:20200806T153000
DTSTAMP:20260423T091003
CREATED:20200729T191245Z
LAST-MODIFIED:20200729T192727Z
UID:5912-1596722400-1596727800@uncafefrancais.com
SUMMARY:La Pause-Café Débutants
DESCRIPTION:
URL:https://uncafefrancais.com/agenda/pausecafe-debutants-200806/
CATEGORIES:[:fr]Groupes de conversations Débutants[:][:en]Beginner Conversation Groups[:],[:fr]Groupes de conversations[:][:en]Conversation Groups[:],[:fr]Pauses-Café Débutants[:][:en]Beginner Pauses-Café[:],Pauses-Café
ATTACH;FMTTYPE=image/png:https://uncafefrancais.com/wp-content/uploads/2020/01/UCF-Jumelle-Pause-cafe_deb.png
END:VEVENT
BEGIN:VEVENT
DTSTART;TZID=Europe/Paris:20200805T093000
DTEND;TZID=Europe/Paris:20200805T110000
DTSTAMP:20260423T091003
CREATED:20200728T112923Z
LAST-MODIFIED:20210630T164656Z
UID:5711-1596619800-1596625200@uncafefrancais.com
SUMMARY:Le P’tit Déj’ Débutants
DESCRIPTION:
URL:https://uncafefrancais.com/agenda/ptitdej-debutants-200805/
CATEGORIES:[:fr]Groupes de conversations Débutants[:][:en]Beginner Conversation Groups[:],[:fr]Groupes de conversations[:][:en]Conversation Groups[:],[:fr]P'tits Déj' Débutants[:][:en]Beginner Breakfasts[:],P'tits Déj'
ATTACH;FMTTYPE=image/png:https://uncafefrancais.com/wp-content/uploads/2020/01/UCF-Jumelle-Pti-Déj_deb.png
END:VEVENT
BEGIN:VEVENT
DTSTART;TZID=Europe/Paris:20200803T183000
DTEND;TZID=Europe/Paris:20200803T203000
DTSTAMP:20260423T091003
CREATED:20200801T174834Z
LAST-MODIFIED:20200803T110712Z
UID:5964-1596479400-1596486600@uncafefrancais.com
SUMMARY:L'Apéro Débutants
DESCRIPTION:
URL:https://uncafefrancais.com/agenda/apero-debutants-200803/
CATEGORIES:[:fr]Apéros Débutants[:][:en]Beginner Apéros[:],[:fr]Groupes de conversations Débutants[:][:en]Beginner Conversation Groups[:],[:fr]Groupes de conversations[:][:en]Conversation Groups[:],Apéros
END:VEVENT
END:VCALENDAR