BEGIN:VCALENDAR
VERSION:2.0
PRODID:-//Un Café Français - ECPv6.15.13.1//NONSGML v1.0//EN
CALSCALE:GREGORIAN
METHOD:PUBLISH
X-WR-CALNAME:Un Café Français
X-ORIGINAL-URL:https://uncafefrancais.com
X-WR-CALDESC:Évènements pour Un Café Français
REFRESH-INTERVAL;VALUE=DURATION:PT1H
X-Robots-Tag:noindex
X-PUBLISHED-TTL:PT1H
BEGIN:VTIMEZONE
TZID:Europe/Paris
BEGIN:DAYLIGHT
TZOFFSETFROM:+0100
TZOFFSETTO:+0200
TZNAME:CEST
DTSTART:20230326T010000
END:DAYLIGHT
BEGIN:STANDARD
TZOFFSETFROM:+0200
TZOFFSETTO:+0100
TZNAME:CET
DTSTART:20231029T010000
END:STANDARD
BEGIN:DAYLIGHT
TZOFFSETFROM:+0100
TZOFFSETTO:+0200
TZNAME:CEST
DTSTART:20240331T010000
END:DAYLIGHT
BEGIN:STANDARD
TZOFFSETFROM:+0200
TZOFFSETTO:+0100
TZNAME:CET
DTSTART:20241027T010000
END:STANDARD
BEGIN:DAYLIGHT
TZOFFSETFROM:+0100
TZOFFSETTO:+0200
TZNAME:CEST
DTSTART:20250330T010000
END:DAYLIGHT
BEGIN:STANDARD
TZOFFSETFROM:+0200
TZOFFSETTO:+0100
TZNAME:CET
DTSTART:20251026T010000
END:STANDARD
END:VTIMEZONE
BEGIN:VTIMEZONE
TZID:Europe/Paris
BEGIN:DAYLIGHT
TZOFFSETFROM:+0100
TZOFFSETTO:+0200
TZNAME:CEST
DTSTART:20230326T010000
END:DAYLIGHT
BEGIN:STANDARD
TZOFFSETFROM:+0200
TZOFFSETTO:+0100
TZNAME:CET
DTSTART:20231029T010000
END:STANDARD
BEGIN:DAYLIGHT
TZOFFSETFROM:+0100
TZOFFSETTO:+0200
TZNAME:CEST
DTSTART:20240331T010000
END:DAYLIGHT
BEGIN:STANDARD
TZOFFSETFROM:+0200
TZOFFSETTO:+0100
TZNAME:CET
DTSTART:20241027T010000
END:STANDARD
BEGIN:DAYLIGHT
TZOFFSETFROM:+0100
TZOFFSETTO:+0200
TZNAME:CEST
DTSTART:20250330T010000
END:DAYLIGHT
BEGIN:STANDARD
TZOFFSETFROM:+0200
TZOFFSETTO:+0100
TZNAME:CET
DTSTART:20251026T010000
END:STANDARD
END:VTIMEZONE
BEGIN:VEVENT
DTSTART;TZID=Europe/Paris:20241001T100000
DTEND;TZID=Europe/Paris:20241001T113000
DTSTAMP:20260422T225108
CREATED:20240911T180619Z
LAST-MODIFIED:20240911T180619Z
UID:12850-1727776800-1727782200@uncafefrancais.com
SUMMARY:[:en]Le P’ti Déj’ Intermediates[:fr]Le P’ti Déj’ Intermédiaires[:]
DESCRIPTION:Perfectionnez votre français dans une ambiance détendue ! \nVous maîtrisez les bases du français\, mais vous souhaitez aller plus loin ? Venez vous exercer dans un cadre agréable ! \nRejoignez-nous pour P’ti Déj\, notre événement récurrent tous les 15 jours\, le mardi matin. Pendant 1h30\, vous participerez à des discussions en français avec des exercices adaptés aux niveaux intermédiaires. Nous accueillons résidents\, expatriés et visiteurs. Nous nous retrouverons dans un lieu charmant à Paris ou en proche banlieue\, en petit groupe de 6 participants maximum. \nLe lieu exact sera communiqué après l’inscription\, alors soyez prêts à explorer un peu. C’est une excellente occasion de perfectionner vos compétences en français dans un bistro parisien authentique\, comme les locaux ! \n🚨Tarif : 15 € s’il y a un deuxième participant\, sinon 20€ à compléter sur place.⚠ \nConsommation non comprise. Pensez à prendre des espèces\, les cartes bancaires sont souvent à partir de 10€
URL:https://uncafefrancais.com/agenda/ptidej-intermediaires-241001/
CATEGORIES:[:fr]Groupes de conversations Intermédiaires[:][:en]Intermediate Conversations Groups[:],[:fr]Groupes de conversations[:][:en]Conversation Groups[:],[:fr]P'tits Déj' Intermédiaires[:][:en]Intermediate Breakfasts[:],P'tits Déj'
ATTACH;FMTTYPE=image/png:https://uncafefrancais.com/wp-content/uploads/2020/01/UCF-Jumelle-Pti-Déj_int.png
END:VEVENT
BEGIN:VEVENT
DTSTART;TZID=Europe/Paris:20241002T183000
DTEND;TZID=Europe/Paris:20241002T203000
DTSTAMP:20260422T225108
CREATED:20240908T160243Z
LAST-MODIFIED:20240909T115204Z
UID:12741-1727893800-1727901000@uncafefrancais.com
SUMMARY:L’Apéro Intermédiaires
DESCRIPTION:Un apéro\, un petit groupe\, une discussion en français: voici notre recette secrète pour progresser sans crainte en français et finir gaiement la journée. \n🚨Tarif : 15 € s’il y a un deuxième participant\, sinon 20€ à compléter sur place.⚠ \nConsommation non comprise. Pensez à prendre des espèces\, les cartes bancaires sont souvent à partir de 10€
URL:https://uncafefrancais.com/agenda/apero-intermediaires-241002/
LOCATION:Le Génie\, 4\, Bld de Beaumarchais\, PARIS\, 75011
CATEGORIES:[:fr]Apéros Intermédiaires[:][:en]Intermediate Apéros[:],[:fr]Groupes de conversations Intermédiaires[:][:en]Intermediate Conversations Groups[:],[:fr]Groupes de conversations[:][:en]Conversation Groups[:],Apéros
ATTACH;FMTTYPE=image/png:https://uncafefrancais.com/wp-content/uploads/2020/01/UCF-Jumelle-Apero_int.png
END:VEVENT
BEGIN:VEVENT
DTSTART;TZID=Europe/Paris:20241009T183000
DTEND;TZID=Europe/Paris:20241009T203000
DTSTAMP:20260422T225108
CREATED:20240911T141619Z
LAST-MODIFIED:20240911T141619Z
UID:12775-1728498600-1728505800@uncafefrancais.com
SUMMARY:L’Apéro Intermédiaires
DESCRIPTION:Un apéro\, un petit groupe\, une discussion en français: voici notre recette secrète pour progresser sans crainte en français et finir gaiement la journée. \n🚨Tarif : 15 € s’il y a un deuxième participant\, sinon 20€ à compléter sur place.⚠ \nConsommation non comprise. Pensez à prendre des espèces\, les cartes bancaires sont souvent à partir de 10€
URL:https://uncafefrancais.com/agenda/apero-intermediaires-241009/
LOCATION:Le Génie\, 4\, Bld de Beaumarchais\, PARIS\, 75011
CATEGORIES:[:fr]Apéros Intermédiaires[:][:en]Intermediate Apéros[:],[:fr]Groupes de conversations Intermédiaires[:][:en]Intermediate Conversations Groups[:],[:fr]Groupes de conversations[:][:en]Conversation Groups[:],Apéros
ATTACH;FMTTYPE=image/png:https://uncafefrancais.com/wp-content/uploads/2020/01/UCF-Jumelle-Apero_int.png
END:VEVENT
BEGIN:VEVENT
DTSTART;TZID=Europe/Paris:20241010T140000
DTEND;TZID=Europe/Paris:20241010T153000
DTSTAMP:20260422T225108
CREATED:20240915T160257Z
LAST-MODIFIED:20240915T163212Z
UID:13011-1728568800-1728574200@uncafefrancais.com
SUMMARY:La Pause-Café Intermédiaires
DESCRIPTION:Une après-midi pour améliorez votre français ! \nVous avez déjà des bases solides en français et vous voulez progresser davantage ? Rejoignez-nous pour une pause café enrichissante ! \nParticipez à Pause-Café\, un événement qui se tient tous les 15 jours\, le jeudi après-midi. Pendant 1h30\, vous discuterez en français avec des exercices adaptés au niveau intermédiaire. Nous accueillons tant les résidents que les visiteurs de passage. Nous nous retrouverons dans un café accueillant à Paris ou en proche banlieue\, en petit groupe de 6 personnes maximum. \nLe lieu exact sera révélé après la première inscription\, alors préparez-vous à une petite aventure. C’est l’occasion idéale pour améliorer votre français dans un authentique café parisien\, comme les locaux ! \n🚨Tarif : 15 € s’il y a un deuxième participant\, sinon 20€ à compléter sur place.⚠ \nConsommation non comprise. Pensez à prendre des espèces\, les cartes bancaires sont souvent à partir de 10€Une après-midi pour améliorez votre français ! \nVous avez déjà des bases solides en français et vous voulez progresser davantage ? Rejoignez-nous pour une pause café enrichissante ! \nParticipez à Pause-Café\, un événement qui se tient tous les 15 jours\, le jeudi après-midi. Pendant 1h30\, vous discuterez en français avec des exercices adaptés au niveau intermédiaire. Nous accueillons tant les résidents que les visiteurs de passage. Nous nous retrouverons dans un café accueillant à Paris ou en proche banlieue\, en petit groupe de 6 personnes maximum. \nLe lieu exact sera révélé après la première inscription\, alors préparez-vous à une petite aventure. C’est l’occasion idéale pour améliorer votre français dans un authentique café parisien\, comme les locaux ! \n🚨Tarif : 15 € s’il y a un deuxième participant\, sinon 20€ à compléter sur place.⚠ \nConsommation non comprise. Pensez à prendre des espèces\, les cartes bancaires sont souvent à partir de 10€Une après-midi pour améliorez votre français ! \nVous avez déjà des bases solides en français et vous voulez progresser davantage ? Rejoignez-nous pour une pause café enrichissante ! \nParticipez à Pause-Café\, un événement qui se tient tous les 15 jours\, le jeudi après-midi. Pendant 1h30\, vous discuterez en français avec des exercices adaptés au niveau intermédiaire. Nous accueillons tant les résidents que les visiteurs de passage. Nous nous retrouverons dans un café accueillant à Paris ou en proche banlieue\, en petit groupe de 6 personnes maximum. \nLe lieu exact sera révélé après la première inscription\, alors préparez-vous à une petite aventure. C’est l’occasion idéale pour améliorer votre français dans un authentique café parisien\, comme les locaux ! \n🚨Tarif : 15 € s’il y a un deuxième participant\, sinon 20€ à compléter sur place.⚠ \nConsommation non comprise. Pensez à prendre des espèces\, les cartes bancaires sont souvent à partir de 10€Une après-midi pour améliorez votre français ! \nVous avez déjà des bases solides en français et vous voulez progresser davantage ? Rejoignez-nous pour une pause café enrichissante ! \nParticipez à Pause-Café\, un événement qui se tient tous les 15 jours\, le jeudi après-midi. Pendant 1h30\, vous discuterez en français avec des exercices adaptés au niveau intermédiaire. Nous accueillons tant les résidents que les visiteurs de passage. Nous nous retrouverons dans un café accueillant à Paris ou en proche banlieue\, en petit groupe de 6 personnes maximum. \nLe lieu exact sera révélé après la première inscription\, alors préparez-vous à une petite aventure. C’est l’occasion idéale pour améliorer votre français dans un authentique café parisien\, comme les locaux ! \n🚨Tarif : 15 € s’il y a un deuxième participant\, sinon 20€ à compléter sur place.⚠ \nConsommation non comprise. Pensez à prendre des espèces\, les cartes bancaires sont souvent à partir de 10€
URL:https://uncafefrancais.com/agenda/pausecafe-intermediaires-241010/
CATEGORIES:[:fr]Groupes de conversations Intermédiaires[:][:en]Intermediate Conversations Groups[:],[:fr]Groupes de conversations[:][:en]Conversation Groups[:],[:fr]Pauses-Café Intermédiaires[:][:en]Intermediate Pauses-Café[:],Pauses-Café
ATTACH;FMTTYPE=image/png:https://uncafefrancais.com/wp-content/uploads/2020/01/UCF-Jumelle-Pause-cafe_int.png
END:VEVENT
BEGIN:VEVENT
DTSTART;TZID=Europe/Paris:20241015T100000
DTEND;TZID=Europe/Paris:20241015T113000
DTSTAMP:20260422T225108
CREATED:20240911T182729Z
LAST-MODIFIED:20240911T182729Z
UID:12858-1728986400-1728991800@uncafefrancais.com
SUMMARY:[:en]Le P’ti Déj’ Intermediates[:fr]Le P’ti Déj’ Intermédiaires[:]
DESCRIPTION:Perfectionnez votre français dans une ambiance détendue ! \nVous maîtrisez les bases du français\, mais vous souhaitez aller plus loin ? Venez vous exercer dans un cadre agréable ! \nRejoignez-nous pour P’ti Déj\, notre événement récurrent tous les 15 jours\, le mardi matin. Pendant 1h30\, vous participerez à des discussions en français avec des exercices adaptés aux niveaux intermédiaires. Nous accueillons résidents\, expatriés et visiteurs. Nous nous retrouverons dans un lieu charmant à Paris ou en proche banlieue\, en petit groupe de 6 participants maximum. \nLe lieu exact sera communiqué après l’inscription\, alors soyez prêts à explorer un peu. C’est une excellente occasion de perfectionner vos compétences en français dans un bistro parisien authentique\, comme les locaux ! \n🚨Tarif : 15 € s’il y a un deuxième participant\, sinon 20€ à compléter sur place.⚠ \nConsommation non comprise. Pensez à prendre des espèces\, les cartes bancaires sont souvent à partir de 10€
URL:https://uncafefrancais.com/agenda/ptidej-intermediaires-241015/
CATEGORIES:[:fr]Groupes de conversations Intermédiaires[:][:en]Intermediate Conversations Groups[:],[:fr]Groupes de conversations[:][:en]Conversation Groups[:],[:fr]P'tits Déj' Intermédiaires[:][:en]Intermediate Breakfasts[:],P'tits Déj'
ATTACH;FMTTYPE=image/png:https://uncafefrancais.com/wp-content/uploads/2020/01/UCF-Jumelle-Pti-Déj_int.png
END:VEVENT
BEGIN:VEVENT
DTSTART;TZID=Europe/Paris:20241016T183000
DTEND;TZID=Europe/Paris:20241016T203000
DTSTAMP:20260422T225108
CREATED:20240911T141137Z
LAST-MODIFIED:20240911T141137Z
UID:12777-1729103400-1729110600@uncafefrancais.com
SUMMARY:L’Apéro Intermédiaires
DESCRIPTION:Un apéro\, un petit groupe\, une discussion en français: voici notre recette secrète pour progresser sans crainte en français et finir gaiement la journée. \n🚨Tarif : 15 € s’il y a un deuxième participant\, sinon 20€ à compléter sur place.⚠ \nConsommation non comprise. Pensez à prendre des espèces\, les cartes bancaires sont souvent à partir de 10€
URL:https://uncafefrancais.com/agenda/apero-intermediaires-241016/
LOCATION:Le Génie\, 4\, Bld de Beaumarchais\, PARIS\, 75011
CATEGORIES:[:fr]Apéros Intermédiaires[:][:en]Intermediate Apéros[:],[:fr]Groupes de conversations Intermédiaires[:][:en]Intermediate Conversations Groups[:],[:fr]Groupes de conversations[:][:en]Conversation Groups[:],Apéros
ATTACH;FMTTYPE=image/png:https://uncafefrancais.com/wp-content/uploads/2020/01/UCF-Jumelle-Apero_int.png
END:VEVENT
BEGIN:VEVENT
DTSTART;TZID=Europe/Paris:20241023T150000
DTEND;TZID=Europe/Paris:20241023T170000
DTSTAMP:20260422T225108
CREATED:20241013T121522Z
LAST-MODIFIED:20241013T121522Z
UID:13126-1729695600-1729702800@uncafefrancais.com
SUMMARY:[:en]Discover Weaving on Wooden Frame Workshop for French Learners[:fr]Atelier Découverte du Tissage sur Cadre en Bois[:]
DESCRIPTION:Vous cherchez une manière immersive et créative d’améliorer votre français tout en explorant une nouvelle forme d’expression artistique ? Nous avons l’activité parfaite pour vous : un atelier de découverte du tissage sur cadre en bois\, spécialement conçu pour les apprenants de français ! \nÀ qui s’adresse cet atelier ?\nCet atelier est pour tous ceux et celles qui souhaitent enrichir leur vocabulaire français tout en se familiarisant avec l’art du tissage. Que vous soyez débutant(e) en français ou que vous cherchiez simplement à pratiquer la langue dans un cadre créatif et détendu\, cet atelier est fait pour vous ! Aucune expérience préalable en tissage n’est nécessaire – notre artisan sera là pour vous guider en partageant ses compétences à chaque étape. \n\nQue pouvez-vous attendre de cet atelier ? \n\nPendant deux heures\, vous plongerez dans l’univers fascinant du tissage sur cadre en bois. À travers des démonstrations pratiques et des exercices guidés\, vous apprendrez les techniques de base du tissage\, de la préparation du métier à tisser à la création de motifs simples. En parallèle\, vous aurez l’occasion de pratiquer votre français en discutant avec les autres participants et en échangeant des conseils avec notre artisane francophone. \nPourquoi participer à cet atelier ?\nApprentissage ludique : Éveiller vos talents artisanaux tout en pratiquant votre français de manière amusante et interactive. \nCréativité et expression personnelle : Exprimez votre créativité à travers la création de votre propre tissage unique\, tout en explorant les nuances de la langue française. \nRencontres et échanges culturels : Partagez des expériences avec d’autres passionné(e)s de langues et d’artisanat\, et découvrez de nouvelles perspectives culturelles. \nComment s’inscrire ?\nLes places pour cet atelier sont limitées\, alors assurez-vous de réserver votre place dès maintenant ! N’oubliez pas de préciser votre niveau de français\, afin que nous puissions prévoir d’adapter l’atelier à vos besoins spécifiques. \nNe manquez pas cette opportunité unique de combiner l’apprentissage linguistique et l’expression artistique dans une atmosphère conviviale et stimulante. Nous sommes impatients de vous accueillir pour cette aventure enrichissante !
URL:https://uncafefrancais.com/agenda/tissagecadrebois-debutantsintermediairesavances-2410me23/
LOCATION:L’Atelier des Tissages\, 45\, rue Saint-Blaise\, PARIS\, 75020\, France
CATEGORIES:[:fr]Ateliers Débutants[:][:en]Beginner workshops[:],[:fr]Ateliers Intermédiaires[:][:en]Intermediate workshops[:],[:fr]Ateliers[:][:en]Workshops[:],[:fr]Evénement Avancés[:][:en]Advanced Event[:],Evénement Débutants[:][:en]Beginners Event[:],Evénement Intermédiaires[:][:en]Intermediates Event[:]
ATTACH;FMTTYPE=image/png:https://uncafefrancais.com/wp-content/uploads/2024/02/At.-Tissage-CADRE-A-BOIS-ucf.png
END:VEVENT
BEGIN:VEVENT
DTSTART;TZID=Europe/Paris:20241023T183000
DTEND;TZID=Europe/Paris:20241023T203000
DTSTAMP:20260422T225108
CREATED:20240911T141154Z
LAST-MODIFIED:20240911T141154Z
UID:12776-1729708200-1729715400@uncafefrancais.com
SUMMARY:L’Apéro Intermédiaires
DESCRIPTION:Un apéro\, un petit groupe\, une discussion en français: voici notre recette secrète pour progresser sans crainte en français et finir gaiement la journée. \n🚨Tarif : 15 € s’il y a un deuxième participant\, sinon 20€ à compléter sur place.⚠ \nConsommation non comprise. Pensez à prendre des espèces\, les cartes bancaires sont souvent à partir de 10€
URL:https://uncafefrancais.com/agenda/apero-intermediaires-241023/
LOCATION:Le Génie\, 4\, Bld de Beaumarchais\, PARIS\, 75011
CATEGORIES:[:fr]Apéros Intermédiaires[:][:en]Intermediate Apéros[:],[:fr]Groupes de conversations Intermédiaires[:][:en]Intermediate Conversations Groups[:],[:fr]Groupes de conversations[:][:en]Conversation Groups[:],Apéros
ATTACH;FMTTYPE=image/png:https://uncafefrancais.com/wp-content/uploads/2020/01/UCF-Jumelle-Apero_int.png
END:VEVENT
BEGIN:VEVENT
DTSTART;TZID=Europe/Paris:20241024T140000
DTEND;TZID=Europe/Paris:20241024T153000
DTSTAMP:20260422T225108
CREATED:20240915T160501Z
LAST-MODIFIED:20240915T162332Z
UID:13012-1729778400-1729783800@uncafefrancais.com
SUMMARY:La Pause-Café Intermédiaires
DESCRIPTION:Une après-midi pour améliorez votre français ! \nVous avez déjà des bases solides en français et vous voulez progresser davantage ? Rejoignez-nous pour une pause café enrichissante ! \nParticipez à Pause-Café\, un événement qui se tient tous les 15 jours\, le jeudi après-midi. Pendant 1h30\, vous discuterez en français avec des exercices adaptés au niveau intermédiaire. Nous accueillons tant les résidents que les visiteurs de passage. Nous nous retrouverons dans un café accueillant à Paris ou en proche banlieue\, en petit groupe de 6 personnes maximum. \nLe lieu exact sera révélé après la première inscription\, alors préparez-vous à une petite aventure. C’est l’occasion idéale pour améliorer votre français dans un authentique café parisien\, comme les locaux ! \n🚨Tarif : 15 € s’il y a un deuxième participant\, sinon 20€ à compléter sur place.⚠ \nConsommation non comprise. Pensez à prendre des espèces\, les cartes bancaires sont souvent à partir de 10€Une après-midi pour améliorez votre français ! \nVous avez déjà des bases solides en français et vous voulez progresser davantage ? Rejoignez-nous pour une pause café enrichissante ! \nParticipez à Pause-Café\, un événement qui se tient tous les 15 jours\, le jeudi après-midi. Pendant 1h30\, vous discuterez en français avec des exercices adaptés au niveau intermédiaire. Nous accueillons tant les résidents que les visiteurs de passage. Nous nous retrouverons dans un café accueillant à Paris ou en proche banlieue\, en petit groupe de 6 personnes maximum. \nLe lieu exact sera révélé après la première inscription\, alors préparez-vous à une petite aventure. C’est l’occasion idéale pour améliorer votre français dans un authentique café parisien\, comme les locaux ! \n🚨Tarif : 15 € s’il y a un deuxième participant\, sinon 20€ à compléter sur place.⚠ \nConsommation non comprise. Pensez à prendre des espèces\, les cartes bancaires sont souvent à partir de 10€Une après-midi pour améliorez votre français ! \nVous avez déjà des bases solides en français et vous voulez progresser davantage ? Rejoignez-nous pour une pause café enrichissante ! \nParticipez à Pause-Café\, un événement qui se tient tous les 15 jours\, le jeudi après-midi. Pendant 1h30\, vous discuterez en français avec des exercices adaptés au niveau intermédiaire. Nous accueillons tant les résidents que les visiteurs de passage. Nous nous retrouverons dans un café accueillant à Paris ou en proche banlieue\, en petit groupe de 6 personnes maximum. \nLe lieu exact sera révélé après la première inscription\, alors préparez-vous à une petite aventure. C’est l’occasion idéale pour améliorer votre français dans un authentique café parisien\, comme les locaux ! \n🚨Tarif : 15 € s’il y a un deuxième participant\, sinon 20€ à compléter sur place.⚠ \nConsommation non comprise. Pensez à prendre des espèces\, les cartes bancaires sont souvent à partir de 10€Une après-midi pour améliorez votre français ! \nVous avez déjà des bases solides en français et vous voulez progresser davantage ? Rejoignez-nous pour une pause café enrichissante ! \nParticipez à Pause-Café\, un événement qui se tient tous les 15 jours\, le jeudi après-midi. Pendant 1h30\, vous discuterez en français avec des exercices adaptés au niveau intermédiaire. Nous accueillons tant les résidents que les visiteurs de passage. Nous nous retrouverons dans un café accueillant à Paris ou en proche banlieue\, en petit groupe de 6 personnes maximum. \nLe lieu exact sera révélé après la première inscription\, alors préparez-vous à une petite aventure. C’est l’occasion idéale pour améliorer votre français dans un authentique café parisien\, comme les locaux ! \n🚨Tarif : 15 € s’il y a un deuxième participant\, sinon 20€ à compléter sur place.⚠ \nConsommation non comprise. Pensez à prendre des espèces\, les cartes bancaires sont souvent à partir de 10€Une après-midi pour améliorez votre français ! \nVous avez déjà des bases solides en français et vous voulez progresser davantage ? Rejoignez-nous pour une pause café enrichissante ! \nParticipez à Pause-Café\, un événement qui se tient tous les 15 jours\, le jeudi après-midi. Pendant 1h30\, vous discuterez en français avec des exercices adaptés au niveau intermédiaire. Nous accueillons tant les résidents que les visiteurs de passage. Nous nous retrouverons dans un café accueillant à Paris ou en proche banlieue\, en petit groupe de 6 personnes maximum. \nLe lieu exact sera révélé après la première inscription\, alors préparez-vous à une petite aventure. C’est l’occasion idéale pour améliorer votre français dans un authentique café parisien\, comme les locaux ! \n🚨Tarif : 15 € s’il y a un deuxième participant\, sinon 20€ à compléter sur place.⚠ \nConsommation non comprise. Pensez à prendre des espèces\, les cartes bancaires sont souvent à partir de 10€Une après-midi pour améliorez votre français ! \nVous avez déjà des bases solides en français et vous voulez progresser davantage ? Rejoignez-nous pour une pause café enrichissante ! \nParticipez à Pause-Café\, un événement qui se tient tous les 15 jours\, le jeudi après-midi. Pendant 1h30\, vous discuterez en français avec des exercices adaptés au niveau intermédiaire. Nous accueillons tant les résidents que les visiteurs de passage. Nous nous retrouverons dans un café accueillant à Paris ou en proche banlieue\, en petit groupe de 6 personnes maximum. \nLe lieu exact sera révélé après la première inscription\, alors préparez-vous à une petite aventure. C’est l’occasion idéale pour améliorer votre français dans un authentique café parisien\, comme les locaux ! \n🚨Tarif : 15 € s’il y a un deuxième participant\, sinon 20€ à compléter sur place.⚠ \nConsommation non comprise. Pensez à prendre des espèces\, les cartes bancaires sont souvent à partir de 10€Une après-midi pour améliorez votre français ! \nVous avez déjà des bases solides en français et vous voulez progresser davantage ? Rejoignez-nous pour une pause café enrichissante ! \nParticipez à Pause-Café\, un événement qui se tient tous les 15 jours\, le jeudi après-midi. Pendant 1h30\, vous discuterez en français avec des exercices adaptés au niveau intermédiaire. Nous accueillons tant les résidents que les visiteurs de passage. Nous nous retrouverons dans un café accueillant à Paris ou en proche banlieue\, en petit groupe de 6 personnes maximum. \nLe lieu exact sera révélé après la première inscription\, alors préparez-vous à une petite aventure. C’est l’occasion idéale pour améliorer votre français dans un authentique café parisien\, comme les locaux ! \n🚨Tarif : 15 € s’il y a un deuxième participant\, sinon 20€ à compléter sur place.⚠ \nConsommation non comprise. Pensez à prendre des espèces\, les cartes bancaires sont souvent à partir de 10€Une après-midi pour améliorez votre français ! \nVous avez déjà des bases solides en français et vous voulez progresser davantage ? Rejoignez-nous pour une pause café enrichissante ! \nParticipez à Pause-Café\, un événement qui se tient tous les 15 jours\, le jeudi après-midi. Pendant 1h30\, vous discuterez en français avec des exercices adaptés au niveau intermédiaire. Nous accueillons tant les résidents que les visiteurs de passage. Nous nous retrouverons dans un café accueillant à Paris ou en proche banlieue\, en petit groupe de 6 personnes maximum. \nLe lieu exact sera révélé après la première inscription\, alors préparez-vous à une petite aventure. C’est l’occasion idéale pour améliorer votre français dans un authentique café parisien\, comme les locaux ! \n🚨Tarif : 15 € s’il y a un deuxième participant\, sinon 20€ à compléter sur place.⚠ \nConsommation non comprise. Pensez à prendre des espèces\, les cartes bancaires sont souvent à partir de 10€
URL:https://uncafefrancais.com/agenda/pausecafe-intermediaires-241024/
CATEGORIES:[:fr]Groupes de conversations Intermédiaires[:][:en]Intermediate Conversations Groups[:],[:fr]Groupes de conversations[:][:en]Conversation Groups[:],[:fr]Pauses-Café Intermédiaires[:][:en]Intermediate Pauses-Café[:],Pauses-Café
ATTACH;FMTTYPE=image/png:https://uncafefrancais.com/wp-content/uploads/2020/01/UCF-Jumelle-Pause-cafe_int.png
END:VEVENT
BEGIN:VEVENT
DTSTART;TZID=Europe/Paris:20241029T100000
DTEND;TZID=Europe/Paris:20241029T113000
DTSTAMP:20260422T225108
CREATED:20240911T183114Z
LAST-MODIFIED:20240911T184835Z
UID:12857-1730196000-1730201400@uncafefrancais.com
SUMMARY:[:en]Le P’ti Déj’ Intermediates[:fr]Le P’ti Déj’ Intermédiaires[:]
DESCRIPTION:Perfectionnez votre français dans une ambiance détendue ! \nVous maîtrisez les bases du français\, mais vous souhaitez aller plus loin ? Venez vous exercer dans un cadre agréable ! \nRejoignez-nous pour P’ti Déj\, notre événement récurrent tous les 15 jours\, le mardi matin. Pendant 1h30\, vous participerez à des discussions en français avec des exercices adaptés aux niveaux intermédiaires. Nous accueillons résidents\, expatriés et visiteurs. Nous nous retrouverons dans un lieu charmant à Paris ou en proche banlieue\, en petit groupe de 6 participants maximum. \nLe lieu exact sera communiqué après l’inscription\, alors soyez prêts à explorer un peu. C’est une excellente occasion de perfectionner vos compétences en français dans un bistro parisien authentique\, comme les locaux ! \n🚨Tarif : 15 € s’il y a un deuxième participant\, sinon 20€ à compléter sur place.⚠ \nConsommation non comprise. Pensez à prendre des espèces\, les cartes bancaires sont souvent à partir de 10€
URL:https://uncafefrancais.com/agenda/ptidej-intermediaires-241029/
CATEGORIES:[:fr]Groupes de conversations Intermédiaires[:][:en]Intermediate Conversations Groups[:],[:fr]Groupes de conversations[:][:en]Conversation Groups[:],[:fr]P'tits Déj' Intermédiaires[:][:en]Intermediate Breakfasts[:],P'tits Déj'
ATTACH;FMTTYPE=image/png:https://uncafefrancais.com/wp-content/uploads/2020/01/UCF-Jumelle-Pti-Déj_int.png
END:VEVENT
BEGIN:VEVENT
DTSTART;TZID=Europe/Paris:20241030T183000
DTEND;TZID=Europe/Paris:20241030T203000
DTSTAMP:20260422T225108
CREATED:20240911T141128Z
LAST-MODIFIED:20240911T142546Z
UID:12778-1730313000-1730320200@uncafefrancais.com
SUMMARY:L’Apéro Intermédiaires
DESCRIPTION:Un apéro\, un petit groupe\, une discussion en français: voici notre recette secrète pour progresser sans crainte en français et finir gaiement la journée. \n🚨Tarif : 15 € s’il y a un deuxième participant\, sinon 20€ à compléter sur place.⚠ \nConsommation non comprise. Pensez à prendre des espèces\, les cartes bancaires sont souvent à partir de 10€
URL:https://uncafefrancais.com/agenda/apero-intermediaires-241030/
LOCATION:Le Génie\, 4\, Bld de Beaumarchais\, PARIS\, 75011
CATEGORIES:[:fr]Apéros Intermédiaires[:][:en]Intermediate Apéros[:],[:fr]Groupes de conversations Intermédiaires[:][:en]Intermediate Conversations Groups[:],[:fr]Groupes de conversations[:][:en]Conversation Groups[:],Apéros
ATTACH;FMTTYPE=image/png:https://uncafefrancais.com/wp-content/uploads/2020/01/UCF-Jumelle-Apero_int.png
END:VEVENT
END:VCALENDAR