BEGIN:VCALENDAR
VERSION:2.0
PRODID:-//Un Café Français - ECPv6.15.13.1//NONSGML v1.0//EN
CALSCALE:GREGORIAN
METHOD:PUBLISH
X-ORIGINAL-URL:https://uncafefrancais.com/en
X-WR-CALDESC:Events for Un Café Français
REFRESH-INTERVAL;VALUE=DURATION:PT1H
X-Robots-Tag:noindex
X-PUBLISHED-TTL:PT1H
BEGIN:VTIMEZONE
TZID:Europe/Paris
BEGIN:DAYLIGHT
TZOFFSETFROM:+0100
TZOFFSETTO:+0200
TZNAME:CEST
DTSTART:20210328T010000
END:DAYLIGHT
BEGIN:STANDARD
TZOFFSETFROM:+0200
TZOFFSETTO:+0100
TZNAME:CET
DTSTART:20211031T010000
END:STANDARD
BEGIN:DAYLIGHT
TZOFFSETFROM:+0100
TZOFFSETTO:+0200
TZNAME:CEST
DTSTART:20220327T010000
END:DAYLIGHT
BEGIN:STANDARD
TZOFFSETFROM:+0200
TZOFFSETTO:+0100
TZNAME:CET
DTSTART:20221030T010000
END:STANDARD
BEGIN:DAYLIGHT
TZOFFSETFROM:+0100
TZOFFSETTO:+0200
TZNAME:CEST
DTSTART:20230326T010000
END:DAYLIGHT
BEGIN:STANDARD
TZOFFSETFROM:+0200
TZOFFSETTO:+0100
TZNAME:CET
DTSTART:20231029T010000
END:STANDARD
END:VTIMEZONE
BEGIN:VEVENT
DTSTART;TZID=Europe/Paris:20220629T183000
DTEND;TZID=Europe/Paris:20220629T200000
DTSTAMP:20260423T000759
CREATED:20220429T152357Z
LAST-MODIFIED:20220515T221337Z
UID:11042-1656527400-1656532800@uncafefrancais.com
SUMMARY:L’Apéro Intermédiaires
DESCRIPTION:One of the best proven ways to progress the learning of a new language is to try communicating and conversing with others. In this “apéro” we offer u the opportunity to meet up in a group of people to discuss in french all along while enjoying a french cultural habit \nConsumption not included
URL:https://uncafefrancais.com/en/agenda/apero-intermediaires-220629/
CATEGORIES:[:fr]Apéros Intermédiaires[:][:en]Intermediate Apéros[:],[:fr]Groupes de conversations Intermédiaires[:][:en]Intermediate Conversations Groups[:],[:fr]Groupes de conversations[:][:en]Conversation Groups[:],Apéros
ATTACH;FMTTYPE=image/png:https://uncafefrancais.com/wp-content/uploads/2020/01/UCF-Jumelle-Apero_int.png
END:VEVENT
BEGIN:VEVENT
DTSTART;TZID=Europe/Paris:20220628T140000
DTEND;TZID=Europe/Paris:20220628T153000
DTSTAMP:20260423T000759
CREATED:20220514T200423Z
LAST-MODIFIED:20220514T200734Z
UID:11200-1656424800-1656430200@uncafefrancais.com
SUMMARY:La Pause-Café Intermédiaires
DESCRIPTION:Afternoons are a great time to have a conversation…Take in a new neighbourhood\, settle into a café with original or historic decor and speak French for a good hour. At the end\, we’ll discover or revisit one particular aspect of French that you find difficult\, by most of all putting it to good use! \nConsumption not included
URL:https://uncafefrancais.com/en/agenda/pausecafe-intermediaires-220628/
LOCATION:(Français) Les Associés\, 50\, Bd de la Bastille\, Parais\, 75012\, France
CATEGORIES:[:fr]Groupes de conversations Intermédiaires[:][:en]Intermediate Conversations Groups[:],[:fr]Groupes de conversations[:][:en]Conversation Groups[:],[:fr]Pauses-Café Intermédiaires[:][:en]Intermediate Pauses-Café[:],
ATTACH;FMTTYPE=image/png:https://uncafefrancais.com/wp-content/uploads/2020/01/UCF-Jumelle-Pause-cafe_int.png
END:VEVENT
BEGIN:VEVENT
DTSTART;TZID=Europe/Paris:20220622T183000
DTEND;TZID=Europe/Paris:20220622T200000
DTSTAMP:20260423T000759
CREATED:20220429T152259Z
LAST-MODIFIED:20220515T221339Z
UID:11041-1655922600-1655928000@uncafefrancais.com
SUMMARY:L’Apéro Intermédiaires
DESCRIPTION:One of the best proven ways to progress the learning of a new language is to try communicating and conversing with others. In this “apéro” we offer u the opportunity to meet up in a group of people to discuss in french all along while enjoying a french cultural habit \nConsumption not included
URL:https://uncafefrancais.com/en/agenda/apero-intermediaires-220622/
CATEGORIES:[:fr]Apéros Intermédiaires[:][:en]Intermediate Apéros[:],[:fr]Groupes de conversations Intermédiaires[:][:en]Intermediate Conversations Groups[:],[:fr]Groupes de conversations[:][:en]Conversation Groups[:],Apéros
ATTACH;FMTTYPE=image/png:https://uncafefrancais.com/wp-content/uploads/2020/01/UCF-Jumelle-Apero_int.png
END:VEVENT
BEGIN:VEVENT
DTSTART;TZID=Europe/Paris:20220621T140000
DTEND;TZID=Europe/Paris:20220621T153000
DTSTAMP:20260423T000759
CREATED:20220514T200412Z
LAST-MODIFIED:20220514T200642Z
UID:11199-1655820000-1655825400@uncafefrancais.com
SUMMARY:La Pause-Café Intermédiaires
DESCRIPTION:Afternoons are a great time to have a conversation…Take in a new neighbourhood\, settle into a café with original or historic decor and speak French for a good hour. At the end\, we’ll discover or revisit one particular aspect of French that you find difficult\, by most of all putting it to good use! \nConsumption not included
URL:https://uncafefrancais.com/en/agenda/pausecafe-intermediaires-220621/
LOCATION:(Français) Les Associés\, 50\, Bd de la Bastille\, Parais\, 75012\, France
CATEGORIES:[:fr]Apéros Intermédiaires[:][:en]Intermediate Apéros[:],[:fr]Groupes de conversations Intermédiaires[:][:en]Intermediate Conversations Groups[:],[:fr]Groupes de conversations[:][:en]Conversation Groups[:],Apéros
ATTACH;FMTTYPE=image/png:https://uncafefrancais.com/wp-content/uploads/2020/01/UCF-Jumelle-Pause-cafe_int.png
END:VEVENT
BEGIN:VEVENT
DTSTART;TZID=Europe/Paris:20220615T183000
DTEND;TZID=Europe/Paris:20220615T200000
DTSTAMP:20260423T000759
CREATED:20220429T152212Z
LAST-MODIFIED:20220515T221530Z
UID:11040-1655317800-1655323200@uncafefrancais.com
SUMMARY:L’Apéro Intermédiaires
DESCRIPTION:One of the best proven ways to progress the learning of a new language is to try communicating and conversing with others. In this “apéro” we offer u the opportunity to meet up in a group of people to discuss in french all along while enjoying a french cultural habit \nConsumption not included
URL:https://uncafefrancais.com/en/agenda/apero-intermediaires-220615/
LOCATION:(Français) Les Associés\, 50\, Bd de la Bastille\, Parais\, 75012\, France
CATEGORIES:[:fr]Apéros Intermédiaires[:][:en]Intermediate Apéros[:],[:fr]Groupes de conversations Intermédiaires[:][:en]Intermediate Conversations Groups[:],[:fr]Groupes de conversations[:][:en]Conversation Groups[:],Apéros
ATTACH;FMTTYPE=image/png:https://uncafefrancais.com/wp-content/uploads/2020/01/UCF-Jumelle-Apero_int.png
END:VEVENT
BEGIN:VEVENT
DTSTART;TZID=Europe/Paris:20220611T153000
DTEND;TZID=Europe/Paris:20220611T173000
DTSTAMP:20260423T000759
CREATED:20220524T130432Z
LAST-MODIFIED:20220524T133239Z
UID:11254-1654961400-1654968600@uncafefrancais.com
SUMMARY:[:en]Workshop DRAWING_Nature Morte in WATERCOLOR[:fr]Atelier DESSIN_Nature Morte à l'AQUARELLE[:]
DESCRIPTION:2 hours to be a Manet-to-be or a Delacroix? Probably not\, but you will learn how to draw from a highly-skilled Parisian fine arts teacher\, learn more about art\, all while improving your french. Plus\, you’ll have a fresh perspective next time you visit the Musee d’Orsay. \nCome with your hands in your pockets : the material will be PROVIDED to you. \nConsumption not included
URL:https://uncafefrancais.com/en/agenda/atelierdessin-naturemortealaquarelle-220611/
CATEGORIES:[:fr]Ateliers Débutants[:][:en]Beginner workshops[:],[:fr]Ateliers Intermédiaires[:][:en]Intermediate workshops[:],[:fr]Ateliers[:][:en]Workshops[:]
ATTACH;FMTTYPE=image/png:https://uncafefrancais.com/wp-content/uploads/2022/05/20220611_La-Nature-Morte-a-lAQUARELLE-en-francais_Meetup-Logo-IO.png
END:VEVENT
BEGIN:VEVENT
DTSTART;TZID=Europe/Paris:20220608T183000
DTEND;TZID=Europe/Paris:20220608T200000
DTSTAMP:20260423T000759
CREATED:20220429T152112Z
LAST-MODIFIED:20220515T221415Z
UID:11037-1654713000-1654718400@uncafefrancais.com
SUMMARY:L’Apéro Intermédiaires
DESCRIPTION:One of the best proven ways to progress the learning of a new language is to try communicating and conversing with others. In this “apéro” we offer u the opportunity to meet up in a group of people to discuss in french all along while enjoying a french cultural habit \nConsumption not included
URL:https://uncafefrancais.com/en/agenda/apero-intermediaires-220608/
LOCATION:(Français) Les Associés\, 50\, Bd de la Bastille\, Parais\, 75012\, France
CATEGORIES:[:fr]Apéros Intermédiaires[:][:en]Intermediate Apéros[:],[:fr]Groupes de conversations Intermédiaires[:][:en]Intermediate Conversations Groups[:],[:fr]Groupes de conversations[:][:en]Conversation Groups[:],Apéros
ATTACH;FMTTYPE=image/png:https://uncafefrancais.com/wp-content/uploads/2020/01/UCF-Jumelle-Apero_int.png
END:VEVENT
BEGIN:VEVENT
DTSTART;TZID=Europe/Paris:20220607T140000
DTEND;TZID=Europe/Paris:20220607T153000
DTSTAMP:20260423T000759
CREATED:20220514T201227Z
LAST-MODIFIED:20220514T201227Z
UID:11212-1654610400-1654615800@uncafefrancais.com
SUMMARY:La Pause-Café Intermédiaires
DESCRIPTION:Afternoons are a great time to have a conversation…Take in a new neighbourhood\, settle into a café with original or historic decor and speak French for a good hour. At the end\, we’ll discover or revisit one particular aspect of French that you find difficult\, by most of all putting it to good use! \nConsumption not included
URL:https://uncafefrancais.com/en/agenda/pausecafe-intermediaires-220607/
LOCATION:(Français) Les Associés\, 50\, Bd de la Bastille\, Parais\, 75012\, France
CATEGORIES:[:fr]Groupes de conversations Intermédiaires[:][:en]Intermediate Conversations Groups[:],[:fr]Groupes de conversations[:][:en]Conversation Groups[:],[:fr]Pauses-Café Intermédiaires[:][:en]Intermediate Pauses-Café[:],
ATTACH;FMTTYPE=image/png:https://uncafefrancais.com/wp-content/uploads/2020/01/UCF-Jumelle-Pause-cafe_int.png
END:VEVENT
BEGIN:VEVENT
DTSTART;TZID=Europe/Paris:20220601T183000
DTEND;TZID=Europe/Paris:20220601T200000
DTSTAMP:20260423T000759
CREATED:20220429T152108Z
LAST-MODIFIED:20220515T221419Z
UID:11036-1654108200-1654113600@uncafefrancais.com
SUMMARY:L’Apéro Intermédiaires
DESCRIPTION:One of the best proven ways to progress the learning of a new language is to try communicating and conversing with others. In this “apéro” we offer u the opportunity to meet up in a group of people to discuss in french all along while enjoying a french cultural habit \nConsumption not included
URL:https://uncafefrancais.com/en/agenda/apero-intermediaires-220601/
LOCATION:(Français) Les Associés\, 50\, Bd de la Bastille\, Parais\, 75012\, France
CATEGORIES:[:fr]Apéros Intermédiaires[:][:en]Intermediate Apéros[:],[:fr]Groupes de conversations Intermédiaires[:][:en]Intermediate Conversations Groups[:],[:fr]Groupes de conversations[:][:en]Conversation Groups[:],Apéros
ATTACH;FMTTYPE=image/png:https://uncafefrancais.com/wp-content/uploads/2020/01/UCF-Jumelle-Apero_int.png
END:VEVENT
BEGIN:VEVENT
DTSTART;TZID=Europe/Paris:20220531T140000
DTEND;TZID=Europe/Paris:20220531T153000
DTSTAMP:20260423T000759
CREATED:20220429T181244Z
LAST-MODIFIED:20220429T181244Z
UID:11110-1654005600-1654011000@uncafefrancais.com
SUMMARY:La Pause-Café Intermédiaires
DESCRIPTION:Afternoons are a great time to have a conversation…Take in a new neighbourhood\, settle into a café with original or historic decor and speak French for a good hour. At the end\, we’ll discover or revisit one particular aspect of French that you find difficult\, by most of all putting it to good use! \nConsumption not included
URL:https://uncafefrancais.com/en/agenda/pausecafe-intermediaires-220531/
CATEGORIES:[:fr]Groupes de conversations Intermédiaires[:][:en]Intermediate Conversations Groups[:],[:fr]Groupes de conversations[:][:en]Conversation Groups[:],[:fr]Pauses-Café Intermédiaires[:][:en]Intermediate Pauses-Café[:],
ATTACH;FMTTYPE=image/png:https://uncafefrancais.com/wp-content/uploads/2020/01/UCF-Jumelle-Pause-cafe_int.png
END:VEVENT
BEGIN:VEVENT
DTSTART;TZID=Europe/Paris:20220525T183000
DTEND;TZID=Europe/Paris:20220525T200000
DTSTAMP:20260423T000759
CREATED:20220429T145242Z
LAST-MODIFIED:20220429T152829Z
UID:11019-1653503400-1653508800@uncafefrancais.com
SUMMARY:L’Apéro Intermédiaires
DESCRIPTION:Drinks in a small group\, and a discussion in French: our secret recipe for improving your French at your ease and ending the day on a high note. \nConsumption not included
URL:https://uncafefrancais.com/en/agenda/apero-intermediaires-220525/
LOCATION:(Français) Les Associés\, 50\, Bd de la Bastille\, Parais\, 75012\, France
ATTACH;FMTTYPE=image/png:https://uncafefrancais.com/wp-content/uploads/2020/01/UCF-Jumelle-Apero_int.png
END:VEVENT
BEGIN:VEVENT
DTSTART;TZID=Europe/Paris:20220524T140000
DTEND;TZID=Europe/Paris:20220524T153000
DTSTAMP:20260423T000759
CREATED:20220429T181244Z
LAST-MODIFIED:20220429T181244Z
UID:11109-1653400800-1653406200@uncafefrancais.com
SUMMARY:La Pause-Café Intermédiaires
DESCRIPTION:Afternoons are a great time to have a conversation…Take in a new neighbourhood\, settle into a café with original or historic decor and speak French for a good hour. At the end\, we’ll discover or revisit one particular aspect of French that you find difficult\, by most of all putting it to good use! \nConsumption not included
URL:https://uncafefrancais.com/en/agenda/pausecafe-intermediaires-220524/
CATEGORIES:[:fr]Groupes de conversations Intermédiaires[:][:en]Intermediate Conversations Groups[:],[:fr]Groupes de conversations[:][:en]Conversation Groups[:],[:fr]Pauses-Café Intermédiaires[:][:en]Intermediate Pauses-Café[:],
ATTACH;FMTTYPE=image/png:https://uncafefrancais.com/wp-content/uploads/2020/01/UCF-Jumelle-Pause-cafe_int.png
END:VEVENT
BEGIN:VEVENT
DTSTART;TZID=Europe/Paris:20220518T183000
DTEND;TZID=Europe/Paris:20220518T200000
DTSTAMP:20260423T000759
CREATED:20220429T145241Z
LAST-MODIFIED:20220429T152812Z
UID:11018-1652898600-1652904000@uncafefrancais.com
SUMMARY:L’Apéro Intermédiaires
DESCRIPTION:Drinks in a small group\, and a discussion in French: our secret recipe for improving your French at your ease and ending the day on a high note. \nConsumption not included
URL:https://uncafefrancais.com/en/agenda/apero-intermediaires-220518/
LOCATION:(Français) Les Associés\, 50\, Bd de la Bastille\, Parais\, 75012\, France
ATTACH;FMTTYPE=image/png:https://uncafefrancais.com/wp-content/uploads/2020/01/UCF-Jumelle-Apero_int.png
END:VEVENT
BEGIN:VEVENT
DTSTART;TZID=Europe/Paris:20220517T140000
DTEND;TZID=Europe/Paris:20220517T153000
DTSTAMP:20260423T000759
CREATED:20220429T181245Z
LAST-MODIFIED:20220429T181245Z
UID:11108-1652796000-1652801400@uncafefrancais.com
SUMMARY:La Pause-Café Intermédiaires
DESCRIPTION:Afternoons are a great time to have a conversation…Take in a new neighbourhood\, settle into a café with original or historic decor and speak French for a good hour. At the end\, we’ll discover or revisit one particular aspect of French that you find difficult\, by most of all putting it to good use! \nConsumption not included
URL:https://uncafefrancais.com/en/agenda/pausecafe-intermediaires-220517/
CATEGORIES:[:fr]Groupes de conversations Intermédiaires[:][:en]Intermediate Conversations Groups[:],[:fr]Groupes de conversations[:][:en]Conversation Groups[:],[:fr]Pauses-Café Intermédiaires[:][:en]Intermediate Pauses-Café[:],
ATTACH;FMTTYPE=image/png:https://uncafefrancais.com/wp-content/uploads/2020/01/UCF-Jumelle-Pause-cafe_int.png
END:VEVENT
BEGIN:VEVENT
DTSTART;TZID=Europe/Paris:20220511T183000
DTEND;TZID=Europe/Paris:20220511T200000
DTSTAMP:20260423T000759
CREATED:20220429T145240Z
LAST-MODIFIED:20220429T152806Z
UID:11022-1652293800-1652299200@uncafefrancais.com
SUMMARY:L’Apéro Intermédiaires
DESCRIPTION:Drinks in a small group\, and a discussion in French: our secret recipe for improving your French at your ease and ending the day on a high note. \nConsumption not included
URL:https://uncafefrancais.com/en/agenda/apero-intermediaires-220511/
LOCATION:(Français) Les Associés\, 50\, Bd de la Bastille\, Parais\, 75012\, France
CATEGORIES:[:fr]Apéros Intermédiaires[:][:en]Intermediate Apéros[:],[:fr]Groupes de conversations Intermédiaires[:][:en]Intermediate Conversations Groups[:],[:fr]Groupes de conversations[:][:en]Conversation Groups[:],Apéros
ATTACH;FMTTYPE=image/png:https://uncafefrancais.com/wp-content/uploads/2020/01/UCF-Jumelle-Apero_int.png
END:VEVENT
BEGIN:VEVENT
DTSTART;TZID=Europe/Paris:20220510T140000
DTEND;TZID=Europe/Paris:20220510T153000
DTSTAMP:20260423T000759
CREATED:20220429T181247Z
LAST-MODIFIED:20220429T181247Z
UID:11107-1652191200-1652196600@uncafefrancais.com
SUMMARY:La Pause-Café Intermédiaires
DESCRIPTION:Afternoons are a great time to have a conversation…Take in a new neighbourhood\, settle into a café with original or historic decor and speak French for a good hour. At the end\, we’ll discover or revisit one particular aspect of French that you find difficult\, by most of all putting it to good use! \nConsumption not included
URL:https://uncafefrancais.com/en/agenda/pausecafe-intermediaires-220510/
CATEGORIES:[:fr]Groupes de conversations Intermédiaires[:][:en]Intermediate Conversations Groups[:],[:fr]Groupes de conversations[:][:en]Conversation Groups[:],[:fr]Pauses-Café Intermédiaires[:][:en]Intermediate Pauses-Café[:],
ATTACH;FMTTYPE=image/png:https://uncafefrancais.com/wp-content/uploads/2020/01/UCF-Jumelle-Pause-cafe_int.png
END:VEVENT
BEGIN:VEVENT
DTSTART;TZID=Europe/Paris:20220504T183000
DTEND;TZID=Europe/Paris:20220504T200000
DTSTAMP:20260423T000759
CREATED:20220420T135017Z
LAST-MODIFIED:20220425T095250Z
UID:10908-1651689000-1651694400@uncafefrancais.com
SUMMARY:L’Apéro Intermédiaires
DESCRIPTION:Drinks in a small group\, and a discussion in French: our secret recipe for improving your French at your ease and ending the day on a high note. \nConsumption not includedédi
URL:https://uncafefrancais.com/en/agenda/apero-intermediaires-220504/
LOCATION:(Français) Les Associés\, 50\, Bd de la Bastille\, Parais\, 75012\, France
CATEGORIES:[:fr]Apéros Intermédiaires[:][:en]Intermediate Apéros[:],[:fr]Groupes de conversations Intermédiaires[:][:en]Intermediate Conversations Groups[:],[:fr]Groupes de conversations[:][:en]Conversation Groups[:],Apéros
ATTACH;FMTTYPE=image/png:https://uncafefrancais.com/wp-content/uploads/2020/01/UCF-Jumelle-Apero_int.png
END:VEVENT
BEGIN:VEVENT
DTSTART;TZID=Europe/Paris:20220503T140000
DTEND;TZID=Europe/Paris:20220503T153000
DTSTAMP:20260423T000759
CREATED:20220424T142945Z
LAST-MODIFIED:20220501T123011Z
UID:10930-1651586400-1651591800@uncafefrancais.com
SUMMARY:La Pause-Café Intermédiaires
DESCRIPTION:Afternoons are a great time to have a conversation…Take in a new neighbourhood\, settle into a café with original or historic decor and speak French for a good hour. At the end\, we’ll discover or revisit one particular aspect of French that you find difficult\, by most of all putting it to good use! \nConsumption not included
URL:https://uncafefrancais.com/en/agenda/pausecafe-intermediaires-220503/
CATEGORIES:[:fr]Groupes de conversations Intermédiaires[:][:en]Intermediate Conversations Groups[:],[:fr]Groupes de conversations[:][:en]Conversation Groups[:],[:fr]Pauses-Café Intermédiaires[:][:en]Intermediate Pauses-Café[:],
ATTACH;FMTTYPE=image/png:https://uncafefrancais.com/wp-content/uploads/2020/01/UCF-Jumelle-Pause-cafe_int.png
END:VEVENT
BEGIN:VEVENT
DTSTART;TZID=Europe/Paris:20220416T153000
DTEND;TZID=Europe/Paris:20220416T173000
DTSTAMP:20260423T000759
CREATED:20220407T044254Z
LAST-MODIFIED:20220407T134324Z
UID:10813-1650123000-1650130200@uncafefrancais.com
SUMMARY:[:en]Workshop DRAWING_Portrait : Sketch and Color[:fr]Atelier DESSIN_Portrait : Du Croquis à la Couleur[:]
DESCRIPTION:2 heures pour vous mettre dans la peau de Manet… Bon\, pas encore suffisant mais ça serait un bon début. Avec notre professeur d’Arts Plastiques\, apprenez les bases. Vous n’irez plus au musée de la même façon… \nVenez les mains dans les poches: le matériel vous sera FOURNI \nConsommation non comprise \nNature Morte (09.04) et Portrait sont les 2 parties d’un stage autour du croquis et de la couleur…\nVous pouvez participer à l’un ou à l’autre ou aux deux pour bénéficier de la totalité de votre progression.
URL:https://uncafefrancais.com/en/agenda/atelierdessin-croquiscoul-portrait-220416/
CATEGORIES:[:fr]Ateliers Débutants[:][:en]Beginner workshops[:],[:fr]Ateliers Intermédiaires[:][:en]Intermediate workshops[:],[:fr]Ateliers[:][:en]Workshops[:]
ATTACH;FMTTYPE=image/png:https://uncafefrancais.com/wp-content/uploads/2020/01/uncafefrancais_Atelier-Arts-Plastiques-Mains-compressor.png
END:VEVENT
BEGIN:VEVENT
DTSTART;TZID=Europe/Paris:20220409T153000
DTEND;TZID=Europe/Paris:20220409T173000
DTSTAMP:20260423T000759
CREATED:20220407T084728Z
LAST-MODIFIED:20220407T133519Z
UID:10829-1649518200-1649525400@uncafefrancais.com
SUMMARY:[:en]Workshop DRAWING_Nature Morte : Sketch and Color [:fr]Atelier DESSIN_Nature Morte : Du Croquis à la Couleur[:]
DESCRIPTION:2 hours to be a Manet-to-be or a Delacroix? Probably not\, but you will learn how to draw from a highly-skilled Parisian fine arts teacher\, learn more about art\, all while improving your french. Plus\, you’ll have a fresh perspective next time you visit the Musee d’Orsay. \nCome with your hands in your pockets : the material will be PROVIDED to you. \nConsumption not included \nStill Life (Nature Morte) and Portrait(16.04) are the 2 parts of a course around sketching and colour…\nYou can participate in one or the other or both to fully benefit of your progression.
URL:https://uncafefrancais.com/en/agenda/atelierdessin-croquiscoul-naturemorte-220409/
CATEGORIES:[:fr]Ateliers Débutants[:][:en]Beginner workshops[:],[:fr]Ateliers Intermédiaires[:][:en]Intermediate workshops[:],[:fr]Ateliers[:][:en]Workshops[:]
ATTACH;FMTTYPE=image/png:https://uncafefrancais.com/wp-content/uploads/2020/01/uncafefrancais_Atelier-Arts-Plastiques-Mains-compressor.png
END:VEVENT
BEGIN:VEVENT
DTSTART;TZID=Europe/Paris:20220330T183000
DTEND;TZID=Europe/Paris:20220330T200000
DTSTAMP:20260423T000759
CREATED:20220307T090606Z
LAST-MODIFIED:20220307T101939Z
UID:10699-1648665000-1648670400@uncafefrancais.com
SUMMARY:L’Apéro Intermédiaires
DESCRIPTION:Drinks in a small group\, and a discussion in French: our secret recipe for improving your French at your ease and ending the day on a high note. \nConsumption not included\nA
URL:https://uncafefrancais.com/en/agenda/apero-intermediaires-220330/
LOCATION:(Français) Les Associés\, 50\, Bd de la Bastille\, Parais\, 75012\, France
ATTACH;FMTTYPE=image/png:https://uncafefrancais.com/wp-content/uploads/2020/01/UCF-Jumelle-Apero_int.png
END:VEVENT
BEGIN:VEVENT
DTSTART;TZID=Europe/Paris:20220329T140000
DTEND;TZID=Europe/Paris:20220329T153000
DTSTAMP:20260423T000759
CREATED:20220307T122151Z
LAST-MODIFIED:20220424T144628Z
UID:10750-1648562400-1648567800@uncafefrancais.com
SUMMARY:La Pause-Café Intermédiaires
DESCRIPTION:Afternoons are a great time to have a conversation…Take in a new neighbourhood\, settle into a café with original or historic decor and speak French for a good hour. At the end\, we’ll discover or revisit one particular aspect of French that you find difficult\, by most of all putting it to good use! \nConsumption not included
URL:https://uncafefrancais.com/en/agenda/pausecafe-intermediaires-220329/
ATTACH;FMTTYPE=image/png:https://uncafefrancais.com/wp-content/uploads/2020/01/UCF-Jumelle-Pause-cafe_int.png
END:VEVENT
BEGIN:VEVENT
DTSTART;TZID=Europe/Paris:20220323T183000
DTEND;TZID=Europe/Paris:20220323T200000
DTSTAMP:20260423T000759
CREATED:20220307T095024Z
LAST-MODIFIED:20220307T095024Z
UID:10719-1648060200-1648065600@uncafefrancais.com
SUMMARY:L’Apéro Intermédiaires
DESCRIPTION:Drinks in a small group\, and a discussion in French: our secret recipe for improving your French at your ease and ending the day on a high note. \nConsumption not included
URL:https://uncafefrancais.com/en/agenda/apero-intermediaires-220323/
LOCATION:(Français) Les Associés\, 50\, Bd de la Bastille\, Parais\, 75012\, France
ATTACH;FMTTYPE=image/png:https://uncafefrancais.com/wp-content/uploads/2020/01/UCF-Jumelle-Apero_int.png
END:VEVENT
BEGIN:VEVENT
DTSTART;TZID=Europe/Paris:20220322T140000
DTEND;TZID=Europe/Paris:20220322T153000
DTSTAMP:20260423T000759
CREATED:20220307T122118Z
LAST-MODIFIED:20220424T143346Z
UID:10751-1647957600-1647963000@uncafefrancais.com
SUMMARY:La Pause-Café Intermédiaires
DESCRIPTION:Afternoons are a great time to have a conversation…Take in a new neighbourhood\, settle into a café with original or historic decor and speak French for a good hour. At the end\, we’ll discover or revisit one particular aspect of French that you find difficult\, by most of all putting it to good use! \nConsumption not included
URL:https://uncafefrancais.com/en/agenda/pausecafe-intermediaires-220322/
ATTACH;FMTTYPE=image/png:https://uncafefrancais.com/wp-content/uploads/2020/01/UCF-Jumelle-Pause-cafe_int.png
END:VEVENT
BEGIN:VEVENT
DTSTART;TZID=Europe/Paris:20220316T183000
DTEND;TZID=Europe/Paris:20220316T200000
DTSTAMP:20260423T000759
CREATED:20220307T094734Z
LAST-MODIFIED:20220307T103854Z
UID:10721-1647455400-1647460800@uncafefrancais.com
SUMMARY:L’Apéro Intermédiaires
DESCRIPTION:Drinks in a small group\, and a discussion in French: our secret recipe for improving your French at your ease and ending the day on a high note. \nConsumption not included
URL:https://uncafefrancais.com/en/agenda/apero-intermediaires-220316/
LOCATION:(Français) Les Associés\, 50\, Bd de la Bastille\, Parais\, 75012\, France
ATTACH;FMTTYPE=image/png:https://uncafefrancais.com/wp-content/uploads/2020/01/UCF-Jumelle-Apero_int.png
END:VEVENT
BEGIN:VEVENT
DTSTART;TZID=Europe/Paris:20220315T140000
DTEND;TZID=Europe/Paris:20220315T153000
DTSTAMP:20260423T000759
CREATED:20220307T105804Z
LAST-MODIFIED:20220307T115059Z
UID:10238-1647352800-1647358200@uncafefrancais.com
SUMMARY:La Pause-Café Intermédiaires
DESCRIPTION:Afternoons are a great time to have a conversation…Take in a new neighbourhood\, settle into a café with original or historic decor and speak French for a good hour. At the end\, we’ll discover or revisit one particular aspect of French that you find difficult\, by most of all putting it to good use! \nConsumption not included
URL:https://uncafefrancais.com/en/agenda/pausecafe-intermediaires-220315/
ATTACH;FMTTYPE=image/png:https://uncafefrancais.com/wp-content/uploads/2020/01/UCF-Jumelle-Pause-cafe_int.png
END:VEVENT
BEGIN:VEVENT
DTSTART;TZID=Europe/Paris:20220309T183000
DTEND;TZID=Europe/Paris:20220309T200000
DTSTAMP:20260423T000759
CREATED:20220307T090143Z
LAST-MODIFIED:20220307T090800Z
UID:10702-1646850600-1646856000@uncafefrancais.com
SUMMARY:L’Apéro Intermédiaires
DESCRIPTION:Drinks in a small group\, and a discussion in French: our secret recipe for improving your French at your ease and ending the day on a high note. \nConsumption not included\nA
URL:https://uncafefrancais.com/en/agenda/apero-intermediaires-220309/
LOCATION:(Français) Les Associés\, 50\, Bd de la Bastille\, Parais\, 75012\, France
ATTACH;FMTTYPE=image/png:https://uncafefrancais.com/wp-content/uploads/2020/01/UCF-Jumelle-Apero_int.png
END:VEVENT
BEGIN:VEVENT
DTSTART;TZID=Europe/Paris:20220308T140000
DTEND;TZID=Europe/Paris:20220308T153000
DTSTAMP:20260423T000759
CREATED:20220307T105053Z
LAST-MODIFIED:20220307T123742Z
UID:10237-1646748000-1646753400@uncafefrancais.com
SUMMARY:La Pause-Café Intermédiaires
DESCRIPTION:Afternoons are a great time to have a conversation…Take in a new neighbourhood\, settle into a café with original or historic decor and speak French for a good hour. At the end\, we’ll discover or revisit one particular aspect of French that you find difficult\, by most of all putting it to good use! \nConsumption not included
URL:https://uncafefrancais.com/en/agenda/pausecafe-intermediaires-220308/
ATTACH;FMTTYPE=image/png:https://uncafefrancais.com/wp-content/uploads/2020/01/UCF-Jumelle-Pause-cafe_int.png
END:VEVENT
BEGIN:VEVENT
DTSTART;TZID=Europe/Paris:20220302T183000
DTEND;TZID=Europe/Paris:20220302T200000
DTSTAMP:20260423T000759
CREATED:20220307T101452Z
LAST-MODIFIED:20220307T101452Z
UID:10733-1646245800-1646251200@uncafefrancais.com
SUMMARY:L’Apéro Intermédiaires
DESCRIPTION:Drinks in a small group\, and a discussion in French: our secret recipe for improving your French at your ease and ending the day on a high note. \nConsumption not included
URL:https://uncafefrancais.com/en/agenda/apero-intermediaires-220302/
LOCATION:(Français) Les Associés\, 50\, Bd de la Bastille\, Parais\, 75012\, France
ATTACH;FMTTYPE=image/png:https://uncafefrancais.com/wp-content/uploads/2020/01/UCF-Jumelle-Apero_int.png
END:VEVENT
BEGIN:VEVENT
DTSTART;TZID=Europe/Paris:20220301T140000
DTEND;TZID=Europe/Paris:20220301T153000
DTSTAMP:20260423T000759
CREATED:20220307T123432Z
LAST-MODIFIED:20220307T123746Z
UID:10760-1646143200-1646148600@uncafefrancais.com
SUMMARY:La Pause-Café Intermédiaires
DESCRIPTION:Afternoons are a great time to have a conversation…Take in a new neighbourhood\, settle into a café with original or historic decor and speak French for a good hour. At the end\, we’ll discover or revisit one particular aspect of French that you find difficult\, by most of all putting it to good use! \nConsumption not included
URL:https://uncafefrancais.com/en/agenda/pausecafe-intermediaires-220301/
ATTACH;FMTTYPE=image/png:https://uncafefrancais.com/wp-content/uploads/2020/01/UCF-Jumelle-Pause-cafe_int.png
END:VEVENT
END:VCALENDAR