BEGIN:VCALENDAR
VERSION:2.0
PRODID:-//Un Café Français - ECPv6.15.13.1//NONSGML v1.0//EN
CALSCALE:GREGORIAN
METHOD:PUBLISH
X-ORIGINAL-URL:https://uncafefrancais.com
X-WR-CALDESC:Évènements pour Un Café Français
REFRESH-INTERVAL;VALUE=DURATION:PT1H
X-Robots-Tag:noindex
X-PUBLISHED-TTL:PT1H
BEGIN:VTIMEZONE
TZID:Europe/Paris
BEGIN:DAYLIGHT
TZOFFSETFROM:+0100
TZOFFSETTO:+0200
TZNAME:CEST
DTSTART:20200329T010000
END:DAYLIGHT
BEGIN:STANDARD
TZOFFSETFROM:+0200
TZOFFSETTO:+0100
TZNAME:CET
DTSTART:20201025T010000
END:STANDARD
BEGIN:DAYLIGHT
TZOFFSETFROM:+0100
TZOFFSETTO:+0200
TZNAME:CEST
DTSTART:20210328T010000
END:DAYLIGHT
BEGIN:STANDARD
TZOFFSETFROM:+0200
TZOFFSETTO:+0100
TZNAME:CET
DTSTART:20211031T010000
END:STANDARD
BEGIN:DAYLIGHT
TZOFFSETFROM:+0100
TZOFFSETTO:+0200
TZNAME:CEST
DTSTART:20220327T010000
END:DAYLIGHT
BEGIN:STANDARD
TZOFFSETFROM:+0200
TZOFFSETTO:+0100
TZNAME:CET
DTSTART:20221030T010000
END:STANDARD
BEGIN:DAYLIGHT
TZOFFSETFROM:+0100
TZOFFSETTO:+0200
TZNAME:CEST
DTSTART:20230326T010000
END:DAYLIGHT
BEGIN:STANDARD
TZOFFSETFROM:+0200
TZOFFSETTO:+0100
TZNAME:CET
DTSTART:20231029T010000
END:STANDARD
END:VTIMEZONE
BEGIN:VEVENT
DTSTART;TZID=Europe/Paris:20220330T183000
DTEND;TZID=Europe/Paris:20220330T200000
DTSTAMP:20260423T044724
CREATED:20220307T090606Z
LAST-MODIFIED:20220307T101939Z
UID:10699-1648665000-1648670400@uncafefrancais.com
SUMMARY:L’Apéro Intermédiaires
DESCRIPTION:Un apéro\, un petit groupe\, une discussion en français : voici notre recette secrète pour progresser sans crainte en français et finir gaiement la journée \nConsommation non comprise\nA
URL:https://uncafefrancais.com/agenda/apero-intermediaires-220330/
LOCATION:Les Associés\, 50\, Bd de la Bastille\, Parais\, 75012\, France
ATTACH;FMTTYPE=image/png:https://uncafefrancais.com/wp-content/uploads/2020/01/UCF-Jumelle-Apero_int.png
END:VEVENT
BEGIN:VEVENT
DTSTART;TZID=Europe/Paris:20220329T140000
DTEND;TZID=Europe/Paris:20220329T153000
DTSTAMP:20260423T044724
CREATED:20220307T122151Z
LAST-MODIFIED:20220424T144628Z
UID:10750-1648562400-1648567800@uncafefrancais.com
SUMMARY:La Pause-Café Intermédiaires
DESCRIPTION:L’après-midi est un joli moment pour avoir une conversation… Visiter un quartier\, s’installer dans un café sympathique à la décoration originale ou classique et parler français durant une bonne heure. À la fin\, découvrons ou revoyons un point de la langue qui vous semble difficile\, mais surtout mettons-le en pratique ! \nConsommation non comprise
URL:https://uncafefrancais.com/agenda/pausecafe-intermediaires-220329/
ATTACH;FMTTYPE=image/png:https://uncafefrancais.com/wp-content/uploads/2020/01/UCF-Jumelle-Pause-cafe_int.png
END:VEVENT
BEGIN:VEVENT
DTSTART;TZID=Europe/Paris:20220323T183000
DTEND;TZID=Europe/Paris:20220323T200000
DTSTAMP:20260423T044724
CREATED:20220307T095024Z
LAST-MODIFIED:20220307T095024Z
UID:10719-1648060200-1648065600@uncafefrancais.com
SUMMARY:L’Apéro Intermédiaires
DESCRIPTION:Un apéro\, un petit groupe\, une discussion en français : voici notre recette secrète pour progresser sans crainte en français et finir gaiement la journée \nConsommation non comprise
URL:https://uncafefrancais.com/agenda/apero-intermediaires-220323/
LOCATION:Les Associés\, 50\, Bd de la Bastille\, Parais\, 75012\, France
ATTACH;FMTTYPE=image/png:https://uncafefrancais.com/wp-content/uploads/2020/01/UCF-Jumelle-Apero_int.png
END:VEVENT
BEGIN:VEVENT
DTSTART;TZID=Europe/Paris:20220322T140000
DTEND;TZID=Europe/Paris:20220322T153000
DTSTAMP:20260423T044724
CREATED:20220307T122118Z
LAST-MODIFIED:20220424T143346Z
UID:10751-1647957600-1647963000@uncafefrancais.com
SUMMARY:La Pause-Café Intermédiaires
DESCRIPTION:Afternoons are a great time to have a conversation…Take in a new neighbourhood\, settle into a café with original or historic decor and speak French for a good hour. At the end\, we’ll discover or revisit one particular aspect of French that you find difficult\, by most of all putting it to good use! \nConsumption not included
URL:https://uncafefrancais.com/agenda/pausecafe-intermediaires-220322/
ATTACH;FMTTYPE=image/png:https://uncafefrancais.com/wp-content/uploads/2020/01/UCF-Jumelle-Pause-cafe_int.png
END:VEVENT
BEGIN:VEVENT
DTSTART;TZID=Europe/Paris:20220316T183000
DTEND;TZID=Europe/Paris:20220316T200000
DTSTAMP:20260423T044724
CREATED:20220307T094734Z
LAST-MODIFIED:20220307T103854Z
UID:10721-1647455400-1647460800@uncafefrancais.com
SUMMARY:L’Apéro Intermédiaires
DESCRIPTION:Un apéro\, un petit groupe\, une discussion en français : voici notre recette secrète pour progresser sans crainte en français et finir gaiement la journée \nConsommation non comprise
URL:https://uncafefrancais.com/agenda/apero-intermediaires-220316/
LOCATION:Les Associés\, 50\, Bd de la Bastille\, Parais\, 75012\, France
ATTACH;FMTTYPE=image/png:https://uncafefrancais.com/wp-content/uploads/2020/01/UCF-Jumelle-Apero_int.png
END:VEVENT
BEGIN:VEVENT
DTSTART;TZID=Europe/Paris:20220315T140000
DTEND;TZID=Europe/Paris:20220315T153000
DTSTAMP:20260423T044724
CREATED:20220307T105804Z
LAST-MODIFIED:20220307T115059Z
UID:10238-1647352800-1647358200@uncafefrancais.com
SUMMARY:La Pause-Café Intermédiaires
DESCRIPTION:L’après-midi est un joli moment pour avoir une conversation… Visiter un quartier\, s’installer dans un café sympathique à la décoration originale ou classique et parler français durant une bonne heure. À la fin\, découvrons ou revoyons un point de la langue qui vous semble difficile\, mais surtout mettons-le en pratique ! \nConsommation non comprise
URL:https://uncafefrancais.com/agenda/pausecafe-intermediaires-220315/
ATTACH;FMTTYPE=image/png:https://uncafefrancais.com/wp-content/uploads/2020/01/UCF-Jumelle-Pause-cafe_int.png
END:VEVENT
BEGIN:VEVENT
DTSTART;TZID=Europe/Paris:20220309T183000
DTEND;TZID=Europe/Paris:20220309T200000
DTSTAMP:20260423T044724
CREATED:20220307T090143Z
LAST-MODIFIED:20220307T090800Z
UID:10702-1646850600-1646856000@uncafefrancais.com
SUMMARY:L’Apéro Intermédiaires
DESCRIPTION:Un apéro\, un petit groupe\, une discussion en français : voici notre recette secrète pour progresser sans crainte en français et finir gaiement la journée \nConsommation non comprise\nA
URL:https://uncafefrancais.com/agenda/apero-intermediaires-220309/
LOCATION:Les Associés\, 50\, Bd de la Bastille\, Parais\, 75012\, France
ATTACH;FMTTYPE=image/png:https://uncafefrancais.com/wp-content/uploads/2020/01/UCF-Jumelle-Apero_int.png
END:VEVENT
BEGIN:VEVENT
DTSTART;TZID=Europe/Paris:20220308T140000
DTEND;TZID=Europe/Paris:20220308T153000
DTSTAMP:20260423T044724
CREATED:20220307T105053Z
LAST-MODIFIED:20220307T123742Z
UID:10237-1646748000-1646753400@uncafefrancais.com
SUMMARY:La Pause-Café Intermédiaires
DESCRIPTION:Afternoons are a great time to have a conversation…Take in a new neighbourhood\, settle into a café with original or historic decor and speak French for a good hour. At the end\, we’ll discover or revisit one particular aspect of French that you find difficult\, by most of all putting it to good use! \nConsumption not included
URL:https://uncafefrancais.com/agenda/pausecafe-intermediaires-220308/
ATTACH;FMTTYPE=image/png:https://uncafefrancais.com/wp-content/uploads/2020/01/UCF-Jumelle-Pause-cafe_int.png
END:VEVENT
BEGIN:VEVENT
DTSTART;TZID=Europe/Paris:20220302T183000
DTEND;TZID=Europe/Paris:20220302T200000
DTSTAMP:20260423T044724
CREATED:20220307T101452Z
LAST-MODIFIED:20220307T101452Z
UID:10733-1646245800-1646251200@uncafefrancais.com
SUMMARY:L’Apéro Intermédiaires
DESCRIPTION:Un apéro\, un petit groupe\, une discussion en français : voici notre recette secrète pour progresser sans crainte en français et finir gaiement la journée \nConsommation non comprise
URL:https://uncafefrancais.com/agenda/apero-intermediaires-220302/
LOCATION:Les Associés\, 50\, Bd de la Bastille\, Parais\, 75012\, France
ATTACH;FMTTYPE=image/png:https://uncafefrancais.com/wp-content/uploads/2020/01/UCF-Jumelle-Apero_int.png
END:VEVENT
BEGIN:VEVENT
DTSTART;TZID=Europe/Paris:20220301T140000
DTEND;TZID=Europe/Paris:20220301T153000
DTSTAMP:20260423T044724
CREATED:20220307T123432Z
LAST-MODIFIED:20220307T123746Z
UID:10760-1646143200-1646148600@uncafefrancais.com
SUMMARY:La Pause-Café Intermédiaires
DESCRIPTION:L’après-midi est un joli moment pour avoir une conversation… Visiter un quartier\, s’installer dans un café sympathique à la décoration originale ou classique et parler français durant une bonne heure. À la fin\, découvrons ou revoyons un point de la langue qui vous semble difficile\, mais surtout mettons-le en pratique ! \nConsommation non comprise
URL:https://uncafefrancais.com/agenda/pausecafe-intermediaires-220301/
ATTACH;FMTTYPE=image/png:https://uncafefrancais.com/wp-content/uploads/2020/01/UCF-Jumelle-Pause-cafe_int.png
END:VEVENT
BEGIN:VEVENT
DTSTART;TZID=Europe/Paris:20220227T150000
DTEND;TZID=Europe/Paris:20220227T170000
DTSTAMP:20260423T044724
CREATED:20220221T134124Z
LAST-MODIFIED:20220221T134810Z
UID:10638-1645974000-1645981200@uncafefrancais.com
SUMMARY:[:en]Workshop : Sketch a moment in Paris[:fr]Atelier Dessin : Croquez un moment français[:]
DESCRIPTION:2 heures pour vous mettre dans la peau de Manet… Bon\, pas encore suffisant mais ça serait un bon début. Avec notre professeur d’Arts Plastiques\, apprenez les bases. Vous n’irez plus au musée de la même façon… \nVenez les mains dans les poches: le matériel vous sera FOURNI  \nConsommation non comprise
URL:https://uncafefrancais.com/agenda/220227-atelierdessin-croquezunmomentfrancais/
CATEGORIES:[:fr]Ateliers Débutants[:][:en]Beginner workshops[:],[:fr]Ateliers Intermédiaires[:][:en]Intermediate workshops[:],[:fr]Ateliers[:][:en]Workshops[:]
ATTACH;FMTTYPE=image/png:https://uncafefrancais.com/wp-content/uploads/2020/01/uncafefrancais_Atelier-Arts-Plastiques-Mains-compressor.png
END:VEVENT
BEGIN:VEVENT
DTSTART;TZID=Europe/Paris:20211130T140000
DTEND;TZID=Europe/Paris:20211130T153000
DTSTAMP:20260423T044724
CREATED:20211006T122659Z
LAST-MODIFIED:20211025T212907Z
UID:10243-1638280800-1638286200@uncafefrancais.com
SUMMARY:La Pause-Café Intermédiaires
DESCRIPTION:L’après-midi est un joli moment pour avoir une conversation… Visiter un quartier\, s’installer dans un café sympathique à la décoration originale ou classique et parler français durant une bonne heure. À la fin\, découvrons ou revoyons un point de la langue qui vous semble difficile\, mais surtout mettons-le en pratique ! \nConsommation non comprise
URL:https://uncafefrancais.com/agenda/pausecafe-intermediaires-211130/
CATEGORIES:[:fr]Groupes de conversations Intermédiaires[:][:en]Intermediate Conversations Groups[:],[:fr]Groupes de conversations[:][:en]Conversation Groups[:],[:fr]Pauses-Café Intermédiaires[:][:en]Intermediate Pauses-Café[:],Pauses-Café
ATTACH;FMTTYPE=image/png:https://uncafefrancais.com/wp-content/uploads/2020/01/UCF-Jumelle-Pause-cafe_int.png
END:VEVENT
BEGIN:VEVENT
DTSTART;TZID=Europe/Paris:20211123T140000
DTEND;TZID=Europe/Paris:20211123T153000
DTSTAMP:20260423T044724
CREATED:20211006T122646Z
LAST-MODIFIED:20211006T144619Z
UID:10242-1637676000-1637681400@uncafefrancais.com
SUMMARY:La Pause-Café Intermédiaires
DESCRIPTION:L’après-midi est un joli moment pour avoir une conversation… Visiter un quartier\, s’installer dans un café sympathique à la décoration originale ou classique et parler français durant une bonne heure. À la fin\, découvrons ou revoyons un point de la langue qui vous semble difficile\, mais surtout mettons-le en pratique ! \nConsommation non comprise
URL:https://uncafefrancais.com/agenda/pausecafe-intermediaires-211123/
CATEGORIES:[:fr]Groupes de conversations Intermédiaires[:][:en]Intermediate Conversations Groups[:],[:fr]Groupes de conversations[:][:en]Conversation Groups[:],[:fr]Pauses-Café Intermédiaires[:][:en]Intermediate Pauses-Café[:],Pauses-Café
ATTACH;FMTTYPE=image/png:https://uncafefrancais.com/wp-content/uploads/2020/01/UCF-Jumelle-Pause-cafe_int.png
END:VEVENT
BEGIN:VEVENT
DTSTART;TZID=Europe/Paris:20211116T080000
DTEND;TZID=Europe/Paris:20211116T170000
DTSTAMP:20260423T044724
CREATED:20211006T115411Z
LAST-MODIFIED:20211006T144317Z
UID:10241-1637049600-1637082000@uncafefrancais.com
SUMMARY:La Pause-Café Intermédiaires
DESCRIPTION:L’après-midi est un joli moment pour avoir une conversation… Visiter un quartier\, s’installer dans un café sympathique à la décoration originale ou classique et parler français durant une bonne heure. À la fin\, découvrons ou revoyons un point de la langue qui vous semble difficile\, mais surtout mettons-le en pratique ! \nConsommation non comprise
URL:https://uncafefrancais.com/agenda/pausecafe-intermediaires-211116/
ATTACH;FMTTYPE=image/png:https://uncafefrancais.com/wp-content/uploads/2020/01/UCF-Jumelle-Pause-cafe_deb.png
END:VEVENT
BEGIN:VEVENT
DTSTART;TZID=Europe/Paris:20211109T140000
DTEND;TZID=Europe/Paris:20211109T153000
DTSTAMP:20260423T044724
CREATED:20211006T122627Z
LAST-MODIFIED:20211006T143907Z
UID:10240-1636466400-1636471800@uncafefrancais.com
SUMMARY:La Pause-Café Intermédiaires
DESCRIPTION:L’après-midi est un joli moment pour avoir une conversation… Visiter un quartier\, s’installer dans un café sympathique à la décoration originale ou classique et parler français durant une bonne heure. À la fin\, découvrons ou revoyons un point de la langue qui vous semble difficile\, mais surtout mettons-le en pratique ! \nConsommation non comprise
URL:https://uncafefrancais.com/agenda/pausecafe-intermediaires-211109/
CATEGORIES:[:fr]Groupes de conversations Intermédiaires[:][:en]Intermediate Conversations Groups[:],[:fr]Groupes de conversations[:][:en]Conversation Groups[:],[:fr]Pauses-Café Intermédiaires[:][:en]Intermediate Pauses-Café[:],Pauses-Café
ATTACH;FMTTYPE=image/png:https://uncafefrancais.com/wp-content/uploads/2020/01/UCF-Jumelle-Pause-cafe_int.png
END:VEVENT
BEGIN:VEVENT
DTSTART;TZID=Europe/Paris:20211102T140000
DTEND;TZID=Europe/Paris:20211102T153000
DTSTAMP:20260423T044724
CREATED:20211006T122610Z
LAST-MODIFIED:20211006T142423Z
UID:10239-1635861600-1635867000@uncafefrancais.com
SUMMARY:La Pause-Café Intermédiaires
DESCRIPTION:L’après-midi est un joli moment pour avoir une conversation… Visiter un quartier\, s’installer dans un café sympathique à la décoration originale ou classique et parler français durant une bonne heure. À la fin\, découvrons ou revoyons un point de la langue qui vous semble difficile\, mais surtout mettons-le en pratique ! \nConsommation non comprise
URL:https://uncafefrancais.com/agenda/pausecafe-intermediaires-211102/
CATEGORIES:[:fr]Groupes de conversations Intermédiaires[:][:en]Intermediate Conversations Groups[:],[:fr]Groupes de conversations[:][:en]Conversation Groups[:],[:fr]Pauses-Café Intermédiaires[:][:en]Intermediate Pauses-Café[:],Pauses-Café
ATTACH;FMTTYPE=image/png:https://uncafefrancais.com/wp-content/uploads/2020/01/UCF-Jumelle-Pause-cafe_int.png
END:VEVENT
BEGIN:VEVENT
DTSTART;TZID=Europe/Paris:20211027T183000
DTEND;TZID=Europe/Paris:20211027T203000
DTSTAMP:20260423T044724
CREATED:20210930T070345Z
LAST-MODIFIED:20210930T070917Z
UID:10148-1635359400-1635366600@uncafefrancais.com
SUMMARY:L’Apéro Intermédiaires
DESCRIPTION:Un apéro\, un petit groupe\, une discussion en français : voici notre recette secrète pour progresser sans crainte en français et finir gaiement la journée \nConsommation non comprise\nA
URL:https://uncafefrancais.com/agenda/apero-intermediaires-211027/
LOCATION:L’Etoile Manquante\, 34\, rue Vieille du Temple\, PARIS\, 75004\, France
CATEGORIES:[:fr]Apéros Intermédiaires[:][:en]Intermediate Apéros[:],[:fr]Groupes de conversations Intermédiaires[:][:en]Intermediate Conversations Groups[:],[:fr]Groupes de conversations[:][:en]Conversation Groups[:],Apéros
ATTACH;FMTTYPE=image/png:https://uncafefrancais.com/wp-content/uploads/2020/01/UCF-Jumelle-Apero_int.png
END:VEVENT
BEGIN:VEVENT
DTSTART;TZID=Europe/Paris:20211026T140000
DTEND;TZID=Europe/Paris:20211026T153000
DTSTAMP:20260423T044724
CREATED:20211006T123146Z
LAST-MODIFIED:20211025T215618Z
UID:10255-1635256800-1635262200@uncafefrancais.com
SUMMARY:La Pause-Café Intermédiaires
DESCRIPTION:L’après-midi est un joli moment pour avoir une conversation… Visiter un quartier\, s’installer dans un café sympathique à la décoration originale ou classique et parler français durant une bonne heure. À la fin\, découvrons ou revoyons un point de la langue qui vous semble difficile\, mais surtout mettons-le en pratique ! \nConsommation non comprise
URL:https://uncafefrancais.com/agenda/pausecafe-intermediaires-211026/
LOCATION:BERCY Café\, 118\, Rue de Bercy\, PARIS\, 75012\, France
CATEGORIES:[:fr]Groupes de conversations Intermédiaires[:][:en]Intermediate Conversations Groups[:],[:fr]Groupes de conversations[:][:en]Conversation Groups[:],[:fr]Pauses-Café Intermédiaires[:][:en]Intermediate Pauses-Café[:],Pauses-Café
ATTACH;FMTTYPE=image/png:https://uncafefrancais.com/wp-content/uploads/2020/01/UCF-Jumelle-Pause-cafe_int.png
END:VEVENT
BEGIN:VEVENT
DTSTART;TZID=Europe/Paris:20211020T183000
DTEND;TZID=Europe/Paris:20211020T203000
DTSTAMP:20260423T044724
CREATED:20210930T065817Z
LAST-MODIFIED:20210930T071145Z
UID:10147-1634754600-1634761800@uncafefrancais.com
SUMMARY:L’Apéro Intermédiaires
DESCRIPTION:Un apéro\, un petit groupe\, une discussion en français : voici notre recette secrète pour progresser sans crainte en français et finir gaiement la journée \nConsommation non comprise\nA
URL:https://uncafefrancais.com/agenda/apero-intermediaires-211020/
LOCATION:L’Etoile Manquante\, 34\, rue Vieille du Temple\, PARIS\, 75004\, France
CATEGORIES:[:fr]Apéros Intermédiaires[:][:en]Intermediate Apéros[:],[:fr]Groupes de conversations Intermédiaires[:][:en]Intermediate Conversations Groups[:],[:fr]Groupes de conversations[:][:en]Conversation Groups[:],Apéros
ATTACH;FMTTYPE=image/png:https://uncafefrancais.com/wp-content/uploads/2020/01/UCF-Jumelle-Apero_int.png
END:VEVENT
BEGIN:VEVENT
DTSTART;TZID=Europe/Paris:20211019T140000
DTEND;TZID=Europe/Paris:20211019T153000
DTSTAMP:20260423T044724
CREATED:20211006T141927Z
LAST-MODIFIED:20211006T142046Z
UID:10254-1634652000-1634657400@uncafefrancais.com
SUMMARY:La Pause-Café Intermédiaires
DESCRIPTION:L’après-midi est un joli moment pour avoir une conversation… Visiter un quartier\, s’installer dans un café sympathique à la décoration originale ou classique et parler français durant une bonne heure. À la fin\, découvrons ou revoyons un point de la langue qui vous semble difficile\, mais surtout mettons-le en pratique ! \nConsommation non comprise
URL:https://uncafefrancais.com/agenda/pausecafe-intermediaires-211019/
CATEGORIES:[:fr]Groupes de conversations[:][:en]Conversation Groups[:],[:fr]Pauses-Café Intermédiaires[:][:en]Intermediate Pauses-Café[:],Pauses-Café
ATTACH;FMTTYPE=image/png:https://uncafefrancais.com/wp-content/uploads/2020/01/UCF-Jumelle-Pause-cafe_int.png
END:VEVENT
BEGIN:VEVENT
DTSTART;TZID=Europe/Paris:20211013T183000
DTEND;TZID=Europe/Paris:20211013T203000
DTSTAMP:20260423T044724
CREATED:20210930T065406Z
LAST-MODIFIED:20210930T072015Z
UID:10146-1634149800-1634157000@uncafefrancais.com
SUMMARY:L’Apéro Intermédiaires
DESCRIPTION:Un apéro\, un petit groupe\, une discussion en français : voici notre recette secrète pour progresser sans crainte en français et finir gaiement la journée \nConsommation non comprise\nA
URL:https://uncafefrancais.com/agenda/apero-intermediaires-211013/
LOCATION:L’Etoile Manquante\, 34\, rue Vieille du Temple\, PARIS\, 75004\, France
CATEGORIES:[:fr]Apéros Intermédiaires[:][:en]Intermediate Apéros[:],[:fr]Groupes de conversations Intermédiaires[:][:en]Intermediate Conversations Groups[:],[:fr]Groupes de conversations[:][:en]Conversation Groups[:],Apéros
ATTACH;FMTTYPE=image/png:https://uncafefrancais.com/wp-content/uploads/2020/01/UCF-Jumelle-Apero_int.png
END:VEVENT
BEGIN:VEVENT
DTSTART;TZID=Europe/Paris:20211012T140000
DTEND;TZID=Europe/Paris:20211012T153000
DTSTAMP:20260423T044724
CREATED:20211006T121237Z
LAST-MODIFIED:20211006T121237Z
UID:10229-1634047200-1634052600@uncafefrancais.com
SUMMARY:La Pause-Café Intermédiaires
DESCRIPTION:L’après-midi est un joli moment pour avoir une conversation… Visiter un quartier\, s’installer dans un café sympathique à la décoration originale ou classique et parler français durant une bonne heure. À la fin\, découvrons ou revoyons un point de la langue qui vous semble difficile\, mais surtout mettons-le en pratique ! \nConsommation non comprise
URL:https://uncafefrancais.com/agenda/pausecafe-intermediaires-211012/
CATEGORIES:[:fr]Groupes de conversations Intermédiaires[:][:en]Intermediate Conversations Groups[:],[:fr]Groupes de conversations[:][:en]Conversation Groups[:],[:fr]Pauses-Café Débutants[:][:en]Beginner Pauses-Café[:],Pauses-Café
ATTACH;FMTTYPE=image/png:https://uncafefrancais.com/wp-content/uploads/2020/01/UCF-Jumelle-Pause-cafe_int.png
END:VEVENT
BEGIN:VEVENT
DTSTART;TZID=Europe/Paris:20211006T183000
DTEND;TZID=Europe/Paris:20211006T203000
DTSTAMP:20260423T044724
CREATED:20210930T065347Z
LAST-MODIFIED:20210930T071944Z
UID:10143-1633545000-1633552200@uncafefrancais.com
SUMMARY:L’Apéro Intermédiaires
DESCRIPTION:Un apéro\, un petit groupe\, une discussion en français : voici notre recette secrète pour progresser sans crainte en français et finir gaiement la journée \nConsommation non comprise\nA
URL:https://uncafefrancais.com/agenda/apero-intermediaires-211006/
LOCATION:L’Etoile Manquante\, 34\, rue Vieille du Temple\, PARIS\, 75004\, France
CATEGORIES:[:fr]Apéros Intermédiaires[:][:en]Intermediate Apéros[:],[:fr]Groupes de conversations Intermédiaires[:][:en]Intermediate Conversations Groups[:],[:fr]Groupes de conversations[:][:en]Conversation Groups[:],Apéros
ATTACH;FMTTYPE=image/png:https://uncafefrancais.com/wp-content/uploads/2020/01/UCF-Jumelle-Apero_int.png
END:VEVENT
BEGIN:VEVENT
DTSTART;TZID=Europe/Paris:20210907T140000
DTEND;TZID=Europe/Paris:20210907T153000
DTSTAMP:20260423T044724
CREATED:20210829T183257Z
LAST-MODIFIED:20210829T194104Z
UID:9501-1631023200-1631028600@uncafefrancais.com
SUMMARY:La Pause-Café Intermédiaires
DESCRIPTION:L’après-midi est un joli moment pour avoir une conversation… Visiter un quartier\, s’installer dans un café sympathique à la décoration originale ou classique et parler français durant une bonne heure. À la fin\, découvrons ou revoyons un point de la langue qui vous semble difficile\, mais surtout mettons-le en pratique ! \nConsommation non comprise
URL:https://uncafefrancais.com/agenda/pausecafe-intermediaires-210907/
CATEGORIES:[:fr]Groupes de conversations Intermédiaires[:][:en]Intermediate Conversations Groups[:],[:fr]Groupes de conversations[:][:en]Conversation Groups[:],[:fr]Pauses-Café Intermédiaires[:][:en]Intermediate Pauses-Café[:],Pauses-Café
ATTACH;FMTTYPE=image/png:https://uncafefrancais.com/wp-content/uploads/2020/01/UCF-Jumelle-Pause-cafe_int.png
END:VEVENT
BEGIN:VEVENT
DTSTART;TZID=Europe/Paris:20210901T183000
DTEND;TZID=Europe/Paris:20210901T203000
DTSTAMP:20260423T044724
CREATED:20210829T201337Z
LAST-MODIFIED:20210901T102212Z
UID:9523-1630521000-1630528200@uncafefrancais.com
SUMMARY:L’Apéro Intermédiaires
DESCRIPTION:Un apéro\, un petit groupe\, une discussion en français : voici notre recette secrète pour progresser sans crainte en français et finir gaiement la journée \nConsommation non comprise
URL:https://uncafefrancais.com/agenda/apero-intermediaires-210901/
LOCATION:L’Etoile Manquante\, 34\, rue Vieille du Temple\, PARIS\, 75004\, France
CATEGORIES:[:fr]Apéros Intermédiaires[:][:en]Intermediate Apéros[:],[:fr]Groupes de conversations Intermédiaires[:][:en]Intermediate Conversations Groups[:],[:fr]Groupes de conversations[:][:en]Conversation Groups[:],Apéros
ATTACH;FMTTYPE=image/png:https://uncafefrancais.com/wp-content/uploads/2020/01/UCF-Jumelle-Apero_int.png
END:VEVENT
BEGIN:VEVENT
DTSTART;TZID=Europe/Paris:20210818T183000
DTEND;TZID=Europe/Paris:20210818T203000
DTSTAMP:20260423T044724
CREATED:20210725T141433Z
LAST-MODIFIED:20210725T143536Z
UID:9334-1629311400-1629318600@uncafefrancais.com
SUMMARY:L’Apéro Intermédiaires
DESCRIPTION:Un apéro\, un petit groupe\, une discussion en français : voici notre recette secrète pour progresser sans crainte en français et finir gaiement la journée \n  \n  \nConsommation non comprise
URL:https://uncafefrancais.com/agenda/apero-intermediaires-210818/
LOCATION:L’Etoile Manquante\, 34\, rue Vieille du Temple\, PARIS\, 75004\, France
CATEGORIES:[:fr]Apéros Intermédiaires[:][:en]Intermediate Apéros[:],[:fr]Groupes de conversations Intermédiaires[:][:en]Intermediate Conversations Groups[:],[:fr]Groupes de conversations[:][:en]Conversation Groups[:],Apéros
ATTACH;FMTTYPE=image/png:https://uncafefrancais.com/wp-content/uploads/2020/01/UCF-Jumelle-Apero_int.png
END:VEVENT
BEGIN:VEVENT
DTSTART;TZID=Europe/Paris:20210811T183000
DTEND;TZID=Europe/Paris:20210811T203000
DTSTAMP:20260423T044724
CREATED:20210724T212744Z
LAST-MODIFIED:20210725T134916Z
UID:9315-1628706600-1628713800@uncafefrancais.com
SUMMARY:L’Apéro Intermédiaires
DESCRIPTION:Un apéro\, un petit groupe\, une discussion en français : voici notre recette secrète pour progresser sans crainte en français et finir gaiement la journée \n  \n  \nConsommation non comprise
URL:https://uncafefrancais.com/agenda/apero-intermediaires-210811/
LOCATION:L’Etoile Manquante\, 34\, rue Vieille du Temple\, PARIS\, 75004\, France
CATEGORIES:[:fr]Apéros Intermédiaires[:][:en]Intermediate Apéros[:],[:fr]Groupes de conversations Intermédiaires[:][:en]Intermediate Conversations Groups[:],[:fr]Groupes de conversations[:][:en]Conversation Groups[:],Apéros
ATTACH;FMTTYPE=image/png:https://uncafefrancais.com/wp-content/uploads/2020/01/UCF-Jumelle-Apero_int.png
END:VEVENT
BEGIN:VEVENT
DTSTART;TZID=Europe/Paris:20210804T183000
DTEND;TZID=Europe/Paris:20210804T203000
DTSTAMP:20260423T044724
CREATED:20210724T212557Z
LAST-MODIFIED:20210724T212557Z
UID:9314-1628101800-1628109000@uncafefrancais.com
SUMMARY:L’Apéro Intermédiaires
DESCRIPTION:Un apéro\, un petit groupe\, une discussion en français : voici notre recette secrète pour progresser sans crainte en français et finir gaiement la journée \n  \n  \nConsommation non comprise
URL:https://uncafefrancais.com/agenda/apero-intermediaires-210804/
LOCATION:L’Etoile Manquante\, 34\, rue Vieille du Temple\, PARIS\, 75004\, France
CATEGORIES:[:fr]Apéros Intermédiaires[:][:en]Intermediate Apéros[:],[:fr]Groupes de conversations Intermédiaires[:][:en]Intermediate Conversations Groups[:],[:fr]Groupes de conversations[:][:en]Conversation Groups[:],Apéros
ATTACH;FMTTYPE=image/png:https://uncafefrancais.com/wp-content/uploads/2020/01/UCF-Jumelle-Apero_int.png
END:VEVENT
BEGIN:VEVENT
DTSTART;TZID=Europe/Paris:20210728T183000
DTEND;TZID=Europe/Paris:20210728T203000
DTSTAMP:20260423T044724
CREATED:20210629T235507Z
LAST-MODIFIED:20210630T164352Z
UID:8839-1627497000-1627504200@uncafefrancais.com
SUMMARY:L’Apéro Intermédiaires
DESCRIPTION:Un apéro\, un petit groupe\, une discussion en français : voici notre recette secrète pour progresser sans crainte en français et finir gaiement la journée \n  \n  \nConsommation non comprise
URL:https://uncafefrancais.com/agenda/apero-intermediaires-210728/
LOCATION:L’Etoile Manquante\, 34\, rue Vieille du Temple\, PARIS\, 75004\, France
CATEGORIES:[:fr]Apéros Intermédiaires[:][:en]Intermediate Apéros[:],[:fr]Groupes de conversations Intermédiaires[:][:en]Intermediate Conversations Groups[:],[:fr]Groupes de conversations[:][:en]Conversation Groups[:],Apéros
ATTACH;FMTTYPE=image/png:https://uncafefrancais.com/wp-content/uploads/2020/01/UCF-Jumelle-Apero_int.png
END:VEVENT
BEGIN:VEVENT
DTSTART;TZID=Europe/Paris:20210723T073000
DTEND;TZID=Europe/Paris:20210723T183000
DTSTAMP:20260423T044724
CREATED:20210701T140824Z
LAST-MODIFIED:20210701T212358Z
UID:8877-1627025400-1627065000@uncafefrancais.com
SUMMARY:Visite :  PROVINS - Tous niveaux
DESCRIPTION:Cette fois\, Un Café Français vous propose une visite libre et dépaysante\, une belle journée de pause. \nEn effet\, nous quittons Paris (mais pas sa région) pour découvrir ensemble une très vieille ville\, encore remplie d’histoire. \nCette visite est libre : nous n’aurons pas de guide\, ce qui nous permettra d’avancer à notre rythme\, de prendre des pauses à notre gré\, de discuter tranquillement en français. \nVous pouvez venir accompagné(e) de personnes non-francophones : nous aurons plus que l’opportunité de parler français\, au cours de cette longue journée de français. Mais nous pourrons aussi échanger en anglais afin de leur rendre cette journée aussi conviviale que possible. Ainsi\, vous découvrirez ensemble une autre pan de l’histoire française et européenne. \nAlors\, on y va ? \n  \nTransports & consommations non-compris / Transportation & consumptions not included\nMinimum de participants / Minimum number of attendees : 1 \nPensez à vos masques et gel hydrohalcoolique / Think of your masks and hydrohalcoholic gel !!
URL:https://uncafefrancais.com/agenda/visite-provins210723/
LOCATION:PROVINS\, PROVINS\, Ile-de-France\, 77160\, France
CATEGORIES:[:fr]Visite[:][:en]Tours[:]
ATTACH;FMTTYPE=image/png:https://uncafefrancais.com/wp-content/uploads/2021/02/2019_IDF-Provins_jum.png
END:VEVENT
END:VCALENDAR