BEGIN:VCALENDAR
VERSION:2.0
PRODID:-//Un Café Français - ECPv6.15.13.1//NONSGML v1.0//EN
CALSCALE:GREGORIAN
METHOD:PUBLISH
X-WR-CALNAME:Un Café Français
X-ORIGINAL-URL:https://uncafefrancais.com/en
X-WR-CALDESC:Events for Un Café Français
REFRESH-INTERVAL;VALUE=DURATION:PT1H
X-Robots-Tag:noindex
X-PUBLISHED-TTL:PT1H
BEGIN:VTIMEZONE
TZID:Europe/Paris
BEGIN:DAYLIGHT
TZOFFSETFROM:+0100
TZOFFSETTO:+0200
TZNAME:CEST
DTSTART:20190331T010000
END:DAYLIGHT
BEGIN:STANDARD
TZOFFSETFROM:+0200
TZOFFSETTO:+0100
TZNAME:CET
DTSTART:20191027T010000
END:STANDARD
BEGIN:DAYLIGHT
TZOFFSETFROM:+0100
TZOFFSETTO:+0200
TZNAME:CEST
DTSTART:20200329T010000
END:DAYLIGHT
BEGIN:STANDARD
TZOFFSETFROM:+0200
TZOFFSETTO:+0100
TZNAME:CET
DTSTART:20201025T010000
END:STANDARD
BEGIN:DAYLIGHT
TZOFFSETFROM:+0100
TZOFFSETTO:+0200
TZNAME:CEST
DTSTART:20210328T010000
END:DAYLIGHT
BEGIN:STANDARD
TZOFFSETFROM:+0200
TZOFFSETTO:+0100
TZNAME:CET
DTSTART:20211031T010000
END:STANDARD
END:VTIMEZONE
BEGIN:VEVENT
DTSTART;TZID=Europe/Paris:20201029T093000
DTEND;TZID=Europe/Paris:20201029T110000
DTSTAMP:20260423T143151
CREATED:20200422T075410Z
LAST-MODIFIED:20210630T164956Z
UID:5281-1603963800-1603969200@uncafefrancais.com
SUMMARY:Le P’tit Déj’ Intermédiaires
DESCRIPTION:What if started the day with a pleasant conversation in a  charming café? Nothing better for getting up to speed. And to finish our  time together\, a new topic or some revision…It’s going to be a nice  day! \n\n\n\n\n\n\n\n\n\n\n\nWhat if started the day with a pleasant conversation in a charming café? Nothing better for getting up to speed. And to finish our time together\, a new topic or some revision…It’s going to be a nice day! \n  \n  \nConsumption not included
URL:https://uncafefrancais.com/en/agenda/ptitdej-intermediaires-201029/
CATEGORIES:[:fr]Groupes de conversations Intermédiaires[:][:en]Intermediate Conversations Groups[:],[:fr]Groupes de conversations[:][:en]Conversation Groups[:],[:fr]P'tits Déj' Intermédiaires[:][:en]Intermediate Breakfasts[:],P'tits Déj'
ATTACH;FMTTYPE=image/png:https://uncafefrancais.com/wp-content/uploads/2020/01/UCF-Jumelle-Pti-Déj_int.png
END:VEVENT
BEGIN:VEVENT
DTSTART;TZID=Europe/Paris:20201028T183000
DTEND;TZID=Europe/Paris:20201028T193000
DTSTAMP:20260423T143151
CREATED:20200926T181525Z
LAST-MODIFIED:20201028T161815Z
UID:6798-1603909800-1603913400@uncafefrancais.com
SUMMARY:L’Apéro Intermédiaires - EN LIGNE
DESCRIPTION:Drinks in a small group\, and a discussion in French: our secret recipe for improving your French at your ease and ending the day on a high note. \n  \n  \nConsumption not included
URL:https://uncafefrancais.com/en/agenda/apero-intermediaires-201028/
LOCATION:Mercredi Apéro Zoom Interm.\, https://us04web.zoom.us/j/74594312470?pwd=ZXJmaEVSRFR6Q0IxL3lOT0pzbDBlUT09
CATEGORIES:[:fr]Apéros Intermédiaires[:][:en]Intermediate Apéros[:],[:fr]Groupes de conversations Intermédiaires[:][:en]Intermediate Conversations Groups[:],[:fr]Groupes de conversations[:][:en]Conversation Groups[:],Apéros
END:VEVENT
BEGIN:VEVENT
DTSTART;TZID=Europe/Paris:20201027T140000
DTEND;TZID=Europe/Paris:20201027T153000
DTSTAMP:20260423T143151
CREATED:20200420T093521Z
LAST-MODIFIED:20201023T125020Z
UID:5137-1603807200-1603812600@uncafefrancais.com
SUMMARY:La Pause-Café Intermédiaires
DESCRIPTION:  \n\nAfternoons are a great time to have a conversation…Take in a new neighbourhood\, settle into a café with original or historic decor and speak French for a good hour. At the end\, we’ll discover or revisit one particular aspect of French that you find difficult\, by most of all putting it to good use! \n  \nConsumption not included
URL:https://uncafefrancais.com/en/agenda/pausecafe-intermediaires-201027/
CATEGORIES:[:fr]Groupes de conversations Intermédiaires[:][:en]Intermediate Conversations Groups[:],[:fr]Groupes de conversations[:][:en]Conversation Groups[:],[:fr]Pauses-Café Intermédiaires[:][:en]Intermediate Pauses-Café[:],
ATTACH;FMTTYPE=image/png:https://uncafefrancais.com/wp-content/uploads/2020/01/UCF-Jumelle-Pause-cafe_int.png
END:VEVENT
BEGIN:VEVENT
DTSTART;TZID=Europe/Paris:20201022T093000
DTEND;TZID=Europe/Paris:20201022T110000
DTSTAMP:20260423T143151
CREATED:20200422T071441Z
LAST-MODIFIED:20210630T164956Z
UID:5270-1603359000-1603364400@uncafefrancais.com
SUMMARY:Le P’tit Déj’ Intermédiaires
DESCRIPTION:What if started the day with a pleasant conversation in a  charming café? Nothing better for getting up to speed. And to finish our  time together\, a new topic or some revision…It’s going to be a nice  day! \n\n\n\n\n\n\n\n\n\n\n\nWhat if started the day with a pleasant conversation in a charming café? Nothing better for getting up to speed. And to finish our time together\, a new topic or some revision…It’s going to be a nice day! \n  \n  \nConsumption not included
URL:https://uncafefrancais.com/en/agenda/ptitdej-intermediaires-201022/
CATEGORIES:[:fr]Groupes de conversations Intermédiaires[:][:en]Intermediate Conversations Groups[:],[:fr]Groupes de conversations[:][:en]Conversation Groups[:],[:fr]P'tits Déj' Intermédiaires[:][:en]Intermediate Breakfasts[:],P'tits Déj'
ATTACH;FMTTYPE=image/png:https://uncafefrancais.com/wp-content/uploads/2020/01/UCF-Jumelle-Pti-Déj_int.png
END:VEVENT
BEGIN:VEVENT
DTSTART;TZID=Europe/Paris:20201020T140000
DTEND;TZID=Europe/Paris:20201020T153000
DTSTAMP:20260423T143151
CREATED:20200420T093333Z
LAST-MODIFIED:20201020T080357Z
UID:5138-1603202400-1603207800@uncafefrancais.com
SUMMARY:La Pause-Café Intermédiaires
DESCRIPTION:Afternoons are a great time to have a conversation…Take in a new neighbourhood\, settle into a café with original or historic decor and speak French for a good hour. At the end\, we’ll discover or revisit one particular aspect of French that you find difficult\, by most of all putting it to good use! \n  \nConsumption not included
URL:https://uncafefrancais.com/en/agenda/pausecafe-intermediaires-201020/
CATEGORIES:[:fr]Groupes de conversations Intermédiaires[:][:en]Intermediate Conversations Groups[:],[:fr]Groupes de conversations[:][:en]Conversation Groups[:],[:fr]Pauses-Café Intermédiaires[:][:en]Intermediate Pauses-Café[:],
ATTACH;FMTTYPE=image/png:https://uncafefrancais.com/wp-content/uploads/2020/01/UCF-Jumelle-Pause-cafe_int.png
END:VEVENT
BEGIN:VEVENT
DTSTART;TZID=Europe/Paris:20201015T093000
DTEND;TZID=Europe/Paris:20201015T110000
DTSTAMP:20260423T143151
CREATED:20200422T065945Z
LAST-MODIFIED:20210630T164957Z
UID:5269-1602754200-1602759600@uncafefrancais.com
SUMMARY:Le P’tit Déj’ Intermédiaires - [:fr]EN LIGNE[:][:en]ONLINE[:]
DESCRIPTION:  \n\n\n\nWhat if started the day with a pleasant conversation in a  charming café? Nothing better for getting up to speed. And to finish our  time together\, a new topic or some revision…It’s going to be a nice  day! \n\n\n\n\n\n\n\n\n\n\n\nWhat if started the day with a pleasant conversation in a charming café? Nothing better for getting up to speed. And to finish our time together\, a new topic or some revision…It’s going to be a nice day! \nYou will receive access after your registration
URL:https://uncafefrancais.com/en/agenda/ptitdej-intermediaires-201015/
CATEGORIES:[:fr]Groupes de conversations Intermédiaires[:][:en]Intermediate Conversations Groups[:],[:fr]Groupes de conversations[:][:en]Conversation Groups[:],[:fr]P'tits Déj' Intermédiaires[:][:en]Intermediate Breakfasts[:],P'tits Déj'
ATTACH;FMTTYPE=image/png:https://uncafefrancais.com/wp-content/uploads/2020/01/UCF-Jumelle-Pti-Déj_int.png
END:VEVENT
BEGIN:VEVENT
DTSTART;TZID=Europe/Paris:20201014T183000
DTEND;TZID=Europe/Paris:20201014T203000
DTSTAMP:20260423T143151
CREATED:20200926T153930Z
LAST-MODIFIED:20200928T132316Z
UID:6768-1602700200-1602707400@uncafefrancais.com
SUMMARY:L’Apéro Intermédiaires
DESCRIPTION:Drinks in a small group\, and a discussion in French: our secret recipe for improving your French at your ease and ending the day on a high note. \n  \n  \nConsumption not included
URL:https://uncafefrancais.com/en/agenda/apero-debutants-201014/
CATEGORIES:[:fr]Apéros Intermédiaires[:][:en]Intermediate Apéros[:],[:fr]Groupes de conversations Intermédiaires[:][:en]Intermediate Conversations Groups[:],[:fr]Groupes de conversations[:][:en]Conversation Groups[:],Apéros
ATTACH;FMTTYPE=image/png:https://uncafefrancais.com/wp-content/uploads/2020/01/UCF-Jumelle-Apero_int.png
END:VEVENT
BEGIN:VEVENT
DTSTART;TZID=Europe/Paris:20201013T140000
DTEND;TZID=Europe/Paris:20201013T153000
DTSTAMP:20260423T143151
CREATED:20200420T093140Z
LAST-MODIFIED:20200910T123651Z
UID:5139-1602597600-1602603000@uncafefrancais.com
SUMMARY:La Pause-Café Intermédiaires
DESCRIPTION:Afternoons are a great time to have a conversation…Take in a new neighbourhood\, settle into a café with original or historic decor and speak French for a good hour. At the end\, we’ll discover or revisit one particular aspect of French that you find difficult\, by most of all putting it to good use! \n  \nConsumption not included
URL:https://uncafefrancais.com/en/agenda/pausecafe-intermediaires-201013/
CATEGORIES:[:fr]Groupes de conversations Intermédiaires[:][:en]Intermediate Conversations Groups[:],[:fr]Groupes de conversations[:][:en]Conversation Groups[:],[:fr]Pauses-Café Intermédiaires[:][:en]Intermediate Pauses-Café[:],
ATTACH;FMTTYPE=image/png:https://uncafefrancais.com/wp-content/uploads/2020/01/UCF-Jumelle-Pause-cafe_int.png
END:VEVENT
BEGIN:VEVENT
DTSTART;TZID=Europe/Paris:20201008T093000
DTEND;TZID=Europe/Paris:20201008T110000
DTSTAMP:20260423T143151
CREATED:20200422T070745Z
LAST-MODIFIED:20210630T164956Z
UID:5267-1602149400-1602154800@uncafefrancais.com
SUMMARY:Le P’tit Déj’ Intermédiaires
DESCRIPTION:What if started the day with a pleasant conversation in a  charming café? Nothing better for getting up to speed. And to finish our  time together\, a new topic or some revision…It’s going to be a nice  day! \n\n\n\n\n\n\n\n\n\n\n\nWhat if started the day with a pleasant conversation in a charming café? Nothing better for getting up to speed. And to finish our time together\, a new topic or some revision…It’s going to be a nice day! \n  \n  \nConsumption not included
URL:https://uncafefrancais.com/en/agenda/ptitdej-intermediaires-201008/
CATEGORIES:[:fr]Groupes de conversations Intermédiaires[:][:en]Intermediate Conversations Groups[:],[:fr]Groupes de conversations[:][:en]Conversation Groups[:],[:fr]P'tits Déj' Intermédiaires[:][:en]Intermediate Breakfasts[:],P'tits Déj'
ATTACH;FMTTYPE=image/png:https://uncafefrancais.com/wp-content/uploads/2020/01/UCF-Jumelle-Pti-Déj_int.png
END:VEVENT
BEGIN:VEVENT
DTSTART;TZID=Europe/Paris:20201007T183000
DTEND;TZID=Europe/Paris:20201007T203000
DTSTAMP:20260423T143151
CREATED:20200926T135836Z
LAST-MODIFIED:20200928T132331Z
UID:6752-1602095400-1602102600@uncafefrancais.com
SUMMARY:L’Apéro Intermédiaires
DESCRIPTION:Drinks in a small group\, and a discussion in French: our secret recipe for improving your French at your ease and ending the day on a high note. \n  \n  \nConsumption not included
URL:https://uncafefrancais.com/en/agenda/apero-debutants-201007/
CATEGORIES:[:fr]Apéros Intermédiaires[:][:en]Intermediate Apéros[:],[:fr]Groupes de conversations Intermédiaires[:][:en]Intermediate Conversations Groups[:],[:fr]Groupes de conversations[:][:en]Conversation Groups[:],Apéros
ATTACH;FMTTYPE=image/png:https://uncafefrancais.com/wp-content/uploads/2020/01/UCF-Jumelle-Apero_int.png
END:VEVENT
BEGIN:VEVENT
DTSTART;TZID=Europe/Paris:20201001T093000
DTEND;TZID=Europe/Paris:20201001T110000
DTSTAMP:20260423T143151
CREATED:20200422T070601Z
LAST-MODIFIED:20210630T164957Z
UID:5266-1601544600-1601550000@uncafefrancais.com
SUMMARY:Le P’tit Déj’ Intermédiaires
DESCRIPTION:What if started the day with a pleasant conversation in a  charming café? Nothing better for getting up to speed. And to finish our  time together\, a new topic or some revision…It’s going to be a nice  day! \n\n\n\n\n\n\n\n\n\n\n\nWhat if started the day with a pleasant conversation in a charming café? Nothing better for getting up to speed. And to finish our time together\, a new topic or some revision…It’s going to be a nice day! \n  \n  \nConsumption not included
URL:https://uncafefrancais.com/en/agenda/ptitdej-intermediaires-201001/
CATEGORIES:[:fr]Groupes de conversations Intermédiaires[:][:en]Intermediate Conversations Groups[:],[:fr]Groupes de conversations[:][:en]Conversation Groups[:],[:fr]P'tits Déj' Intermédiaires[:][:en]Intermediate Breakfasts[:],P'tits Déj'
ATTACH;FMTTYPE=image/png:https://uncafefrancais.com/wp-content/uploads/2020/01/UCF-Jumelle-Pti-Déj_int.png
END:VEVENT
BEGIN:VEVENT
DTSTART;TZID=Europe/Paris:20200930T183000
DTEND;TZID=Europe/Paris:20200930T203000
DTSTAMP:20260423T143151
CREATED:20200728T134652Z
LAST-MODIFIED:20200901T072913Z
UID:5793-1601490600-1601497800@uncafefrancais.com
SUMMARY:L’Apéro Intermédiaires
DESCRIPTION:Drinks in a small group\, and a discussion in French: our secret recipe for improving your French at your ease and ending the day on a high note. \n  \n  \nConsumption not included
URL:https://uncafefrancais.com/en/agenda/apero-intermediaires-200930/
CATEGORIES:[:fr]Apéros Intermédiaires[:][:en]Intermediate Apéros[:],[:fr]Groupes de conversations Intermédiaires[:][:en]Intermediate Conversations Groups[:],[:fr]Groupes de conversations[:][:en]Conversation Groups[:],Apéros
ATTACH;FMTTYPE=image/png:https://uncafefrancais.com/wp-content/uploads/2020/01/UCF-Jumelle-Apero_int.png
END:VEVENT
BEGIN:VEVENT
DTSTART;TZID=Europe/Paris:20200924T093000
DTEND;TZID=Europe/Paris:20200924T110000
DTSTAMP:20260423T143151
CREATED:20200728T161313Z
LAST-MODIFIED:20210630T164956Z
UID:5817-1600939800-1600945200@uncafefrancais.com
SUMMARY:Le P’tit Déj’ Intermédiaires
DESCRIPTION:What if started the day with a pleasant conversation in a charming café? Nothing better for getting up to speed. And to finish our time together\, a new topic or some revision…It’s going to be a nice day! \n  \n  \nConsumption not included
URL:https://uncafefrancais.com/en/agenda/ptitdej-intermediaires-200924/
CATEGORIES:[:fr]Groupes de conversations Intermédiaires[:][:en]Intermediate Conversations Groups[:],[:fr]Groupes de conversations[:][:en]Conversation Groups[:],[:fr]P'tits Déj' Intermédiaires[:][:en]Intermediate Breakfasts[:],P'tits Déj'
ATTACH;FMTTYPE=image/png:https://uncafefrancais.com/wp-content/uploads/2020/01/UCF-Jumelle-Pti-Déj_int.png
END:VEVENT
BEGIN:VEVENT
DTSTART;TZID=Europe/Paris:20200923T183000
DTEND;TZID=Europe/Paris:20200923T203000
DTSTAMP:20260423T143151
CREATED:20200728T135030Z
LAST-MODIFIED:20200910T124409Z
UID:5792-1600885800-1600893000@uncafefrancais.com
SUMMARY:L’Apéro Intermédiaires
DESCRIPTION:Drinks in a small group\, and a discussion in French: our secret recipe for improving your French at your ease and ending the day on a high note. \n  \n  \nConsumption not included
URL:https://uncafefrancais.com/en/agenda/apero-intermediaires-200923/
CATEGORIES:[:fr]Apéros Intermédiaires[:][:en]Intermediate Apéros[:],[:fr]Groupes de conversations Intermédiaires[:][:en]Intermediate Conversations Groups[:],[:fr]Groupes de conversations[:][:en]Conversation Groups[:],Apéros
ATTACH;FMTTYPE=image/png:https://uncafefrancais.com/wp-content/uploads/2020/01/UCF-Jumelle-Apero_int.png
END:VEVENT
BEGIN:VEVENT
DTSTART;TZID=Europe/Paris:20200922T140000
DTEND;TZID=Europe/Paris:20200922T153000
DTSTAMP:20260423T143151
CREATED:20200801T201712Z
LAST-MODIFIED:20200910T124531Z
UID:6013-1600783200-1600788600@uncafefrancais.com
SUMMARY:La Pause-Café Intermédiaires
DESCRIPTION:Afternoons are a great time to have a conversation…Take in a new neighbourhood\, settle into a café with original or historic decor and speak French for a good hour. At the end\, we’ll discover or revisit one particular aspect of French that you find difficult\, by most of all putting it to good use! \n  \nConsumption not included
URL:https://uncafefrancais.com/en/agenda/pausecafe-intermediaires-200922/
CATEGORIES:[:fr]Groupes de conversations Intermédiaires[:][:en]Intermediate Conversations Groups[:],[:fr]Groupes de conversations[:][:en]Conversation Groups[:],[:fr]Pauses-Café Intermédiaires[:][:en]Intermediate Pauses-Café[:],
ATTACH;FMTTYPE=image/png:https://uncafefrancais.com/wp-content/uploads/2020/01/UCF-Jumelle-Pause-cafe_int.png
END:VEVENT
BEGIN:VEVENT
DTSTART;TZID=Europe/Paris:20200917T093000
DTEND;TZID=Europe/Paris:20200917T110000
DTSTAMP:20260423T143151
CREATED:20200728T160859Z
LAST-MODIFIED:20210630T164956Z
UID:5819-1600335000-1600340400@uncafefrancais.com
SUMMARY:Le P’tit Déj’ Intermédiaires
DESCRIPTION:What if started the day with a pleasant conversation in a charming café? Nothing better for getting up to speed. And to finish our time together\, a new topic or some revision…It’s going to be a nice day! \n  \n  \nConsumption not included
URL:https://uncafefrancais.com/en/agenda/ptitdej-intermediaires-200917/
CATEGORIES:[:fr]Groupes de conversations Intermédiaires[:][:en]Intermediate Conversations Groups[:],[:fr]Groupes de conversations[:][:en]Conversation Groups[:],[:fr]P'tits Déj' Intermédiaires[:][:en]Intermediate Breakfasts[:],P'tits Déj'
ATTACH;FMTTYPE=image/png:https://uncafefrancais.com/wp-content/uploads/2020/01/UCF-Jumelle-Pti-Déj_int.png
END:VEVENT
BEGIN:VEVENT
DTSTART;TZID=Europe/Paris:20200916T183000
DTEND;TZID=Europe/Paris:20200916T203000
DTSTAMP:20260423T143151
CREATED:20200728T135416Z
LAST-MODIFIED:20200910T124835Z
UID:5791-1600281000-1600288200@uncafefrancais.com
SUMMARY:L’Apéro Intermédiaires
DESCRIPTION:Drinks in a small group\, and a discussion in French: our secret recipe for improving your French at your ease and ending the day on a high note. \n  \n  \nConsumption not included
URL:https://uncafefrancais.com/en/agenda/apero-intermediaires-200916/
CATEGORIES:[:fr]Apéros Intermédiaires[:][:en]Intermediate Apéros[:],[:fr]Groupes de conversations Intermédiaires[:][:en]Intermediate Conversations Groups[:],[:fr]Groupes de conversations[:][:en]Conversation Groups[:],Apéros
ATTACH;FMTTYPE=image/png:https://uncafefrancais.com/wp-content/uploads/2020/01/UCF-Jumelle-Apero_int.png
END:VEVENT
BEGIN:VEVENT
DTSTART;TZID=Europe/Paris:20200910T093000
DTEND;TZID=Europe/Paris:20200910T110000
DTSTAMP:20260423T143151
CREATED:20200728T160312Z
LAST-MODIFIED:20210630T164956Z
UID:5821-1599730200-1599735600@uncafefrancais.com
SUMMARY:Le P’tit Déj’ Intermédiaires
DESCRIPTION:What if started the day with a pleasant conversation in a charming café? Nothing better for getting up to speed. And to finish our time together\, a new topic or some revision…It’s going to be a nice day! \n  \n  \nConsumption not included
URL:https://uncafefrancais.com/en/agenda/ptitdej-intermediaires-200910/
CATEGORIES:[:fr]Groupes de conversations Intermédiaires[:][:en]Intermediate Conversations Groups[:],[:fr]Groupes de conversations[:][:en]Conversation Groups[:],[:fr]P'tits Déj' Intermédiaires[:][:en]Intermediate Breakfasts[:],P'tits Déj'
ATTACH;FMTTYPE=image/png:https://uncafefrancais.com/wp-content/uploads/2020/01/UCF-Jumelle-Pti-Déj_int.png
END:VEVENT
BEGIN:VEVENT
DTSTART;TZID=Europe/Paris:20200909T183000
DTEND;TZID=Europe/Paris:20200909T203000
DTSTAMP:20260423T143151
CREATED:20200728T140132Z
LAST-MODIFIED:20200831T204454Z
UID:5790-1599676200-1599683400@uncafefrancais.com
SUMMARY:L’Apéro Intermédiaires
DESCRIPTION:Drinks in a small group\, and a discussion in French: our secret recipe for improving your French at your ease and ending the day on a high note. \n  \n  \nConsumption not included
URL:https://uncafefrancais.com/en/agenda/apero-intermediaires-200909/
CATEGORIES:[:fr]Apéros Intermédiaires[:][:en]Intermediate Apéros[:],[:fr]Groupes de conversations Intermédiaires[:][:en]Intermediate Conversations Groups[:],[:fr]Groupes de conversations[:][:en]Conversation Groups[:],Apéros
ATTACH;FMTTYPE=image/png:https://uncafefrancais.com/wp-content/uploads/2020/01/UCF-Jumelle-Apero_int.png
END:VEVENT
BEGIN:VEVENT
DTSTART;TZID=Europe/Paris:20200909T160000
DTEND;TZID=Europe/Paris:20200909T180000
DTSTAMP:20260423T143151
CREATED:20200303T180708Z
LAST-MODIFIED:20200915T110921Z
UID:4613-1599667200-1599674400@uncafefrancais.com
SUMMARY:[:fr]La peinture sur céramique de Septembre[:][:en]September_Ceramic painting[:]
DESCRIPTION:Learn techniques or vocabulary\, but not only. Chat over a drink\, find out your talents\, have a good time and bring home lots of memories… Yes\, it’s possible to do all that… in French! \n  \n  \nConsumption not included
URL:https://uncafefrancais.com/en/agenda/peintureceramique-200909/
LOCATION:M° Faidherbe-Chaligny – L8\, Paris\, 75011\, France
CATEGORIES:[:fr]Ateliers[:][:en]Workshops[:]
ATTACH;FMTTYPE=image/png:https://uncafefrancais.com/wp-content/uploads/2020/01/uncafefrancais_ceramique.png
END:VEVENT
BEGIN:VEVENT
DTSTART;TZID=Europe/Paris:20200903T093000
DTEND;TZID=Europe/Paris:20200903T110000
DTSTAMP:20260423T143151
CREATED:20200728T155723Z
LAST-MODIFIED:20210630T164956Z
UID:5823-1599125400-1599130800@uncafefrancais.com
SUMMARY:Le P’tit Déj’ Intermédiaires
DESCRIPTION:What if started the day with a pleasant conversation in a charming café? Nothing better for getting up to speed. And to finish our time together\, a new topic or some revision…It’s going to be a nice day! \n  \n  \nConsumption not included
URL:https://uncafefrancais.com/en/agenda/ptitdej-intermediaires-200903/
LOCATION:La Parisienne du Faubourg\, 1\, rue Faidherbe\, PARIS\, 75011
CATEGORIES:[:fr]Groupes de conversations Intermédiaires[:][:en]Intermediate Conversations Groups[:],[:fr]Groupes de conversations[:][:en]Conversation Groups[:],[:fr]P'tits Déj' Intermédiaires[:][:en]Intermediate Breakfasts[:],P'tits Déj'
ATTACH;FMTTYPE=image/png:https://uncafefrancais.com/wp-content/uploads/2020/01/UCF-Jumelle-Pti-Déj_int.png
END:VEVENT
BEGIN:VEVENT
DTSTART;TZID=Europe/Paris:20200902T183000
DTEND;TZID=Europe/Paris:20200902T203000
DTSTAMP:20260423T143151
CREATED:20200728T140503Z
LAST-MODIFIED:20200831T204531Z
UID:5789-1599071400-1599078600@uncafefrancais.com
SUMMARY:L’Apéro Intermédiaires
DESCRIPTION:Drinks in a small group\, and a discussion in French: our secret recipe for improving your French at your ease and ending the day on a high note. \n  \n  \nConsumption not included
URL:https://uncafefrancais.com/en/agenda/apero-intermediaires-200902/
CATEGORIES:[:fr]Apéros Intermédiaires[:][:en]Intermediate Apéros[:],[:fr]Groupes de conversations Intermédiaires[:][:en]Intermediate Conversations Groups[:],[:fr]Groupes de conversations[:][:en]Conversation Groups[:],Apéros
ATTACH;FMTTYPE=image/png:https://uncafefrancais.com/wp-content/uploads/2020/01/UCF-Jumelle-Apero_int.png
END:VEVENT
BEGIN:VEVENT
DTSTART;TZID=Europe/Paris:20200828T100000
DTEND;TZID=Europe/Paris:20200828T113000
DTSTAMP:20260423T143151
CREATED:20200825T140455Z
LAST-MODIFIED:20210630T170718Z
UID:6275-1598608800-1598614200@uncafefrancais.com
SUMMARY:[:fr]Visite Guidée : Les Halles - Niveau Intermédiaire[:][:en]Guided Tour : Les Halles - Intermediate Level[:]
DESCRIPTION:The shopping district of Paris\, par excellence! If if\, since the 12th century\, it is a place where goods are exchanged. And since 1970\, the Halles district has been changing all the time. Want to discover more? \nCome and follow Jean-Louis\, who will show you the traces of these changes. \n  \nConsommation non-comprise / Consumption not included
URL:https://uncafefrancais.com/en/agenda/vg-interm-leshalles200828/
LOCATION:M° Louvre-Rivoli (L1)\, Paris\, France
CATEGORIES:[:fr]Visites Guidées Intermédiares[:][:en]Intermediate Guided Tours[:],[:fr]Visites Guidées[:][:en]Guided Tours[:]
ATTACH;FMTTYPE=image/png:https://uncafefrancais.com/wp-content/uploads/2020/08/2020_ucfI-Les-Halles0828compress.png
END:VEVENT
BEGIN:VEVENT
DTSTART;TZID=Europe/Paris:20200827T210000
DTEND;TZID=Europe/Paris:20200827T223000
DTSTAMP:20260423T143151
CREATED:20200824T134235Z
LAST-MODIFIED:20210630T171148Z
UID:6211-1598562000-1598567400@uncafefrancais.com
SUMMARY:Visite Guidée : Les Iles en Nocturne - Niveau Intermédiaire
DESCRIPTION:Do you know the islands of Paris? La Cité\, St. Louis… Do you really know them? Sure ? And at night…\nAh! Well\, come and check out its history\, its streets and… your French\, in an original and enjoyable way. \nAnd finally\, and we could have a nightcap.* \n  \n*Consommation non-comprise / Consumption not included
URL:https://uncafefrancais.com/en/agenda/vg-interm-ilesnocturne200827/
LOCATION:M° Châtelet\, Paris\, France
CATEGORIES:[:fr]Ateliers[:][:en]Workshops[:],[:fr]Visites Guidées Intermédiares[:][:en]Intermediate Guided Tours[:],[:fr]Visites Guidées[:][:en]Guided Tours[:]
ATTACH;FMTTYPE=image/png:https://uncafefrancais.com/wp-content/uploads/2020/08/2020_ucfI-Les-Iles-Noct0827.png
END:VEVENT
BEGIN:VEVENT
DTSTART;TZID=Europe/Paris:20200827T093000
DTEND;TZID=Europe/Paris:20200827T110000
DTSTAMP:20260423T143151
CREATED:20200728T161741Z
LAST-MODIFIED:20210630T164956Z
UID:5825-1598520600-1598526000@uncafefrancais.com
SUMMARY:Le P’tit Déj’ Intermédiaires
DESCRIPTION:
URL:https://uncafefrancais.com/en/agenda/ptitdej-intermediaires-200827/
CATEGORIES:[:fr]Groupes de conversations Intermédiaires[:][:en]Intermediate Conversations Groups[:],[:fr]Groupes de conversations[:][:en]Conversation Groups[:],[:fr]P'tits Déj' Intermédiaires[:][:en]Intermediate Breakfasts[:],P'tits Déj'
ATTACH;FMTTYPE=image/png:https://uncafefrancais.com/wp-content/uploads/2020/01/UCF-Jumelle-Pti-Déj_int.png
END:VEVENT
BEGIN:VEVENT
DTSTART;TZID=Europe/Paris:20200826T183000
DTEND;TZID=Europe/Paris:20200826T203000
DTSTAMP:20260423T143151
CREATED:20200728T140919Z
LAST-MODIFIED:20200803T120245Z
UID:5785-1598466600-1598473800@uncafefrancais.com
SUMMARY:L’Apéro Intermédiaires
DESCRIPTION:
URL:https://uncafefrancais.com/en/agenda/apero-intermediaires-200926/
CATEGORIES:[:fr]Apéros Intermédiaires[:][:en]Intermediate Apéros[:],[:fr]Groupes de conversations Intermédiaires[:][:en]Intermediate Conversations Groups[:],[:fr]Groupes de conversations[:][:en]Conversation Groups[:],Apéros
ATTACH;FMTTYPE=image/png:https://uncafefrancais.com/wp-content/uploads/2020/01/UCF-Jumelle-Apero_int.png
END:VEVENT
BEGIN:VEVENT
DTSTART;TZID=Europe/Paris:20200820T093000
DTEND;TZID=Europe/Paris:20200820T110000
DTSTAMP:20260423T143151
CREATED:20200728T154844Z
LAST-MODIFIED:20210630T164956Z
UID:5830-1597915800-1597921200@uncafefrancais.com
SUMMARY:Le P’tit Déj’ Intermédiaires
DESCRIPTION:
URL:https://uncafefrancais.com/en/agenda/ptitdej-intermediaires-200820/
CATEGORIES:[:fr]Groupes de conversations Intermédiaires[:][:en]Intermediate Conversations Groups[:],[:fr]Groupes de conversations[:][:en]Conversation Groups[:],[:fr]P'tits Déj' Intermédiaires[:][:en]Intermediate Breakfasts[:],P'tits Déj'
ATTACH;FMTTYPE=image/png:https://uncafefrancais.com/wp-content/uploads/2020/01/UCF-Jumelle-Pti-Déj_int.png
END:VEVENT
BEGIN:VEVENT
DTSTART;TZID=Europe/Paris:20200819T183000
DTEND;TZID=Europe/Paris:20200819T203000
DTSTAMP:20260423T143151
CREATED:20200728T142047Z
LAST-MODIFIED:20200803T115935Z
UID:5780-1597861800-1597869000@uncafefrancais.com
SUMMARY:L’Apéro Intermédiaires
DESCRIPTION:
URL:https://uncafefrancais.com/en/agenda/apero-intermediaires-200819/
CATEGORIES:[:fr]Apéros Intermédiaires[:][:en]Intermediate Apéros[:],[:fr]Groupes de conversations Intermédiaires[:][:en]Intermediate Conversations Groups[:],[:fr]Groupes de conversations[:][:en]Conversation Groups[:],Apéros
ATTACH;FMTTYPE=image/png:https://uncafefrancais.com/wp-content/uploads/2020/01/UCF-Jumelle-Apero_int.png
END:VEVENT
BEGIN:VEVENT
DTSTART;TZID=Europe/Paris:20200814T100000
DTEND;TZID=Europe/Paris:20200814T113000
DTSTAMP:20260423T143151
CREATED:20200825T094610Z
LAST-MODIFIED:20210630T171434Z
UID:6253-1597399200-1597404600@uncafefrancais.com
SUMMARY:Visite Guidée : Le Charmant Montmartre - Niveau Intermédiaire
DESCRIPTION:Do you know Montmartre? Accompanied by Jean-Louis\, a professional guide\, come and stroll and discover its secret facets in narrow streets full of stories.\nAnd at the end of the walk\, to recover from our efforts a small coffee break*. \n*consommation non-comprise / consumption not included
URL:https://uncafefrancais.com/en/agenda/vg-interm-chmontmartre200814/
LOCATION:M° Château Rouge (L4)\, Paris\, France
CATEGORIES:[:fr]Visites Guidées Intermédiares[:][:en]Intermediate Guided Tours[:],[:fr]Visites Guidées[:][:en]Guided Tours[:]
ATTACH;FMTTYPE=image/png:https://uncafefrancais.com/wp-content/uploads/2020/08/2020_ucfI-Montmartre0814compress.png
END:VEVENT
BEGIN:VEVENT
DTSTART;TZID=Europe/Paris:20200813T093000
DTEND;TZID=Europe/Paris:20200813T110000
DTSTAMP:20260423T143151
CREATED:20200728T154306Z
LAST-MODIFIED:20210630T164956Z
UID:5833-1597311000-1597316400@uncafefrancais.com
SUMMARY:Le P’tit Déj’ Intermédiaires
DESCRIPTION:
URL:https://uncafefrancais.com/en/agenda/ptitdej-intermediaires-200813/
CATEGORIES:[:fr]Groupes de conversations Intermédiaires[:][:en]Intermediate Conversations Groups[:],[:fr]Groupes de conversations[:][:en]Conversation Groups[:],[:fr]P'tits Déj' Intermédiaires[:][:en]Intermediate Breakfasts[:],P'tits Déj'
ATTACH;FMTTYPE=image/png:https://uncafefrancais.com/wp-content/uploads/2020/01/UCF-Jumelle-Pti-Déj_int.png
END:VEVENT
END:VCALENDAR