BEGIN:VCALENDAR
VERSION:2.0
PRODID:-//Un Café Français - ECPv6.15.13.1//NONSGML v1.0//EN
CALSCALE:GREGORIAN
METHOD:PUBLISH
X-ORIGINAL-URL:https://uncafefrancais.com
X-WR-CALDESC:Évènements pour Un Café Français
REFRESH-INTERVAL;VALUE=DURATION:PT1H
X-Robots-Tag:noindex
X-PUBLISHED-TTL:PT1H
BEGIN:VTIMEZONE
TZID:Europe/Paris
BEGIN:DAYLIGHT
TZOFFSETFROM:+0100
TZOFFSETTO:+0200
TZNAME:CEST
DTSTART:20230326T010000
END:DAYLIGHT
BEGIN:STANDARD
TZOFFSETFROM:+0200
TZOFFSETTO:+0100
TZNAME:CET
DTSTART:20231029T010000
END:STANDARD
BEGIN:DAYLIGHT
TZOFFSETFROM:+0100
TZOFFSETTO:+0200
TZNAME:CEST
DTSTART:20240331T010000
END:DAYLIGHT
BEGIN:STANDARD
TZOFFSETFROM:+0200
TZOFFSETTO:+0100
TZNAME:CET
DTSTART:20241027T010000
END:STANDARD
BEGIN:DAYLIGHT
TZOFFSETFROM:+0100
TZOFFSETTO:+0200
TZNAME:CEST
DTSTART:20250330T010000
END:DAYLIGHT
BEGIN:STANDARD
TZOFFSETFROM:+0200
TZOFFSETTO:+0100
TZNAME:CET
DTSTART:20251026T010000
END:STANDARD
END:VTIMEZONE
BEGIN:VEVENT
DTSTART;TZID=Europe/Paris:20240910T100000
DTEND;TZID=Europe/Paris:20240910T113000
DTSTAMP:20260421T042854
CREATED:20240911T153831Z
LAST-MODIFIED:20240911T154044Z
UID:12793-1725962400-1725967800@uncafefrancais.com
SUMMARY:Le P’ti Déj’ Débutants
DESCRIPTION:Pratiquez le français en toute simplicité ! \nEnvie de perfectionner votre français sans pression ? Rejoignez-nous pour un moment convivial autour d’un café ! \nLe P’ti Déj est une rencontre deux mardis matins par mois\, où vous pouvez pratiquer le français en petit groupe\, dans une ambiance détendue. Pendant 1h30\, que vous soyez débutant ou simplement que vous ayez besoin de pratique\, vous aurez l’occasion de converser en français avec d’autres participants\, encadrés par une native française. \nL’événement se déroule dans un lieu typique à Paris ou en proche banlieue\, en petit comité (maximum 6 participants)\, pour favoriser les échanges et rendre l’expérience plus personnelle. \nLe lieu exact est communiqué dès qu’il y a une inscription. \n🚨Tarif : 15 € s’il y a un deuxième participant\, sinon 20€ à compléter sur place.⚠ \nConsommation non comprise. Pensez à prendre des espèces\, les cartes bancaires sont souvent à partir de 10€
URL:https://uncafefrancais.com/agenda/ptidej-debutants-240910/
CATEGORIES:[:fr]Groupes de conversations Débutants[:][:en]Beginner Conversation Groups[:],[:fr]Groupes de conversations[:][:en]Conversation Groups[:],[:fr]P'tits Déj' Débutants[:][:en]Beginner Breakfasts[:],P'tits Déj'
ATTACH;FMTTYPE=image/png:https://uncafefrancais.com/wp-content/uploads/2020/01/UCF-Jumelle-Pti-Déj_deb.png
END:VEVENT
BEGIN:VEVENT
DTSTART;TZID=Europe/Paris:20240903T100000
DTEND;TZID=Europe/Paris:20240903T113000
DTSTAMP:20260421T042854
CREATED:20240911T175626Z
LAST-MODIFIED:20240911T175626Z
UID:12834-1725357600-1725363000@uncafefrancais.com
SUMMARY:[:en]Le P’ti Déj’ Intermediates[:fr]Le P’ti Déj’ Intermédiaires[:]
DESCRIPTION:Perfectionnez votre français dans une ambiance détendue ! \nVous maîtrisez les bases du français\, mais vous souhaitez aller plus loin ? Venez vous exercer dans un cadre agréable ! \nRejoignez-nous pour P’ti Déj\, notre événement récurrent tous les 15 jours\, le mardi matin. Pendant 1h30\, vous participerez à des discussions en français avec des exercices adaptés aux niveaux intermédiaires. Nous accueillons résidents\, expatriés et visiteurs. Nous nous retrouverons dans un lieu charmant à Paris ou en proche banlieue\, en petit groupe de 6 participants maximum. \nLe lieu exact sera communiqué après l’inscription\, alors soyez prêts à explorer un peu. C’est une excellente occasion de perfectionner vos compétences en français dans un bistro parisien authentique\, comme les locaux ! \n🚨Tarif : 15 € s’il y a un deuxième participant\, sinon 20€ à compléter sur place.⚠ \nConsommation non comprise. Pensez à prendre des espèces\, les cartes bancaires sont souvent à partir de 10€
URL:https://uncafefrancais.com/agenda/ptidej-intermediaires-240903/
CATEGORIES:[:fr]Groupes de conversations Intermédiaires[:][:en]Intermediate Conversations Groups[:],[:fr]Groupes de conversations[:][:en]Conversation Groups[:],[:fr]P'tits Déj' Intermédiaires[:][:en]Intermediate Breakfasts[:],P'tits Déj'
ATTACH;FMTTYPE=image/png:https://uncafefrancais.com/wp-content/uploads/2020/01/UCF-Jumelle-Pti-Déj_int.png
END:VEVENT
BEGIN:VEVENT
DTSTART;TZID=Europe/Paris:20240827T100000
DTEND;TZID=Europe/Paris:20240827T100000
DTSTAMP:20260421T042854
CREATED:20240911T160151Z
LAST-MODIFIED:20240911T161649Z
UID:12804-1724752800-1724752800@uncafefrancais.com
SUMMARY:Le P’ti Déj’ Débutants
DESCRIPTION:Practice your French in a relaxed setting! \nFinding French challenging? Feeling a bit stressed? Let’s take it easy! \nImagine a charming café\, a pleasant atmosphere\, and a native French speaker to support you. Why not practice speaking French like the Parisians do? \nJoin us for P’ti Déj\, a recurring event held every other Tuesday. For 1.5 hours\, you’ll practice French conversation with simple\, beginner-friendly exercises in a relaxed group setting. We welcome expatriates\, visitors\, and tourists. We’ll meet in a cozy spot somewhere in Paris or the nearby suburbs\, with a small group of up to 6 participants. \nThe exact location will be shared after the first person signs up\, so be ready to explore a bit. It’s a great opportunity to improve your French skills in an authentic Parisian bistro\, just like the locals! \n🚨 Price: 15€ per person if there’s a second participant\, otherwise 20€ to be completed on site.⚠ \nConsumptions are not included. It’s better to carry cash since the card minimum is 10€.
URL:https://uncafefrancais.com/agenda/ptidej-debutants-240827/
CATEGORIES:[:fr]Groupes de conversations Débutants[:][:en]Beginner Conversation Groups[:],[:fr]Groupes de conversations[:][:en]Conversation Groups[:],[:fr]P'tits Déj' Débutants[:][:en]Beginner Breakfasts[:],P'tits Déj'
ATTACH;FMTTYPE=image/png:https://uncafefrancais.com/wp-content/uploads/2020/01/UCF-Jumelle-Pti-Déj_deb.png
END:VEVENT
BEGIN:VEVENT
DTSTART;TZID=Europe/Paris:20240820T100000
DTEND;TZID=Europe/Paris:20240820T113000
DTSTAMP:20260421T042854
CREATED:20240911T175528Z
LAST-MODIFIED:20240911T175528Z
UID:12833-1724148000-1724153400@uncafefrancais.com
SUMMARY:[:en]Le P’ti Déj’ Intermediates[:fr]Le P’ti Déj’ Intermédiaires[:]
DESCRIPTION:Perfectionnez votre français dans une ambiance détendue ! \nVous maîtrisez les bases du français\, mais vous souhaitez aller plus loin ? Venez vous exercer dans un cadre agréable ! \nRejoignez-nous pour P’ti Déj\, notre événement récurrent tous les 15 jours\, le mardi matin. Pendant 1h30\, vous participerez à des discussions en français avec des exercices adaptés aux niveaux intermédiaires. Nous accueillons résidents\, expatriés et visiteurs. Nous nous retrouverons dans un lieu charmant à Paris ou en proche banlieue\, en petit groupe de 6 participants maximum. \nLe lieu exact sera communiqué après l’inscription\, alors soyez prêts à explorer un peu. C’est une excellente occasion de perfectionner vos compétences en français dans un bistro parisien authentique\, comme les locaux ! \n🚨Tarif : 15 € s’il y a un deuxième participant\, sinon 20€ à compléter sur place.⚠ \nConsommation non comprise. Pensez à prendre des espèces\, les cartes bancaires sont souvent à partir de 10€
URL:https://uncafefrancais.com/agenda/ptidej-intermediaires-240820/
CATEGORIES:[:fr]Groupes de conversations Intermédiaires[:][:en]Intermediate Conversations Groups[:],[:fr]Groupes de conversations[:][:en]Conversation Groups[:],[:fr]P'tits Déj' Intermédiaires[:][:en]Intermediate Breakfasts[:],P'tits Déj'
ATTACH;FMTTYPE=image/png:https://uncafefrancais.com/wp-content/uploads/2020/01/UCF-Jumelle-Pti-Déj_int.png
END:VEVENT
BEGIN:VEVENT
DTSTART;TZID=Europe/Paris:20240813T100000
DTEND;TZID=Europe/Paris:20240813T113000
DTSTAMP:20260421T042854
CREATED:20240911T155948Z
LAST-MODIFIED:20240911T161633Z
UID:12805-1723543200-1723548600@uncafefrancais.com
SUMMARY:Le P’ti Déj’ Débutants
DESCRIPTION:Practice your French in a relaxed setting! \nFinding French challenging? Feeling a bit stressed? Let’s take it easy! \nImagine a charming café\, a pleasant atmosphere\, and a native French speaker to support you. Why not practice speaking French like the Parisians do? \nJoin us for P’ti Déj\, a recurring event held every other Tuesday. For 1.5 hours\, you’ll practice French conversation with simple\, beginner-friendly exercises in a relaxed group setting. We welcome expatriates\, visitors\, and tourists. We’ll meet in a cozy spot somewhere in Paris or the nearby suburbs\, with a small group of up to 6 participants. \nThe exact location will be shared after the first person signs up\, so be ready to explore a bit. It’s a great opportunity to improve your French skills in an authentic Parisian bistro\, just like the locals! \n🚨 Price: 15€ per person if there’s a second participant\, otherwise 20€ to be completed on site.⚠ \nConsumptions are not included. It’s better to carry cash since the card minimum is 10€.
URL:https://uncafefrancais.com/agenda/ptidej-debutants-240813/
CATEGORIES:[:fr]Groupes de conversations Débutants[:][:en]Beginner Conversation Groups[:],[:fr]Groupes de conversations[:][:en]Conversation Groups[:],[:fr]P'tits Déj' Débutants[:][:en]Beginner Breakfasts[:],P'tits Déj'
ATTACH;FMTTYPE=image/png:https://uncafefrancais.com/wp-content/uploads/2020/01/UCF-Jumelle-Pti-Déj_deb.png
END:VEVENT
BEGIN:VEVENT
DTSTART;TZID=Europe/Paris:20240806T100000
DTEND;TZID=Europe/Paris:20240806T113000
DTSTAMP:20260421T042854
CREATED:20240911T175358Z
LAST-MODIFIED:20240911T175358Z
UID:12832-1722938400-1722943800@uncafefrancais.com
SUMMARY:[:en]Le P’ti Déj’ Intermediates[:fr]Le P’ti Déj’ Intermédiaires[:]
DESCRIPTION:Perfectionnez votre français dans une ambiance détendue ! \nVous maîtrisez les bases du français\, mais vous souhaitez aller plus loin ? Venez vous exercer dans un cadre agréable ! \nRejoignez-nous pour P’ti Déj\, notre événement récurrent tous les 15 jours\, le mardi matin. Pendant 1h30\, vous participerez à des discussions en français avec des exercices adaptés aux niveaux intermédiaires. Nous accueillons résidents\, expatriés et visiteurs. Nous nous retrouverons dans un lieu charmant à Paris ou en proche banlieue\, en petit groupe de 6 participants maximum. \nLe lieu exact sera communiqué après l’inscription\, alors soyez prêts à explorer un peu. C’est une excellente occasion de perfectionner vos compétences en français dans un bistro parisien authentique\, comme les locaux ! \n🚨Tarif : 15 € s’il y a un deuxième participant\, sinon 20€ à compléter sur place.⚠ \nConsommation non comprise. Pensez à prendre des espèces\, les cartes bancaires sont souvent à partir de 10€
URL:https://uncafefrancais.com/agenda/ptidej-intermediaires-240806/
CATEGORIES:[:fr]Groupes de conversations Intermédiaires[:][:en]Intermediate Conversations Groups[:],[:fr]Groupes de conversations[:][:en]Conversation Groups[:],[:fr]P'tits Déj' Intermédiaires[:][:en]Intermediate Breakfasts[:],P'tits Déj'
ATTACH;FMTTYPE=image/png:https://uncafefrancais.com/wp-content/uploads/2020/01/UCF-Jumelle-Pti-Déj_int.png
END:VEVENT
END:VCALENDAR