BEGIN:VCALENDAR
VERSION:2.0
PRODID:-//Un Café Français - ECPv6.15.13.1//NONSGML v1.0//EN
CALSCALE:GREGORIAN
METHOD:PUBLISH
X-WR-CALNAME:Un Café Français
X-ORIGINAL-URL:https://uncafefrancais.com/en
X-WR-CALDESC:Events for Un Café Français
REFRESH-INTERVAL;VALUE=DURATION:PT1H
X-Robots-Tag:noindex
X-PUBLISHED-TTL:PT1H
BEGIN:VTIMEZONE
TZID:Europe/Paris
BEGIN:DAYLIGHT
TZOFFSETFROM:+0100
TZOFFSETTO:+0200
TZNAME:CEST
DTSTART:20220327T010000
END:DAYLIGHT
BEGIN:STANDARD
TZOFFSETFROM:+0200
TZOFFSETTO:+0100
TZNAME:CET
DTSTART:20221030T010000
END:STANDARD
BEGIN:DAYLIGHT
TZOFFSETFROM:+0100
TZOFFSETTO:+0200
TZNAME:CEST
DTSTART:20230326T010000
END:DAYLIGHT
BEGIN:STANDARD
TZOFFSETFROM:+0200
TZOFFSETTO:+0100
TZNAME:CET
DTSTART:20231029T010000
END:STANDARD
BEGIN:DAYLIGHT
TZOFFSETFROM:+0100
TZOFFSETTO:+0200
TZNAME:CEST
DTSTART:20240331T010000
END:DAYLIGHT
BEGIN:STANDARD
TZOFFSETFROM:+0200
TZOFFSETTO:+0100
TZNAME:CET
DTSTART:20241027T010000
END:STANDARD
BEGIN:DAYLIGHT
TZOFFSETFROM:+0100
TZOFFSETTO:+0200
TZNAME:CEST
DTSTART:20250330T010000
END:DAYLIGHT
BEGIN:STANDARD
TZOFFSETFROM:+0200
TZOFFSETTO:+0100
TZNAME:CET
DTSTART:20251026T010000
END:STANDARD
END:VTIMEZONE
BEGIN:VTIMEZONE
TZID:Europe/Paris
BEGIN:DAYLIGHT
TZOFFSETFROM:+0100
TZOFFSETTO:+0200
TZNAME:CEST
DTSTART:20190331T010000
END:DAYLIGHT
BEGIN:STANDARD
TZOFFSETFROM:+0200
TZOFFSETTO:+0100
TZNAME:CET
DTSTART:20191027T010000
END:STANDARD
BEGIN:DAYLIGHT
TZOFFSETFROM:+0100
TZOFFSETTO:+0200
TZNAME:CEST
DTSTART:20200329T010000
END:DAYLIGHT
BEGIN:STANDARD
TZOFFSETFROM:+0200
TZOFFSETTO:+0100
TZNAME:CET
DTSTART:20201025T010000
END:STANDARD
BEGIN:DAYLIGHT
TZOFFSETFROM:+0100
TZOFFSETTO:+0200
TZNAME:CEST
DTSTART:20210328T010000
END:DAYLIGHT
BEGIN:STANDARD
TZOFFSETFROM:+0200
TZOFFSETTO:+0100
TZNAME:CET
DTSTART:20211031T010000
END:STANDARD
END:VTIMEZONE
BEGIN:VEVENT
DTSTART;TZID=Europe/Paris:20240319T100000
DTEND;TZID=Europe/Paris:20240319T113000
DTSTAMP:20260421T090832
CREATED:20240226T103949Z
LAST-MODIFIED:20240226T195240Z
UID:12082-1710842400-1710847800@uncafefrancais.com
SUMMARY:Le P’tit Déj’ Intermédiaires
DESCRIPTION:What if started the day with a pleasant conversation in a charming café? Nothing better for getting up to speed. And to finish our time together\, a new topic or some revision…It’s going to be a nice day! \n  \n  \nConsumption not included
URL:https://uncafefrancais.com/en/agenda/ptitdej-intermediaires-240319/
CATEGORIES:[:fr]Groupes de conversations Intermédiaires[:][:en]Intermediate Conversations Groups[:],[:fr]Groupes de conversations[:][:en]Conversation Groups[:],[:fr]P'tits Déj' Intermédiaires[:][:en]Intermediate Breakfasts[:],P'tits Déj'
ATTACH;FMTTYPE=image/png:https://uncafefrancais.com/wp-content/uploads/2020/01/UCF-Jumelle-Pti-Déj_int.png
END:VEVENT
BEGIN:VEVENT
DTSTART;TZID=Europe/Paris:20240312T100000
DTEND;TZID=Europe/Paris:20240312T113000
DTSTAMP:20260421T090832
CREATED:20240226T163634Z
LAST-MODIFIED:20240226T193914Z
UID:12085-1710237600-1710243000@uncafefrancais.com
SUMMARY:Le P’tit Déj’ Débutants
DESCRIPTION:What would you have for breakfast? A comforting cup of tea or coffee\, a friendly conversation in French and a shot of good humour? A good way to start the day. \n  \nConsumption not included
URL:https://uncafefrancais.com/en/agenda/ptitdej-debutants-240312/
CATEGORIES:[:fr]Groupes de conversations Débutants[:][:en]Beginner Conversation Groups[:],[:fr]Groupes de conversations[:][:en]Conversation Groups[:],[:fr]P'tits Déj' Débutants[:][:en]Beginner Breakfasts[:],P'tits Déj'
ATTACH;FMTTYPE=image/png:https://uncafefrancais.com/wp-content/uploads/2020/01/UCF-Jumelle-Pti-Déj_deb.png
END:VEVENT
BEGIN:VEVENT
DTSTART;TZID=Europe/Paris:20240305T100000
DTEND;TZID=Europe/Paris:20240305T113000
DTSTAMP:20260421T090832
CREATED:20240226T103618Z
LAST-MODIFIED:20240226T195354Z
UID:12080-1709632800-1709638200@uncafefrancais.com
SUMMARY:Le P’tit Déj’ Intermédiaires
DESCRIPTION:What if started the day with a pleasant conversation in a charming café? Nothing better for getting up to speed. And to finish our time together\, a new topic or some revision…It’s going to be a nice day! \n  \n  \nConsumption not included
URL:https://uncafefrancais.com/en/agenda/ptitdej-intermediaires-240305/
CATEGORIES:[:fr]Groupes de conversations Intermédiaires[:][:en]Intermediate Conversations Groups[:],[:fr]Groupes de conversations[:][:en]Conversation Groups[:],[:fr]P'tits Déj' Intermédiaires[:][:en]Intermediate Breakfasts[:],P'tits Déj'
ATTACH;FMTTYPE=image/png:https://uncafefrancais.com/wp-content/uploads/2020/01/UCF-Jumelle-Pti-Déj_int.png
END:VEVENT
BEGIN:VEVENT
DTSTART;TZID=Europe/Paris:20240227T100000
DTEND;TZID=Europe/Paris:20240227T113000
DTSTAMP:20260421T090832
CREATED:20231231T233615Z
LAST-MODIFIED:20240101T064105Z
UID:11842-1709028000-1709033400@uncafefrancais.com
SUMMARY:Le P’tit Déj’ Débutants
DESCRIPTION:What would you have for breakfast? A comforting cup of tea or coffee\, a friendly conversation in French and a shot of good humour? A good way to start the day. \n  \nConsumption not included
URL:https://uncafefrancais.com/en/agenda/ptitdej-debutants-240227/
CATEGORIES:[:fr]Groupes de conversations Débutants[:][:en]Beginner Conversation Groups[:],[:fr]Groupes de conversations[:][:en]Conversation Groups[:],[:fr]P'tits Déj' Débutants[:][:en]Beginner Breakfasts[:],P'tits Déj'
ATTACH;FMTTYPE=image/png:https://uncafefrancais.com/wp-content/uploads/2020/01/UCF-Jumelle-Pti-Déj_deb.png
END:VEVENT
BEGIN:VEVENT
DTSTART;TZID=Europe/Paris:20240220T100000
DTEND;TZID=Europe/Paris:20240220T113000
DTSTAMP:20260421T090832
CREATED:20240101T054444Z
LAST-MODIFIED:20240101T060923Z
UID:11927-1708423200-1708428600@uncafefrancais.com
SUMMARY:Le P’tit Déj’ Intermédiaires
DESCRIPTION:What if started the day with a pleasant conversation in a charming café? Nothing better for getting up to speed. And to finish our time together\, a new topic or some revision…It’s going to be a nice day! \n  \n  \nConsumption not included
URL:https://uncafefrancais.com/en/agenda/ptitdej-intermediaires-240220/
CATEGORIES:[:fr]Groupes de conversations Intermédiaires[:][:en]Intermediate Conversations Groups[:],[:fr]Groupes de conversations[:][:en]Conversation Groups[:],[:fr]P'tits Déj' Intermédiaires[:][:en]Intermediate Breakfasts[:],P'tits Déj'
ATTACH;FMTTYPE=image/png:https://uncafefrancais.com/wp-content/uploads/2020/01/UCF-Jumelle-Pti-Déj_int.png
END:VEVENT
BEGIN:VEVENT
DTSTART;TZID=Europe/Paris:20240213T100000
DTEND;TZID=Europe/Paris:20240213T113000
DTSTAMP:20260421T090832
CREATED:20231231T232214Z
LAST-MODIFIED:20240101T063505Z
UID:11844-1707818400-1707823800@uncafefrancais.com
SUMMARY:Le P’tit Déj’ Débutants
DESCRIPTION:What would you have for breakfast? A comforting cup of tea or coffee\, a friendly conversation in French and a shot of good humour? A good way to start the day. \n  \nConsumption not included
URL:https://uncafefrancais.com/en/agenda/ptitdej-debutants-240213/
CATEGORIES:[:fr]Groupes de conversations Débutants[:][:en]Beginner Conversation Groups[:],[:fr]Groupes de conversations[:][:en]Conversation Groups[:],[:fr]P'tits Déj' Débutants[:][:en]Beginner Breakfasts[:],P'tits Déj'
ATTACH;FMTTYPE=image/png:https://uncafefrancais.com/wp-content/uploads/2020/01/UCF-Jumelle-Pti-Déj_deb.png
END:VEVENT
BEGIN:VEVENT
DTSTART;TZID=Europe/Paris:20240206T100000
DTEND;TZID=Europe/Paris:20240206T113000
DTSTAMP:20260421T090832
CREATED:20240101T054143Z
LAST-MODIFIED:20240207T142049Z
UID:11926-1707213600-1707219000@uncafefrancais.com
SUMMARY:Le P’tit Déj’ Intermédiaires
DESCRIPTION:What if started the day with a pleasant conversation in a charming café? Nothing better for getting up to speed. And to finish our time together\, a new topic or some revision…It’s going to be a nice day! \n  \n  \nConsumption not included
URL:https://uncafefrancais.com/en/agenda/ptitdej-intermediaires-240206/
CATEGORIES:[:fr]Groupes de conversations Intermédiaires[:][:en]Intermediate Conversations Groups[:],[:fr]Groupes de conversations[:][:en]Conversation Groups[:],[:fr]P'tits Déj' Intermédiaires[:][:en]Intermediate Breakfasts[:],P'tits Déj'
ATTACH;FMTTYPE=image/png:https://uncafefrancais.com/wp-content/uploads/2020/01/UCF-Jumelle-Pti-Déj_int.png
END:VEVENT
BEGIN:VEVENT
DTSTART;TZID=Europe/Paris:20240130T100000
DTEND;TZID=Europe/Paris:20240130T113000
DTSTAMP:20260421T090832
CREATED:20231231T235438Z
LAST-MODIFIED:20231231T235520Z
UID:11864-1706608800-1706614200@uncafefrancais.com
SUMMARY:Le P’tit Déj’ Débutants
DESCRIPTION:What would you have for breakfast? A comforting cup of tea or coffee\, a friendly conversation in French and a shot of good humour? A good way to start the day. \n  \nConsumption not included
URL:https://uncafefrancais.com/en/agenda/ptitdej-debutants-240130/
CATEGORIES:[:fr]Groupes de conversations Débutants[:][:en]Beginner Conversation Groups[:],[:fr]Groupes de conversations[:][:en]Conversation Groups[:],[:fr]P'tits Déj' Débutants[:][:en]Beginner Breakfasts[:],P'tits Déj'
ATTACH;FMTTYPE=image/png:https://uncafefrancais.com/wp-content/uploads/2020/01/UCF-Jumelle-Pti-Déj_deb.png
END:VEVENT
BEGIN:VEVENT
DTSTART;TZID=Europe/Paris:20240123T100000
DTEND;TZID=Europe/Paris:20240123T113000
DTSTAMP:20260421T090832
CREATED:20240101T053523Z
LAST-MODIFIED:20240101T062348Z
UID:11923-1706004000-1706009400@uncafefrancais.com
SUMMARY:Le P’tit Déj’ Intermédiaires
DESCRIPTION:What if started the day with a pleasant conversation in a charming café? Nothing better for getting up to speed. And to finish our time together\, a new topic or some revision…It’s going to be a nice day! \n  \n  \nConsumption not included
URL:https://uncafefrancais.com/en/agenda/ptitdej-intermediaires-240123/
CATEGORIES:[:fr]Groupes de conversations Intermédiaires[:][:en]Intermediate Conversations Groups[:],[:fr]Groupes de conversations[:][:en]Conversation Groups[:],[:fr]P'tits Déj' Intermédiaires[:][:en]Intermediate Breakfasts[:],P'tits Déj'
ATTACH;FMTTYPE=image/png:https://uncafefrancais.com/wp-content/uploads/2020/01/UCF-Jumelle-Pti-Déj_int.png
END:VEVENT
BEGIN:VEVENT
DTSTART;TZID=Europe/Paris:20240116T100000
DTEND;TZID=Europe/Paris:20240116T113000
DTSTAMP:20260421T090832
CREATED:20231231T232001Z
LAST-MODIFIED:20231231T234524Z
UID:11843-1705399200-1705404600@uncafefrancais.com
SUMMARY:Le P’tit Déj’ Débutants
DESCRIPTION:What would you have for breakfast? A comforting cup of tea or coffee\, a friendly conversation in French and a shot of good humour? A good way to start the day. \n  \nConsumption not included
URL:https://uncafefrancais.com/en/agenda/ptitdej-debutants-240116/
CATEGORIES:[:fr]Groupes de conversations Débutants[:][:en]Beginner Conversation Groups[:],[:fr]Groupes de conversations[:][:en]Conversation Groups[:],[:fr]P'tits Déj' Débutants[:][:en]Beginner Breakfasts[:],P'tits Déj'
ATTACH;FMTTYPE=image/png:https://uncafefrancais.com/wp-content/uploads/2020/01/UCF-Jumelle-Pti-Déj_deb.png
END:VEVENT
BEGIN:VEVENT
DTSTART;TZID=Europe/Paris:20240109T100000
DTEND;TZID=Europe/Paris:20240109T113000
DTSTAMP:20260421T090832
CREATED:20240101T053318Z
LAST-MODIFIED:20240101T055207Z
UID:11922-1704794400-1704799800@uncafefrancais.com
SUMMARY:Le P’tit Déj’ Intermédiaires
DESCRIPTION:What if started the day with a pleasant conversation in a charming café? Nothing better for getting up to speed. And to finish our time together\, a new topic or some revision…It’s going to be a nice day! \n  \n  \nConsumption not included
URL:https://uncafefrancais.com/en/agenda/ptitdej-intermediaires-240109/
CATEGORIES:[:fr]Groupes de conversations Intermédiaires[:][:en]Intermediate Conversations Groups[:],[:fr]Groupes de conversations[:][:en]Conversation Groups[:],[:fr]P'tits Déj' Intermédiaires[:][:en]Intermediate Breakfasts[:],P'tits Déj'
ATTACH;FMTTYPE=image/png:https://uncafefrancais.com/wp-content/uploads/2020/01/UCF-Jumelle-Pti-Déj_int.png
END:VEVENT
BEGIN:VEVENT
DTSTART;TZID=Europe/Paris:20240102T100000
DTEND;TZID=Europe/Paris:20240102T113000
DTSTAMP:20260421T090832
CREATED:20231231T230739Z
LAST-MODIFIED:20231231T231120Z
UID:11841-1704189600-1704195000@uncafefrancais.com
SUMMARY:Le P’tit Déj’ Débutants
DESCRIPTION:What would you have for breakfast? A comforting cup of tea or coffee\, a friendly conversation in French and a shot of good humour? A good way to start the day. \n  \nConsumption not included
URL:https://uncafefrancais.com/en/agenda/ptitdej-debutants-240102/
LOCATION:Le Petit Bar\, 57\, Bd Saint-Marcel\, PARIS\, 75013\, France
CATEGORIES:[:fr]Groupes de conversations Débutants[:][:en]Beginner Conversation Groups[:],[:fr]Groupes de conversations[:][:en]Conversation Groups[:],[:fr]P'tits Déj' Débutants[:][:en]Beginner Breakfasts[:],P'tits Déj'
ATTACH;FMTTYPE=image/png:https://uncafefrancais.com/wp-content/uploads/2020/01/UCF-Jumelle-Pti-Déj_deb.png
END:VEVENT
BEGIN:VEVENT
DTSTART;TZID=Europe/Paris:20231031T100000
DTEND;TZID=Europe/Paris:20231031T113000
DTSTAMP:20260421T090832
CREATED:20231013T155833Z
LAST-MODIFIED:20231013T155833Z
UID:11795-1698746400-1698751800@uncafefrancais.com
SUMMARY:Le P’tit Déj’ Débutants
DESCRIPTION:What would you have for breakfast? A comforting cup of tea or coffee\, a friendly conversation in French and a shot of good humour? A good way to start the day. \n  \nConsumption not included
URL:https://uncafefrancais.com/en/agenda/ptitdej-debutants-231031/
CATEGORIES:[:fr]Groupes de conversations Débutants[:][:en]Beginner Conversation Groups[:],[:fr]Groupes de conversations[:][:en]Conversation Groups[:],[:fr]P'tits Déj' Débutants[:][:en]Beginner Breakfasts[:],P'tits Déj'
ATTACH;FMTTYPE=image/png:https://uncafefrancais.com/wp-content/uploads/2020/01/UCF-Jumelle-Pti-Déj_deb.png
END:VEVENT
BEGIN:VEVENT
DTSTART;TZID=Europe/Paris:20231026T093000
DTEND;TZID=Europe/Paris:20231026T110000
DTSTAMP:20260421T090832
CREATED:20231013T152107Z
LAST-MODIFIED:20231013T152633Z
UID:11779-1698312600-1698318000@uncafefrancais.com
SUMMARY:Le P’tit Déj’ Intermédiaires
DESCRIPTION:What if started the day with a pleasant conversation in a charming café? Nothing better for getting up to speed. And to finish our time together\, a new topic or some revision…It’s going to be a nice day! \n  \n  \nConsumption not included
URL:https://uncafefrancais.com/en/agenda/le-ptit-dej-intermediaires/
CATEGORIES:[:fr]Groupes de conversations Intermédiaires[:][:en]Intermediate Conversations Groups[:],[:fr]Groupes de conversations[:][:en]Conversation Groups[:],[:fr]P'tits Déj' Intermédiaires[:][:en]Intermediate Breakfasts[:],P'tits Déj'
ATTACH;FMTTYPE=image/png:https://uncafefrancais.com/wp-content/uploads/2020/01/UCF-Jumelle-Pti-Déj_int.png
END:VEVENT
BEGIN:VEVENT
DTSTART;TZID=Europe/Paris:20231024T100000
DTEND;TZID=Europe/Paris:20231024T113000
DTSTAMP:20260421T090832
CREATED:20231013T154954Z
LAST-MODIFIED:20231013T154954Z
UID:11789-1698141600-1698147000@uncafefrancais.com
SUMMARY:Le P’tit Déj’ Débutants
DESCRIPTION:What would you have for breakfast? A comforting cup of tea or coffee\, a friendly conversation in French and a shot of good humour? A good way to start the day. \n  \nConsumption not included
URL:https://uncafefrancais.com/en/agenda/ptitdej-debutants-231024/
CATEGORIES:[:fr]Groupes de conversations Débutants[:][:en]Beginner Conversation Groups[:],[:fr]Groupes de conversations[:][:en]Conversation Groups[:],[:fr]P'tits Déj' Débutants[:][:en]Beginner Breakfasts[:],P'tits Déj'
ATTACH;FMTTYPE=image/png:https://uncafefrancais.com/wp-content/uploads/2020/01/UCF-Jumelle-Pti-Déj_deb.png
END:VEVENT
BEGIN:VEVENT
DTSTART;TZID=Europe/Paris:20231019T093000
DTEND;TZID=Europe/Paris:20231019T110000
DTSTAMP:20260421T090832
CREATED:20231013T150707Z
LAST-MODIFIED:20231013T151819Z
UID:11773-1697707800-1697713200@uncafefrancais.com
SUMMARY:Le P’tit Déj’ Intermédiaires
DESCRIPTION:What if started the day with a pleasant conversation in a charming café? Nothing better for getting up to speed. And to finish our time together\, a new topic or some revision…It’s going to be a nice day! \n  \n  \nConsumption not included
URL:https://uncafefrancais.com/en/agenda/ptitdej-intermediaires-231019/
CATEGORIES:[:fr]Groupes de conversations Intermédiaires[:][:en]Intermediate Conversations Groups[:],[:fr]Groupes de conversations[:][:en]Conversation Groups[:],[:fr]P'tits Déj' Intermédiaires[:][:en]Intermediate Breakfasts[:],P'tits Déj'
ATTACH;FMTTYPE=image/png:https://uncafefrancais.com/wp-content/uploads/2020/01/UCF-Jumelle-Pti-Déj_int.png
END:VEVENT
BEGIN:VEVENT
DTSTART;TZID=Europe/Paris:20231017T100000
DTEND;TZID=Europe/Paris:20231017T113000
DTSTAMP:20260421T090832
CREATED:20231013T153906Z
LAST-MODIFIED:20231013T155856Z
UID:11784-1697536800-1697542200@uncafefrancais.com
SUMMARY:Le P’tit Déj’ Débutants
DESCRIPTION:What would you have for breakfast? A comforting cup of tea or coffee\, a friendly conversation in French and a shot of good humour? A good way to start the day. \n  \nConsumption not included
URL:https://uncafefrancais.com/en/agenda/ptitdej-debutants-231017/
CATEGORIES:[:fr]Groupes de conversations Débutants[:][:en]Beginner Conversation Groups[:],[:fr]Groupes de conversations[:][:en]Conversation Groups[:],[:fr]P'tits Déj' Débutants[:][:en]Beginner Breakfasts[:],P'tits Déj'
ATTACH;FMTTYPE=image/png:https://uncafefrancais.com/wp-content/uploads/2020/01/UCF-Jumelle-Pti-Déj_deb.png
END:VEVENT
BEGIN:VEVENT
DTSTART;TZID=Europe/Paris:20201230T093000
DTEND;TZID=Europe/Paris:20201230T110000
DTSTAMP:20260421T090832
CREATED:20201129T184610Z
LAST-MODIFIED:20210630T164655Z
UID:7603-1609320600-1609326000@uncafefrancais.com
SUMMARY:Le P’tit Déj’ Débutants - [:fr]EN LIGNE[:][:en]ONLINE[:]
DESCRIPTION:Breakfast is an essential part of the day. So why not start the day with a wonderful conversation in French to feel good ?! A happy way to start the day ! \n  \nConsumption not included
URL:https://uncafefrancais.com/en/agenda/eptitdej-debutants-201230/
CATEGORIES:[:fr]Groupes de conversations Débutants[:][:en]Beginner Conversation Groups[:],[:fr]Groupes de conversations[:][:en]Conversation Groups[:],[:fr]P'tits Déj' Débutants[:][:en]Beginner Breakfasts[:],P'tits Déj'
ATTACH;FMTTYPE=image/png:https://uncafefrancais.com/wp-content/uploads/2020/08/FormuleConversGrammCompress.png
END:VEVENT
BEGIN:VEVENT
DTSTART;TZID=Europe/Paris:20201223T093000
DTEND;TZID=Europe/Paris:20201223T110000
DTSTAMP:20260421T090832
CREATED:20201129T184030Z
LAST-MODIFIED:20210630T164655Z
UID:7604-1608715800-1608721200@uncafefrancais.com
SUMMARY:Le P’tit Déj’ Débutants - [:fr]EN LIGNE[:][:en]ONLINE[:]
DESCRIPTION:Breakfast is an essential part of the day. So why not start the day with a wonderful conversation in French to feel good ?! A happy way to start the day ! \n  \nConsumption not included
URL:https://uncafefrancais.com/en/agenda/eptitdej-debutants-201223/
CATEGORIES:[:fr]Groupes de conversations Débutants[:][:en]Beginner Conversation Groups[:],[:fr]Groupes de conversations[:][:en]Conversation Groups[:],[:fr]P'tits Déj' Débutants[:][:en]Beginner Breakfasts[:],P'tits Déj'
ATTACH;FMTTYPE=image/png:https://uncafefrancais.com/wp-content/uploads/2020/08/FormuleConversGrammCompress.png
END:VEVENT
BEGIN:VEVENT
DTSTART;TZID=Europe/Paris:20201216T093000
DTEND;TZID=Europe/Paris:20201216T110000
DTSTAMP:20260421T090832
CREATED:20201129T183307Z
LAST-MODIFIED:20210630T172940Z
UID:7605-1608111000-1608116400@uncafefrancais.com
SUMMARY:Le P’tit Déj’ Débutants - [:fr]EN LIGNE[:][:en]ONLINE[:]
DESCRIPTION:Breakfast is an essential part of the day. So why not start the day with a wonderful conversation in French to feel good ?! A happy way to start the day ! \nConsumption not included
URL:https://uncafefrancais.com/en/agenda/eptitdej-debutants-201216/
CATEGORIES:[:fr]Groupes de conversations Débutants[:][:en]Beginner Conversation Groups[:],[:fr]Groupes de conversations[:][:en]Conversation Groups[:],[:fr]P'tits Déj' Débutants[:][:en]Beginner Breakfasts[:],P'tits Déj'
ATTACH;FMTTYPE=image/png:https://uncafefrancais.com/wp-content/uploads/2020/08/FormuleConversGrammCompress.png
END:VEVENT
BEGIN:VEVENT
DTSTART;TZID=Europe/Paris:20201209T093000
DTEND;TZID=Europe/Paris:20201209T110000
DTSTAMP:20260421T090832
CREATED:20201129T182213Z
LAST-MODIFIED:20210630T164655Z
UID:7606-1607506200-1607511600@uncafefrancais.com
SUMMARY:Le P’tit Déj’ Débutants - [:fr]EN LIGNE[:][:en]ONLINE[:]
DESCRIPTION:Breakfast is an essential part of the day. So why not start the day with a wonderful conversation in French to feel good ?! A happy way to start the day ! \n  \nConsumption not included
URL:https://uncafefrancais.com/en/agenda/eptitdej-debutants-201209/
ATTACH;FMTTYPE=image/png:https://uncafefrancais.com/wp-content/uploads/2020/08/FormuleConversGrammCompress.png
END:VEVENT
BEGIN:VEVENT
DTSTART;TZID=Europe/Paris:20201202T093000
DTEND;TZID=Europe/Paris:20201202T110000
DTSTAMP:20260421T090832
CREATED:20201129T200235Z
LAST-MODIFIED:20210630T164655Z
UID:7607-1606901400-1606906800@uncafefrancais.com
SUMMARY:Le P’tit Déj’ Débutants - [:fr]EN LIGNE[:][:en]ONLINE[:]
DESCRIPTION:What would you have for breakfast? A comforting cup of tea or coffee\, a friendly conversation in French and a shot of good humour? A good way to start the day. \n  \nConsumption not included
URL:https://uncafefrancais.com/en/agenda/eptitdej-debutants-201202/
CATEGORIES:[:fr]Groupes de conversations Débutants[:][:en]Beginner Conversation Groups[:],[:fr]Groupes de conversations[:][:en]Conversation Groups[:],[:fr]P'tits Déj' Débutants[:][:en]Beginner Breakfasts[:],P'tits Déj'
ATTACH;FMTTYPE=image/png:https://uncafefrancais.com/wp-content/uploads/2020/08/FormuleConversGrammCompress.png
END:VEVENT
BEGIN:VEVENT
DTSTART;TZID=Europe/Paris:20201126T093000
DTEND;TZID=Europe/Paris:20201126T110000
DTSTAMP:20260421T090832
CREATED:20201030T144322Z
LAST-MODIFIED:20210630T164955Z
UID:7220-1606383000-1606388400@uncafefrancais.com
SUMMARY:Le P’tit Déj’ Intermédiaires - [:fr]EN LIGNE[:][:en]ONLINE[:]
DESCRIPTION:What if started the day with a pleasant conversation in a charming café? Nothing better for getting up to speed. And to finish our time together\, a new topic or some revision…It’s going to be a nice day! \n  \n  \nConsumption not included
URL:https://uncafefrancais.com/en/agenda/eptitdej-intermediaires-201126/
CATEGORIES:[:fr]Groupes de conversations Avancés[:][:en]Advanced Conversation Groups[:],[:fr]Groupes de conversations Intermédiaires[:][:en]Intermediate Conversations Groups[:],[:fr]Groupes de conversations[:][:en]Conversation Groups[:],[:fr]P'tits Déj' Intermédiaires[:][:en]Intermediate Breakfasts[:],P'tits Déj'
END:VEVENT
BEGIN:VEVENT
DTSTART;TZID=Europe/Paris:20201125T093000
DTEND;TZID=Europe/Paris:20201125T110000
DTSTAMP:20260421T090832
CREATED:20201030T163051Z
LAST-MODIFIED:20210630T164655Z
UID:7287-1606296600-1606302000@uncafefrancais.com
SUMMARY:Le P’tit Déj’ Débutants - [:fr]EN LIGNE[:][:en]ONLINE[:]
DESCRIPTION:What would you have for breakfast? A comforting cup of tea or coffee\, a friendly conversation in French and a shot of good humour? A good way to start the day. \n  \nConsumption not included
URL:https://uncafefrancais.com/en/agenda/eptitdej-debutants-201125/
CATEGORIES:[:fr]Groupes de conversations Débutants[:][:en]Beginner Conversation Groups[:],[:fr]Groupes de conversations[:][:en]Conversation Groups[:],[:fr]P'tits Déj' Débutants[:][:en]Beginner Breakfasts[:],P'tits Déj'
ATTACH;FMTTYPE=image/png:https://uncafefrancais.com/wp-content/uploads/2020/08/FormuleConversGrammCompress.png
END:VEVENT
BEGIN:VEVENT
DTSTART;TZID=Europe/Paris:20201119T093000
DTEND;TZID=Europe/Paris:20201119T110000
DTSTAMP:20260421T090832
CREATED:20201030T144733Z
LAST-MODIFIED:20210630T164955Z
UID:7222-1605778200-1605783600@uncafefrancais.com
SUMMARY:Le P’tit Déj’ Intermédiaires - [:fr]EN LIGNE[:][:en]ONLINE[:]
DESCRIPTION:What if started the day with a pleasant conversation in a charming café? Nothing better for getting up to speed. And to finish our time together\, a new topic or some revision…It’s going to be a nice day! \n  \n  \nConsumption not included
URL:https://uncafefrancais.com/en/agenda/eptitdej-intermediaires-201119/
CATEGORIES:[:fr]Groupes de conversations Débutants[:][:en]Beginner Conversation Groups[:],[:fr]Groupes de conversations Intermédiaires[:][:en]Intermediate Conversations Groups[:],[:fr]P'tits Déj' Intermédiaires[:][:en]Intermediate Breakfasts[:],P'tits Déj'
END:VEVENT
BEGIN:VEVENT
DTSTART;TZID=Europe/Paris:20201118T093000
DTEND;TZID=Europe/Paris:20201118T110000
DTSTAMP:20260421T090832
CREATED:20201030T161055Z
LAST-MODIFIED:20210630T164655Z
UID:7200-1605691800-1605697200@uncafefrancais.com
SUMMARY:Le P’tit Déj’ Débutants - [:fr]EN LIGNE[:][:en]ONLINE[:]
DESCRIPTION:What would you have for breakfast? A comforting cup of tea or coffee\, a friendly conversation in French and a shot of good humour? A good way to start the day. \n  \nConsumption not included
URL:https://uncafefrancais.com/en/agenda/eptitdej-debutants-201118/
CATEGORIES:[:fr]Groupes de conversations Débutants[:][:en]Beginner Conversation Groups[:],[:fr]Groupes de conversations[:][:en]Conversation Groups[:],[:fr]P'tits Déj' Débutants[:][:en]Beginner Breakfasts[:],P'tits Déj'
END:VEVENT
BEGIN:VEVENT
DTSTART;TZID=Europe/Paris:20201112T093000
DTEND;TZID=Europe/Paris:20201112T110000
DTSTAMP:20260421T090832
CREATED:20201030T145047Z
LAST-MODIFIED:20210630T164955Z
UID:7224-1605173400-1605178800@uncafefrancais.com
SUMMARY:Le P’tit Déj’ Intermédiaires - [:fr]EN LIGNE[:][:en]ONLINE[:]
DESCRIPTION:What if started the day with a pleasant conversation in a charming café? Nothing better for getting up to speed. And to finish our time together\, a new topic or some revision…It’s going to be a nice day! \n  \n  \nConsumption not included
URL:https://uncafefrancais.com/en/agenda/eptitdej-intermediaires-201112/
CATEGORIES:[:fr]Groupes de conversations Intermédiaires[:][:en]Intermediate Conversations Groups[:],[:fr]Groupes de conversations[:][:en]Conversation Groups[:],[:fr]P'tits Déj' Intermédiaires[:][:en]Intermediate Breakfasts[:],P'tits Déj'
END:VEVENT
BEGIN:VEVENT
DTSTART;TZID=Europe/Paris:20201111T093000
DTEND;TZID=Europe/Paris:20201111T110000
DTSTAMP:20260421T090832
CREATED:20201030T163054Z
LAST-MODIFIED:20210630T164655Z
UID:7289-1605087000-1605092400@uncafefrancais.com
SUMMARY:Le P’tit Déj’ Débutants - [:fr]EN LIGNE[:][:en]ONLINE[:]
DESCRIPTION:What would you have for breakfast? A comforting cup of tea or coffee\, a friendly conversation in French and a shot of good humour? A good way to start the day. \n  \nConsumption not included
URL:https://uncafefrancais.com/en/agenda/eptitdej-debutants-201111/
CATEGORIES:[:fr]Groupes de conversations Débutants[:][:en]Beginner Conversation Groups[:],[:fr]Groupes de conversations[:][:en]Conversation Groups[:],[:fr]P'tits Déj' Débutants[:][:en]Beginner Breakfasts[:],P'tits Déj'
ATTACH;FMTTYPE=image/png:https://uncafefrancais.com/wp-content/uploads/2020/08/FormuleConversGrammCompress.png
END:VEVENT
BEGIN:VEVENT
DTSTART;TZID=Europe/Paris:20201105T093000
DTEND;TZID=Europe/Paris:20201105T110000
DTSTAMP:20260421T090832
CREATED:20201030T145824Z
LAST-MODIFIED:20210630T164955Z
UID:7225-1604568600-1604574000@uncafefrancais.com
SUMMARY:Le P’tit Déj’ Intermédiaires - [:fr]EN LIGNE[:][:en]ONLINE[:]
DESCRIPTION:What if started the day with a pleasant conversation in a charming café? Nothing better for getting up to speed. And to finish our time together\, a new topic or some revision…It’s going to be a nice day! \n  \n  \nConsumption not included
URL:https://uncafefrancais.com/en/agenda/eptitdej-intermediaires-201105/
CATEGORIES:[:fr]Groupes de conversations Intermédiaires[:][:en]Intermediate Conversations Groups[:],[:fr]Groupes de conversations[:][:en]Conversation Groups[:],[:fr]P'tits Déj' Intermédiaires[:][:en]Intermediate Breakfasts[:],P'tits Déj'
END:VEVENT
BEGIN:VEVENT
DTSTART;TZID=Europe/Paris:20201104T093000
DTEND;TZID=Europe/Paris:20201104T110000
DTSTAMP:20260421T090832
CREATED:20201030T141435Z
LAST-MODIFIED:20210630T164655Z
UID:7204-1604482200-1604487600@uncafefrancais.com
SUMMARY:Le P’tit Déj’ Débutants - [:fr]EN LIGNE[:][:en]ONLINE[:]
DESCRIPTION:What would you have for breakfast? A comforting cup of tea or coffee\, a friendly conversation in French and a shot of good humour? A good way to start the day. \n  \nConsumption not included
URL:https://uncafefrancais.com/en/agenda/eptitdej-debutants-201104/
CATEGORIES:[:fr]Groupes de conversations Débutants[:][:en]Beginner Conversation Groups[:],[:fr]Groupes de conversations[:][:en]Conversation Groups[:],[:fr]P'tits Déj' Débutants[:][:en]Beginner Breakfasts[:],P'tits Déj'
ATTACH;FMTTYPE=image/png:https://uncafefrancais.com/wp-content/uploads/2020/08/FormuleConversGrammCompress.png
END:VEVENT
END:VCALENDAR