BEGIN:VCALENDAR
VERSION:2.0
PRODID:-//Un Café Français - ECPv6.15.13.1//NONSGML v1.0//EN
CALSCALE:GREGORIAN
METHOD:PUBLISH
X-WR-CALNAME:Un Café Français
X-ORIGINAL-URL:https://uncafefrancais.com
X-WR-CALDESC:Évènements pour Un Café Français
REFRESH-INTERVAL;VALUE=DURATION:PT1H
X-Robots-Tag:noindex
X-PUBLISHED-TTL:PT1H
BEGIN:VTIMEZONE
TZID:Europe/Paris
BEGIN:DAYLIGHT
TZOFFSETFROM:+0100
TZOFFSETTO:+0200
TZNAME:CEST
DTSTART:20200329T010000
END:DAYLIGHT
BEGIN:STANDARD
TZOFFSETFROM:+0200
TZOFFSETTO:+0100
TZNAME:CET
DTSTART:20201025T010000
END:STANDARD
BEGIN:DAYLIGHT
TZOFFSETFROM:+0100
TZOFFSETTO:+0200
TZNAME:CEST
DTSTART:20210328T010000
END:DAYLIGHT
BEGIN:STANDARD
TZOFFSETFROM:+0200
TZOFFSETTO:+0100
TZNAME:CET
DTSTART:20211031T010000
END:STANDARD
BEGIN:DAYLIGHT
TZOFFSETFROM:+0100
TZOFFSETTO:+0200
TZNAME:CEST
DTSTART:20220327T010000
END:DAYLIGHT
BEGIN:STANDARD
TZOFFSETFROM:+0200
TZOFFSETTO:+0100
TZNAME:CET
DTSTART:20221030T010000
END:STANDARD
END:VTIMEZONE
BEGIN:VEVENT
DTSTART;TZID=Europe/Paris:20210705T183000
DTEND;TZID=Europe/Paris:20210705T203000
DTSTAMP:20260424T005417
CREATED:20210715T173000Z
LAST-MODIFIED:20210724T192202Z
UID:8813-1625509800-1625517000@uncafefrancais.com
SUMMARY:L'Apéro Débutants
DESCRIPTION:Trop timide pour parler français ? Alors\, retrouvons-nous un soir à l’« apéro » dans un café\, entre nous\, pour démarrer à votre rythme… Si\, si deux petites heures\, c’est un bon début\, non ? \n  \nConsommation non comprise
URL:https://uncafefrancais.com/agenda/apero-debutants-210705/
LOCATION:L’Etoile Manquante\, 34\, rue Vieille du Temple\, PARIS\, 75004\, France
CATEGORIES:[:fr]Apéros Débutants[:][:en]Beginner Apéros[:],[:fr]Groupes de conversations Débutants[:][:en]Beginner Conversation Groups[:],[:fr]Groupes de conversations[:][:en]Conversation Groups[:],Apéros
ATTACH;FMTTYPE=image/png:https://uncafefrancais.com/wp-content/uploads/2020/01/UCF-Jumelle-Apero_deb.png
END:VEVENT
BEGIN:VEVENT
DTSTART;TZID=Europe/Paris:20210706T140000
DTEND;TZID=Europe/Paris:20210706T153000
DTSTAMP:20260424T005417
CREATED:20210630T142019Z
LAST-MODIFIED:20210630T172000Z
UID:7148-1625580000-1625585400@uncafefrancais.com
SUMMARY:La Pause-Café Intermédiaires
DESCRIPTION:L’après-midi est un joli moment pour avoir une conversation… Visiter un quartier\, s’installer dans un café sympathique à la décoration originale ou classique et parler français durant une bonne heure. À la fin\, découvrons ou revoyons un point de la langue qui vous semble difficile\, mais surtout mettons-le en pratique ! \n  \nConsommation non comprise
URL:https://uncafefrancais.com/agenda/pausecafe-intermediaires-210706/
CATEGORIES:[:fr]Groupes de conversations Intermédiaires[:][:en]Intermediate Conversations Groups[:],[:fr]Groupes de conversations[:][:en]Conversation Groups[:],[:fr]Pauses-Café Intermédiaires[:][:en]Intermediate Pauses-Café[:],Pauses-Café
ATTACH;FMTTYPE=image/png:https://uncafefrancais.com/wp-content/uploads/2020/01/UCF-Jumelle-Pause-cafe_int.png
END:VEVENT
BEGIN:VEVENT
DTSTART;TZID=Europe/Paris:20210707T183000
DTEND;TZID=Europe/Paris:20210707T203000
DTSTAMP:20260424T005417
CREATED:20210630T000244Z
LAST-MODIFIED:20210630T164352Z
UID:8836-1625682600-1625689800@uncafefrancais.com
SUMMARY:L’Apéro Intermédiaires
DESCRIPTION:Un apéro\, un petit groupe\, une discussion en français : voici notre recette secrète pour progresser sans crainte en français et finir gaiement la journée \n  \n  \nConsommation non comprise
URL:https://uncafefrancais.com/agenda/apero-intermediaires-210707/
LOCATION:L’Etoile Manquante\, 34\, rue Vieille du Temple\, PARIS\, 75004\, France
CATEGORIES:[:fr]Apéros Intermédiaires[:][:en]Intermediate Apéros[:],[:fr]Groupes de conversations Intermédiaires[:][:en]Intermediate Conversations Groups[:],[:fr]Groupes de conversations[:][:en]Conversation Groups[:],Apéros
ATTACH;FMTTYPE=image/png:https://uncafefrancais.com/wp-content/uploads/2020/01/UCF-Jumelle-Apero_int.png
END:VEVENT
BEGIN:VEVENT
DTSTART;TZID=Europe/Paris:20210708T140000
DTEND;TZID=Europe/Paris:20210708T153000
DTSTAMP:20260424T005417
CREATED:20210630T005252Z
LAST-MODIFIED:20210630T165559Z
UID:8856-1625752800-1625758200@uncafefrancais.com
SUMMARY:La Pause-Café Débutants
DESCRIPTION:Donnons-nous rendez-vous dans un café pour parler français. En passant\, découvrons un quartier parisien. Et avant de nous quitter\, travaillons un point de la langue pour la rendre plus naturelle. Une après-midi bien remplie\, en perspective… \n  \n  \nConsommation non comprise
URL:https://uncafefrancais.com/agenda/pausecafe-debutants-210708/
CATEGORIES:[:fr]Groupes de conversations Débutants[:][:en]Beginner Conversation Groups[:],[:fr]Groupes de conversations[:][:en]Conversation Groups[:],[:fr]Pauses-Café Débutants[:][:en]Beginner Pauses-Café[:],Pauses-Café
ATTACH;FMTTYPE=image/png:https://uncafefrancais.com/wp-content/uploads/2020/01/UCF-Jumelle-Pause-cafe_deb.png
END:VEVENT
BEGIN:VEVENT
DTSTART;TZID=Europe/Paris:20210712T183000
DTEND;TZID=Europe/Paris:20210712T203000
DTSTAMP:20260424T005417
CREATED:20210629T220617Z
LAST-MODIFIED:20210630T164506Z
UID:8821-1626114600-1626121800@uncafefrancais.com
SUMMARY:L'Apéro Débutants
DESCRIPTION:Trop timide pour parler français ? Alors\, retrouvons-nous un soir à l’« apéro » dans un café\, entre nous\, pour démarrer à votre rythme… Si\, si deux petites heures\, c’est un bon début\, non ? \n  \nConsommation non comprise
URL:https://uncafefrancais.com/agenda/apero-debutants-210712/
LOCATION:L’Etoile Manquante\, 34\, rue Vieille du Temple\, PARIS\, 75004\, France
CATEGORIES:[:fr]Apéros Débutants[:][:en]Beginner Apéros[:],[:fr]Groupes de conversations Débutants[:][:en]Beginner Conversation Groups[:],[:fr]Groupes de conversations[:][:en]Conversation Groups[:],Apéros
ATTACH;FMTTYPE=image/png:https://uncafefrancais.com/wp-content/uploads/2020/01/UCF-Jumelle-Apero_deb.png
END:VEVENT
BEGIN:VEVENT
DTSTART;TZID=Europe/Paris:20210713T140000
DTEND;TZID=Europe/Paris:20210713T153000
DTSTAMP:20260424T005417
CREATED:20210630T141732Z
LAST-MODIFIED:20210630T172000Z
UID:7154-1626184800-1626190200@uncafefrancais.com
SUMMARY:La Pause-Café Intermédiaires
DESCRIPTION:L’après-midi est un joli moment pour avoir une conversation… Visiter un quartier\, s’installer dans un café sympathique à la décoration originale ou classique et parler français durant une bonne heure. À la fin\, découvrons ou revoyons un point de la langue qui vous semble difficile\, mais surtout mettons-le en pratique ! \n  \nConsommation non comprise
URL:https://uncafefrancais.com/agenda/pausecafe-intermediaires-210713/
CATEGORIES:[:fr]Groupes de conversations Intermédiaires[:][:en]Intermediate Conversations Groups[:],[:fr]Groupes de conversations[:][:en]Conversation Groups[:],[:fr]Pauses-Café Intermédiaires[:][:en]Intermediate Pauses-Café[:],Pauses-Café
ATTACH;FMTTYPE=image/png:https://uncafefrancais.com/wp-content/uploads/2020/01/UCF-Jumelle-Pause-cafe_int.png
END:VEVENT
BEGIN:VEVENT
DTSTART;TZID=Europe/Paris:20210714T183000
DTEND;TZID=Europe/Paris:20210714T203000
DTSTAMP:20260424T005417
CREATED:20210629T235743Z
LAST-MODIFIED:20210630T164352Z
UID:8837-1626287400-1626294600@uncafefrancais.com
SUMMARY:L’Apéro Intermédiaires
DESCRIPTION:Un apéro\, un petit groupe\, une discussion en français : voici notre recette secrète pour progresser sans crainte en français et finir gaiement la journée \n  \n  \nConsommation non comprise
URL:https://uncafefrancais.com/agenda/apero-intermediaires-210714/
LOCATION:L’Etoile Manquante\, 34\, rue Vieille du Temple\, PARIS\, 75004\, France
CATEGORIES:[:fr]Apéros Intermédiaires[:][:en]Intermediate Apéros[:],[:fr]Groupes de conversations Intermédiaires[:][:en]Intermediate Conversations Groups[:],[:fr]Groupes de conversations[:][:en]Conversation Groups[:],Apéros
ATTACH;FMTTYPE=image/png:https://uncafefrancais.com/wp-content/uploads/2020/01/UCF-Jumelle-Apero_int.png
END:VEVENT
BEGIN:VEVENT
DTSTART;TZID=Europe/Paris:20210715T100000
DTEND;TZID=Europe/Paris:20210715T120000
DTSTAMP:20260424T005417
CREATED:20210630T221018Z
LAST-MODIFIED:20210701T212307Z
UID:9027-1626343200-1626350400@uncafefrancais.com
SUMMARY:[:fr]Visite Guidée : Le Charmant Montmartre - Niveau Avancé[:][:en]Guided Tour : The Charming Montmartre - Advanced Level[:]
DESCRIPTION:Connaissez-vous Montmartre ? Accompagnés de Jean-Louis\, guide professionnel\, venez déambuler et découvrir ses facettes secrètes dans des ruelles chargées d’histoires.\nEt à l’issu de la balade\, pour nous remettre de nos efforts une petite pause-café*. \n \n*consommation non-comprise / consumption not included\nMinimum de participants / Minimum number of attendees : 1 \nPensez à vos masques et gel hydrohalcoolique / Think of your masks and hydrohalcoholic gel !!
URL:https://uncafefrancais.com/agenda/vg-avance-chmontmartre210715/
CATEGORIES:[:fr]Visites Guidées Avancés[:][:en]Advanced Guided Tours[:],[:fr]Visites Guidées[:][:en]Guided Tours[:]
ATTACH;FMTTYPE=image/png:https://uncafefrancais.com/wp-content/uploads/2021/02/UVP18juillet14_VGMontmartre-6_jum.png
END:VEVENT
BEGIN:VEVENT
DTSTART;TZID=Europe/Paris:20210715T140000
DTEND;TZID=Europe/Paris:20210715T153000
DTSTAMP:20260424T005417
CREATED:20210630T011108Z
LAST-MODIFIED:20210630T165559Z
UID:8857-1626357600-1626363000@uncafefrancais.com
SUMMARY:La Pause-Café Débutants
DESCRIPTION:Donnons-nous rendez-vous dans un café pour parler français. En passant\, découvrons un quartier parisien. Et avant de nous quitter\, travaillons un point de la langue pour la rendre plus naturelle. Une après-midi bien remplie\, en perspective… \n  \n  \nConsommation non comprise
URL:https://uncafefrancais.com/agenda/pausecafe-debutants-210715/
CATEGORIES:[:fr]Groupes de conversations Débutants[:][:en]Beginner Conversation Groups[:],[:fr]Groupes de conversations[:][:en]Conversation Groups[:],[:fr]Pauses-Café Débutants[:][:en]Beginner Pauses-Café[:],Pauses-Café
ATTACH;FMTTYPE=image/png:https://uncafefrancais.com/wp-content/uploads/2020/01/UCF-Jumelle-Pause-cafe_deb.png
END:VEVENT
BEGIN:VEVENT
DTSTART;TZID=Europe/Paris:20210719T183000
DTEND;TZID=Europe/Paris:20210719T203000
DTSTAMP:20260424T005417
CREATED:20210629T220602Z
LAST-MODIFIED:20210630T164506Z
UID:8822-1626719400-1626726600@uncafefrancais.com
SUMMARY:L'Apéro Débutants
DESCRIPTION:Trop timide pour parler français ? Alors\, retrouvons-nous un soir à l’« apéro » dans un café\, entre nous\, pour démarrer à votre rythme… Si\, si deux petites heures\, c’est un bon début\, non ? \n  \nConsommation non comprise
URL:https://uncafefrancais.com/agenda/apero-debutants-210719/
LOCATION:L’Etoile Manquante\, 34\, rue Vieille du Temple\, PARIS\, 75004\, France
CATEGORIES:[:fr]Apéros Débutants[:][:en]Beginner Apéros[:],[:fr]Groupes de conversations Débutants[:][:en]Beginner Conversation Groups[:],[:fr]Groupes de conversations[:][:en]Conversation Groups[:],Apéros
ATTACH;FMTTYPE=image/png:https://uncafefrancais.com/wp-content/uploads/2020/01/UCF-Jumelle-Apero_deb.png
END:VEVENT
BEGIN:VEVENT
DTSTART;TZID=Europe/Paris:20210720T140000
DTEND;TZID=Europe/Paris:20210720T153000
DTSTAMP:20260424T005417
CREATED:20210630T142534Z
LAST-MODIFIED:20210630T172000Z
UID:7630-1626789600-1626795000@uncafefrancais.com
SUMMARY:La Pause-Café Intermédiaires
DESCRIPTION:L’après-midi est un joli moment pour avoir une conversation… Visiter un quartier\, s’installer dans un café sympathique à la décoration originale ou classique et parler français durant une bonne heure. À la fin\, découvrons ou revoyons un point de la langue qui vous semble difficile\, mais surtout mettons-le en pratique ! \n  \nConsommation non comprise
URL:https://uncafefrancais.com/agenda/pausecafe-intermediaires-210720/
CATEGORIES:[:fr]Groupes de conversations Intermédiaires[:][:en]Intermediate Conversations Groups[:],[:fr]Groupes de conversations[:][:en]Conversation Groups[:],[:fr]Pauses-Café Intermédiaires[:][:en]Intermediate Pauses-Café[:],Pauses-Café
ATTACH;FMTTYPE=image/png:https://uncafefrancais.com/wp-content/uploads/2020/01/UCF-Jumelle-Pause-cafe_int.png
END:VEVENT
BEGIN:VEVENT
DTSTART;TZID=Europe/Paris:20210721T183000
DTEND;TZID=Europe/Paris:20210721T203000
DTSTAMP:20260424T005417
CREATED:20210629T235454Z
LAST-MODIFIED:20210630T164352Z
UID:8838-1626892200-1626899400@uncafefrancais.com
SUMMARY:L’Apéro Intermédiaires
DESCRIPTION:Un apéro\, un petit groupe\, une discussion en français : voici notre recette secrète pour progresser sans crainte en français et finir gaiement la journée \n  \n  \nConsommation non comprise
URL:https://uncafefrancais.com/agenda/apero-intermediaires-210721/
LOCATION:L’Etoile Manquante\, 34\, rue Vieille du Temple\, PARIS\, 75004\, France
CATEGORIES:[:fr]Apéros Intermédiaires[:][:en]Intermediate Apéros[:],[:fr]Groupes de conversations Intermédiaires[:][:en]Intermediate Conversations Groups[:],[:fr]Groupes de conversations[:][:en]Conversation Groups[:],Apéros
ATTACH;FMTTYPE=image/png:https://uncafefrancais.com/wp-content/uploads/2020/01/UCF-Jumelle-Apero_int.png
END:VEVENT
BEGIN:VEVENT
DTSTART;TZID=Europe/Paris:20210722T140000
DTEND;TZID=Europe/Paris:20210722T153000
DTSTAMP:20260424T005417
CREATED:20210630T124542Z
LAST-MODIFIED:20210630T165559Z
UID:8858-1626962400-1626967800@uncafefrancais.com
SUMMARY:La Pause-Café Débutants
DESCRIPTION:Donnons-nous rendez-vous dans un café pour parler français. En passant\, découvrons un quartier parisien. Et avant de nous quitter\, travaillons un point de la langue pour la rendre plus naturelle. Une après-midi bien remplie\, en perspective… \n  \n  \nConsommation non comprise
URL:https://uncafefrancais.com/agenda/pausecafe-debutants-210722/
CATEGORIES:[:fr]Groupes de conversations Débutants[:][:en]Beginner Conversation Groups[:],[:fr]Groupes de conversations[:][:en]Conversation Groups[:],[:fr]Pauses-Café Débutants[:][:en]Beginner Pauses-Café[:],Pauses-Café
ATTACH;FMTTYPE=image/png:https://uncafefrancais.com/wp-content/uploads/2020/01/UCF-Jumelle-Pause-cafe_deb.png
END:VEVENT
BEGIN:VEVENT
DTSTART;TZID=Europe/Paris:20210723T073000
DTEND;TZID=Europe/Paris:20210723T183000
DTSTAMP:20260424T005417
CREATED:20210701T140824Z
LAST-MODIFIED:20210701T212358Z
UID:8877-1627025400-1627065000@uncafefrancais.com
SUMMARY:Visite :  PROVINS - Tous niveaux
DESCRIPTION:Cette fois\, Un Café Français vous propose une visite libre et dépaysante\, une belle journée de pause. \nEn effet\, nous quittons Paris (mais pas sa région) pour découvrir ensemble une très vieille ville\, encore remplie d’histoire. \nCette visite est libre : nous n’aurons pas de guide\, ce qui nous permettra d’avancer à notre rythme\, de prendre des pauses à notre gré\, de discuter tranquillement en français. \nVous pouvez venir accompagné(e) de personnes non-francophones : nous aurons plus que l’opportunité de parler français\, au cours de cette longue journée de français. Mais nous pourrons aussi échanger en anglais afin de leur rendre cette journée aussi conviviale que possible. Ainsi\, vous découvrirez ensemble une autre pan de l’histoire française et européenne. \nAlors\, on y va ? \n  \nTransports & consommations non-compris / Transportation & consumptions not included\nMinimum de participants / Minimum number of attendees : 1 \nPensez à vos masques et gel hydrohalcoolique / Think of your masks and hydrohalcoholic gel !!
URL:https://uncafefrancais.com/agenda/visite-provins210723/
LOCATION:PROVINS\, PROVINS\, Ile-de-France\, 77160\, France
CATEGORIES:[:fr]Visite[:][:en]Tours[:]
ATTACH;FMTTYPE=image/png:https://uncafefrancais.com/wp-content/uploads/2021/02/2019_IDF-Provins_jum.png
END:VEVENT
BEGIN:VEVENT
DTSTART;TZID=Europe/Paris:20210726T183000
DTEND;TZID=Europe/Paris:20210726T203000
DTSTAMP:20260424T005417
CREATED:20210629T220537Z
LAST-MODIFIED:20210726T161850Z
UID:8823-1627324200-1627331400@uncafefrancais.com
SUMMARY:L'Apéro Débutants
DESCRIPTION:Trop timide pour parler français ? Alors\, retrouvons-nous un soir à l’« apéro » dans un café\, entre nous\, pour démarrer à votre rythme… Si\, si deux petites heures\, c’est un bon début\, non ? \n  \nConsommation non comprise
URL:https://uncafefrancais.com/agenda/apero-debutants-210726/
LOCATION:L’Etoile Manquante\, 34\, rue Vieille du Temple\, PARIS\, 75004\, France
CATEGORIES:[:fr]Apéros Débutants[:][:en]Beginner Apéros[:],[:fr]Groupes de conversations Débutants[:][:en]Beginner Conversation Groups[:],[:fr]Groupes de conversations[:][:en]Conversation Groups[:],Apéros
ATTACH;FMTTYPE=image/png:https://uncafefrancais.com/wp-content/uploads/2020/01/UCF-Jumelle-Apero_deb.png
END:VEVENT
BEGIN:VEVENT
DTSTART;TZID=Europe/Paris:20210727T140000
DTEND;TZID=Europe/Paris:20210727T153000
DTSTAMP:20260424T005417
CREATED:20210630T143135Z
LAST-MODIFIED:20210630T172000Z
UID:8820-1627394400-1627399800@uncafefrancais.com
SUMMARY:La Pause-Café Intermédiaires
DESCRIPTION:L’après-midi est un joli moment pour avoir une conversation… Visiter un quartier\, s’installer dans un café sympathique à la décoration originale ou classique et parler français durant une bonne heure. À la fin\, découvrons ou revoyons un point de la langue qui vous semble difficile\, mais surtout mettons-le en pratique ! \n  \nConsommation non comprise
URL:https://uncafefrancais.com/agenda/pausecafe-intermediaires-210727/
CATEGORIES:[:fr]Groupes de conversations Intermédiaires[:][:en]Intermediate Conversations Groups[:],[:fr]Groupes de conversations[:][:en]Conversation Groups[:],[:fr]Pauses-Café Intermédiaires[:][:en]Intermediate Pauses-Café[:],Pauses-Café
ATTACH;FMTTYPE=image/png:https://uncafefrancais.com/wp-content/uploads/2020/01/UCF-Jumelle-Pause-cafe_int.png
END:VEVENT
BEGIN:VEVENT
DTSTART;TZID=Europe/Paris:20210728T183000
DTEND;TZID=Europe/Paris:20210728T203000
DTSTAMP:20260424T005417
CREATED:20210629T235507Z
LAST-MODIFIED:20210630T164352Z
UID:8839-1627497000-1627504200@uncafefrancais.com
SUMMARY:L’Apéro Intermédiaires
DESCRIPTION:Un apéro\, un petit groupe\, une discussion en français : voici notre recette secrète pour progresser sans crainte en français et finir gaiement la journée \n  \n  \nConsommation non comprise
URL:https://uncafefrancais.com/agenda/apero-intermediaires-210728/
LOCATION:L’Etoile Manquante\, 34\, rue Vieille du Temple\, PARIS\, 75004\, France
CATEGORIES:[:fr]Apéros Intermédiaires[:][:en]Intermediate Apéros[:],[:fr]Groupes de conversations Intermédiaires[:][:en]Intermediate Conversations Groups[:],[:fr]Groupes de conversations[:][:en]Conversation Groups[:],Apéros
ATTACH;FMTTYPE=image/png:https://uncafefrancais.com/wp-content/uploads/2020/01/UCF-Jumelle-Apero_int.png
END:VEVENT
BEGIN:VEVENT
DTSTART;TZID=Europe/Paris:20210729T100000
DTEND;TZID=Europe/Paris:20210729T113000
DTSTAMP:20260424T005417
CREATED:20210630T210714Z
LAST-MODIFIED:20210707T082210Z
UID:9021-1627552800-1627558200@uncafefrancais.com
SUMMARY:[:fr]Visite Guidée : Les Halles - Niveau Intermédiaire[:][:en]Guided Tour : Les Halles - Intermediate Level[:]
DESCRIPTION:Le quartier commerçant de Paris\, par excellence ! Si si\, depuis le 12ème siècle\, c’est un lieu où les marchandises s’échangent. Et depuis 1970\, le quartier des Halles est tout le temps en train de se transformer. Vous voulez en découvrir plus ? \nVenez suivre Jean-Louis\, qui vous montrera les traces de ces changements… \n \n  \nConsommation non-comprise / Consumption not included\nMinimum de participants / Minimum number of attendees : 1
URL:https://uncafefrancais.com/agenda/vg-interm-leshalles210729/
CATEGORIES:[:fr]Visites Guidées Intermédiares[:][:en]Intermediate Guided Tours[:],[:fr]Visites Guidées[:][:en]Guided Tours[:]
ATTACH;FMTTYPE=image/png:https://uncafefrancais.com/wp-content/uploads/2021/02/2019VG_Paris1-Les-Halles_Clt-et-Guide_jum-1.png
END:VEVENT
BEGIN:VEVENT
DTSTART;TZID=Europe/Paris:20210729T140000
DTEND;TZID=Europe/Paris:20210729T153000
DTSTAMP:20260424T005417
CREATED:20210630T010936Z
LAST-MODIFIED:20210630T165559Z
UID:8859-1627567200-1627572600@uncafefrancais.com
SUMMARY:La Pause-Café Débutants
DESCRIPTION:Donnons-nous rendez-vous dans un café pour parler français. En passant\, découvrons un quartier parisien. Et avant de nous quitter\, travaillons un point de la langue pour la rendre plus naturelle. Une après-midi bien remplie\, en perspective… \n  \n  \nConsommation non comprise
URL:https://uncafefrancais.com/agenda/pausecafe-debutants-210729/
CATEGORIES:[:fr]Groupes de conversations Débutants[:][:en]Beginner Conversation Groups[:],[:fr]Groupes de conversations[:][:en]Conversation Groups[:],[:fr]Pauses-Café Débutants[:][:en]Beginner Pauses-Café[:],Pauses-Café
ATTACH;FMTTYPE=image/png:https://uncafefrancais.com/wp-content/uploads/2020/01/UCF-Jumelle-Pause-cafe_deb.png
END:VEVENT
END:VCALENDAR