BEGIN:VCALENDAR
VERSION:2.0
PRODID:-//Un Café Français - ECPv6.15.13.1//NONSGML v1.0//EN
CALSCALE:GREGORIAN
METHOD:PUBLISH
X-ORIGINAL-URL:https://uncafefrancais.com
X-WR-CALDESC:Évènements pour Un Café Français
REFRESH-INTERVAL;VALUE=DURATION:PT1H
X-Robots-Tag:noindex
X-PUBLISHED-TTL:PT1H
BEGIN:VTIMEZONE
TZID:Europe/Paris
BEGIN:DAYLIGHT
TZOFFSETFROM:+0100
TZOFFSETTO:+0200
TZNAME:CEST
DTSTART:20220327T010000
END:DAYLIGHT
BEGIN:STANDARD
TZOFFSETFROM:+0200
TZOFFSETTO:+0100
TZNAME:CET
DTSTART:20221030T010000
END:STANDARD
BEGIN:DAYLIGHT
TZOFFSETFROM:+0100
TZOFFSETTO:+0200
TZNAME:CEST
DTSTART:20230326T010000
END:DAYLIGHT
BEGIN:STANDARD
TZOFFSETFROM:+0200
TZOFFSETTO:+0100
TZNAME:CET
DTSTART:20231029T010000
END:STANDARD
BEGIN:DAYLIGHT
TZOFFSETFROM:+0100
TZOFFSETTO:+0200
TZNAME:CEST
DTSTART:20240331T010000
END:DAYLIGHT
BEGIN:STANDARD
TZOFFSETFROM:+0200
TZOFFSETTO:+0100
TZNAME:CET
DTSTART:20241027T010000
END:STANDARD
END:VTIMEZONE
BEGIN:VEVENT
DTSTART;TZID=Europe/Paris:20230501T080000
DTEND;TZID=Europe/Paris:20230501T170000
DTSTAMP:20260420T045036
CREATED:20230501T165644Z
LAST-MODIFIED:20230501T172734Z
UID:11551-1682928000-1682960400@uncafefrancais.com
SUMMARY:L’Apéro Intermédiaires
DESCRIPTION:Un apéro\, un petit groupe\, une discussion en français: voici notre recette secrète pour progresser sans crainte en français et finir gaiement la journée. \nConsommation non comprise
URL:https://uncafefrancais.com/agenda/apero-intermediaires-230/
LOCATION:Le Génie\, 4\, Bld de Beaumarchais\, PARIS\, 75011
CATEGORIES:[:fr]Apéros Intermédiaires[:][:en]Intermediate Apéros[:],[:fr]Groupes de conversations Intermédiaires[:][:en]Intermediate Conversations Groups[:],[:fr]Groupes de conversations[:][:en]Conversation Groups[:],Apéros
ATTACH;FMTTYPE=image/png:https://uncafefrancais.com/wp-content/uploads/2020/01/UCF-Jumelle-Apero_int.png
END:VEVENT
BEGIN:VEVENT
DTSTART;TZID=Europe/Paris:20230501T183000
DTEND;TZID=Europe/Paris:20230501T200000
DTSTAMP:20260420T045036
CREATED:20230414T153704Z
LAST-MODIFIED:20230414T153704Z
UID:11486-1682965800-1682971200@uncafefrancais.com
SUMMARY:L'Apéro Débutants
DESCRIPTION:Trop timide pour parler français ? Alors\, retrouvons-nous un soir à l’« apéro » dans un café\, entre nous\, pour démarrer à votre rythme… Si\, si c’est un bon début\, promis ! \n  \nConsommation non comprise
URL:https://uncafefrancais.com/agenda/apero-debutants-230501/
LOCATION:Les Associés\, 50\, Bd de la Bastille\, Parais\, 75012\, France
CATEGORIES:[:fr]Apéros Débutants[:][:en]Beginner Apéros[:],[:fr]Groupes de conversations Débutants[:][:en]Beginner Conversation Groups[:],[:fr]Groupes de conversations[:][:en]Conversation Groups[:],Apéros
ATTACH;FMTTYPE=image/png:https://uncafefrancais.com/wp-content/uploads/2020/01/UCF-Jumelle-Apero_deb.png
END:VEVENT
BEGIN:VEVENT
DTSTART;TZID=Europe/Paris:20230503T183000
DTEND;TZID=Europe/Paris:20230503T200000
DTSTAMP:20260420T045036
CREATED:20230414T144720Z
LAST-MODIFIED:20230414T144720Z
UID:11459-1683138600-1683144000@uncafefrancais.com
SUMMARY:L’Apéro Intermédiaires
DESCRIPTION:Un apéro\, un petit groupe\, une discussion en français: voici notre recette secrète pour progresser sans crainte en français et finir gaiement la journée. \nConsommation non comprise
URL:https://uncafefrancais.com/agenda/apero-intermediaires-230503/
LOCATION:Le Génie\, 4\, Bld de Beaumarchais\, PARIS\, 75011
CATEGORIES:[:fr]Apéros Intermédiaires[:][:en]Intermediate Apéros[:],[:fr]Groupes de conversations Intermédiaires[:][:en]Intermediate Conversations Groups[:],[:fr]Groupes de conversations[:][:en]Conversation Groups[:],Apéros
ATTACH;FMTTYPE=image/png:https://uncafefrancais.com/wp-content/uploads/2020/01/UCF-Jumelle-Apero_int.png
END:VEVENT
BEGIN:VEVENT
DTSTART;TZID=Europe/Paris:20230508T183000
DTEND;TZID=Europe/Paris:20230508T200000
DTSTAMP:20260420T045036
CREATED:20230414T153730Z
LAST-MODIFIED:20230508T160539Z
UID:11489-1683570600-1683576000@uncafefrancais.com
SUMMARY:L'Apéro Débutants
DESCRIPTION:Trop timide pour parler français ? Alors\, retrouvons-nous un soir à l’« apéro » dans un café\, entre nous\, pour démarrer à votre rythme… Si\, si c’est un bon début\, promis ! \n  \nConsommation non comprise
URL:https://uncafefrancais.com/agenda/apero-debutants-230508/
LOCATION:Les Associés\, 50\, Bd de la Bastille\, Parais\, 75012\, France
CATEGORIES:[:fr]Apéros Débutants[:][:en]Beginner Apéros[:],[:fr]Groupes de conversations Débutants[:][:en]Beginner Conversation Groups[:],[:fr]Groupes de conversations[:][:en]Conversation Groups[:],Apéros
ATTACH;FMTTYPE=image/png:https://uncafefrancais.com/wp-content/uploads/2020/01/UCF-Jumelle-Apero_deb.png
END:VEVENT
BEGIN:VEVENT
DTSTART;TZID=Europe/Paris:20230510T183000
DTEND;TZID=Europe/Paris:20230510T200000
DTSTAMP:20260420T045036
CREATED:20230414T144730Z
LAST-MODIFIED:20230414T144730Z
UID:11452-1683743400-1683748800@uncafefrancais.com
SUMMARY:L’Apéro Intermédiaires
DESCRIPTION:Un apéro\, un petit groupe\, une discussion en français: voici notre recette secrète pour progresser sans crainte en français et finir gaiement la journée. \nConsommation non comprise
URL:https://uncafefrancais.com/agenda/apero-intermediaires-230510/
LOCATION:Le Génie\, 4\, Bld de Beaumarchais\, PARIS\, 75011
CATEGORIES:[:fr]Apéros Intermédiaires[:][:en]Intermediate Apéros[:],[:fr]Groupes de conversations Intermédiaires[:][:en]Intermediate Conversations Groups[:],[:fr]Groupes de conversations[:][:en]Conversation Groups[:],Apéros
ATTACH;FMTTYPE=image/png:https://uncafefrancais.com/wp-content/uploads/2020/01/UCF-Jumelle-Apero_int.png
END:VEVENT
BEGIN:VEVENT
DTSTART;TZID=Europe/Paris:20230515T183000
DTEND;TZID=Europe/Paris:20230515T200000
DTSTAMP:20260420T045036
CREATED:20230414T153821Z
LAST-MODIFIED:20230414T153821Z
UID:11488-1684175400-1684180800@uncafefrancais.com
SUMMARY:L'Apéro Débutants
DESCRIPTION:Trop timide pour parler français ? Alors\, retrouvons-nous un soir à l’« apéro » dans un café\, entre nous\, pour démarrer à votre rythme… Si\, si c’est un bon début\, promis ! \n  \nConsommation non comprise
URL:https://uncafefrancais.com/agenda/apero-debutants-230515/
LOCATION:Les Associés\, 50\, Bd de la Bastille\, Parais\, 75012\, France
CATEGORIES:[:fr]Apéros Débutants[:][:en]Beginner Apéros[:],[:fr]Groupes de conversations Débutants[:][:en]Beginner Conversation Groups[:],[:fr]Groupes de conversations[:][:en]Conversation Groups[:],Apéros
ATTACH;FMTTYPE=image/png:https://uncafefrancais.com/wp-content/uploads/2020/01/UCF-Jumelle-Apero_deb.png
END:VEVENT
BEGIN:VEVENT
DTSTART;TZID=Europe/Paris:20230517T183000
DTEND;TZID=Europe/Paris:20230517T200000
DTSTAMP:20260420T045036
CREATED:20230414T144744Z
LAST-MODIFIED:20230414T144744Z
UID:11453-1684348200-1684353600@uncafefrancais.com
SUMMARY:L’Apéro Intermédiaires
DESCRIPTION:Un apéro\, un petit groupe\, une discussion en français: voici notre recette secrète pour progresser sans crainte en français et finir gaiement la journée. \nConsommation non comprise
URL:https://uncafefrancais.com/agenda/apero-intermediaires-230517/
LOCATION:Le Génie\, 4\, Bld de Beaumarchais\, PARIS\, 75011
CATEGORIES:[:fr]Apéros Intermédiaires[:][:en]Intermediate Apéros[:],[:fr]Groupes de conversations Intermédiaires[:][:en]Intermediate Conversations Groups[:],[:fr]Groupes de conversations[:][:en]Conversation Groups[:],Apéros
ATTACH;FMTTYPE=image/png:https://uncafefrancais.com/wp-content/uploads/2020/01/UCF-Jumelle-Apero_int.png
END:VEVENT
BEGIN:VEVENT
DTSTART;TZID=Europe/Paris:20230521T190000
DTEND;TZID=Europe/Paris:20230521T220000
DTSTAMP:20260420T045036
CREATED:20230501T144342Z
LAST-MODIFIED:20230501T144342Z
UID:11520-1684695600-1684706400@uncafefrancais.com
SUMMARY:Le dîner du mois
DESCRIPTION:Cette fois\, je vous propose de nous retrouver\, une fois par mois\, pour un dîner dans un restaurant français afin d’expérimenter le style de vie français. Cela pourrait être une excellente occasion d’améliorer vos compétences en français en discutant avec des locaux\, d’en vivre l’ambiance et de découvrir la cuisine française.\n  \nVous ne paierez que votre repas\, toutefois 5€ vous sont demandés pour assurer votre réservation. Ils vous seront remboursés si vous participez effectivement au dîner.
URL:https://uncafefrancais.com/agenda/ledinerdumois-230521/
CATEGORIES:[:fr]Groupes de conversations[:][:en]Conversation Groups[:],Evénement Débutants[:][:en]Beginners Event[:],Evénement Intermédiaires[:][:en]Intermediates Event[:]
ATTACH;FMTTYPE=image/png:https://uncafefrancais.com/wp-content/uploads/2023/03/2023_Le-diner-du-mois.png
END:VEVENT
BEGIN:VEVENT
DTSTART;TZID=Europe/Paris:20230522T183000
DTEND;TZID=Europe/Paris:20230522T200000
DTSTAMP:20260420T045036
CREATED:20230414T153943Z
LAST-MODIFIED:20230414T153943Z
UID:11490-1684780200-1684785600@uncafefrancais.com
SUMMARY:L'Apéro Débutants
DESCRIPTION:Trop timide pour parler français ? Alors\, retrouvons-nous un soir à l’« apéro » dans un café\, entre nous\, pour démarrer à votre rythme… Si\, si c’est un bon début\, promis ! \n  \nConsommation non comprise
URL:https://uncafefrancais.com/agenda/apero-debutants-230522/
LOCATION:Les Associés\, 50\, Bd de la Bastille\, Parais\, 75012\, France
CATEGORIES:[:fr]Apéros Débutants[:][:en]Beginner Apéros[:],[:fr]Groupes de conversations Débutants[:][:en]Beginner Conversation Groups[:],[:fr]Groupes de conversations[:][:en]Conversation Groups[:],Apéros
ATTACH;FMTTYPE=image/png:https://uncafefrancais.com/wp-content/uploads/2020/01/UCF-Jumelle-Apero_deb.png
END:VEVENT
BEGIN:VEVENT
DTSTART;TZID=Europe/Paris:20230524T183000
DTEND;TZID=Europe/Paris:20230524T200000
DTSTAMP:20260420T045036
CREATED:20230414T144800Z
LAST-MODIFIED:20230414T144800Z
UID:11454-1684953000-1684958400@uncafefrancais.com
SUMMARY:L’Apéro Intermédiaires
DESCRIPTION:Un apéro\, un petit groupe\, une discussion en français: voici notre recette secrète pour progresser sans crainte en français et finir gaiement la journée. \nConsommation non comprise
URL:https://uncafefrancais.com/agenda/apero-intermediaires-230524/
LOCATION:Le Génie\, 4\, Bld de Beaumarchais\, PARIS\, 75011
CATEGORIES:[:fr]Apéros Intermédiaires[:][:en]Intermediate Apéros[:],[:fr]Groupes de conversations Intermédiaires[:][:en]Intermediate Conversations Groups[:],[:fr]Groupes de conversations[:][:en]Conversation Groups[:],Apéros
ATTACH;FMTTYPE=image/png:https://uncafefrancais.com/wp-content/uploads/2020/01/UCF-Jumelle-Apero_int.png
END:VEVENT
BEGIN:VEVENT
DTSTART;TZID=Europe/Paris:20230529T183000
DTEND;TZID=Europe/Paris:20230529T200000
DTSTAMP:20260420T045036
CREATED:20230414T153958Z
LAST-MODIFIED:20230414T153958Z
UID:11491-1685385000-1685390400@uncafefrancais.com
SUMMARY:L'Apéro Débutants
DESCRIPTION:Trop timide pour parler français ? Alors\, retrouvons-nous un soir à l’« apéro » dans un café\, entre nous\, pour démarrer à votre rythme… Si\, si c’est un bon début\, promis ! \n  \nConsommation non comprise
URL:https://uncafefrancais.com/agenda/apero-debutants-230529/
LOCATION:Les Associés\, 50\, Bd de la Bastille\, Parais\, 75012\, France
CATEGORIES:[:fr]Apéros Débutants[:][:en]Beginner Apéros[:],[:fr]Groupes de conversations Débutants[:][:en]Beginner Conversation Groups[:],[:fr]Groupes de conversations[:][:en]Conversation Groups[:],Apéros
ATTACH;FMTTYPE=image/png:https://uncafefrancais.com/wp-content/uploads/2020/01/UCF-Jumelle-Apero_deb.png
END:VEVENT
BEGIN:VEVENT
DTSTART;TZID=Europe/Paris:20230531T183000
DTEND;TZID=Europe/Paris:20230531T200000
DTSTAMP:20260420T045036
CREATED:20230414T144830Z
LAST-MODIFIED:20230414T144830Z
UID:11455-1685557800-1685563200@uncafefrancais.com
SUMMARY:L’Apéro Intermédiaires
DESCRIPTION:Un apéro\, un petit groupe\, une discussion en français: voici notre recette secrète pour progresser sans crainte en français et finir gaiement la journée. \nConsommation non comprise
URL:https://uncafefrancais.com/agenda/apero-intermediaires-230531/
LOCATION:Le Génie\, 4\, Bld de Beaumarchais\, PARIS\, 75011
CATEGORIES:[:fr]Apéros Intermédiaires[:][:en]Intermediate Apéros[:],[:fr]Groupes de conversations Intermédiaires[:][:en]Intermediate Conversations Groups[:],[:fr]Groupes de conversations[:][:en]Conversation Groups[:],Apéros
ATTACH;FMTTYPE=image/png:https://uncafefrancais.com/wp-content/uploads/2020/01/UCF-Jumelle-Apero_int.png
END:VEVENT
END:VCALENDAR