BEGIN:VCALENDAR
VERSION:2.0
PRODID:-//Un Café Français - ECPv6.15.13.1//NONSGML v1.0//EN
CALSCALE:GREGORIAN
METHOD:PUBLISH
X-WR-CALNAME:Un Café Français
X-ORIGINAL-URL:https://uncafefrancais.com/en
X-WR-CALDESC:Events for Un Café Français
REFRESH-INTERVAL;VALUE=DURATION:PT1H
X-Robots-Tag:noindex
X-PUBLISHED-TTL:PT1H
BEGIN:VTIMEZONE
TZID:Europe/Paris
BEGIN:DAYLIGHT
TZOFFSETFROM:+0100
TZOFFSETTO:+0200
TZNAME:CEST
DTSTART:20200329T010000
END:DAYLIGHT
BEGIN:STANDARD
TZOFFSETFROM:+0200
TZOFFSETTO:+0100
TZNAME:CET
DTSTART:20201025T010000
END:STANDARD
BEGIN:DAYLIGHT
TZOFFSETFROM:+0100
TZOFFSETTO:+0200
TZNAME:CEST
DTSTART:20210328T010000
END:DAYLIGHT
BEGIN:STANDARD
TZOFFSETFROM:+0200
TZOFFSETTO:+0100
TZNAME:CET
DTSTART:20211031T010000
END:STANDARD
BEGIN:DAYLIGHT
TZOFFSETFROM:+0100
TZOFFSETTO:+0200
TZNAME:CEST
DTSTART:20220327T010000
END:DAYLIGHT
BEGIN:STANDARD
TZOFFSETFROM:+0200
TZOFFSETTO:+0100
TZNAME:CET
DTSTART:20221030T010000
END:STANDARD
END:VTIMEZONE
BEGIN:VEVENT
DTSTART;TZID=Europe/Paris:20210901T183000
DTEND;TZID=Europe/Paris:20210901T203000
DTSTAMP:20260424T004852
CREATED:20210829T201337Z
LAST-MODIFIED:20210901T102212Z
UID:9523-1630521000-1630528200@uncafefrancais.com
SUMMARY:L’Apéro Intermédiaires
DESCRIPTION:Drinks in a small group\, and a discussion in French: our secret recipe for improving your French at your ease and ending the day on a high note. \nConsumption not included
URL:https://uncafefrancais.com/en/agenda/apero-intermediaires-210901/
LOCATION:L’Etoile Manquante\, 34\, rue Vieille du Temple\, PARIS\, 75004\, France
CATEGORIES:[:fr]Apéros Intermédiaires[:][:en]Intermediate Apéros[:],[:fr]Groupes de conversations Intermédiaires[:][:en]Intermediate Conversations Groups[:],[:fr]Groupes de conversations[:][:en]Conversation Groups[:],Apéros
ATTACH;FMTTYPE=image/png:https://uncafefrancais.com/wp-content/uploads/2020/01/UCF-Jumelle-Apero_int.png
END:VEVENT
BEGIN:VEVENT
DTSTART;TZID=Europe/Paris:20210902T140000
DTEND;TZID=Europe/Paris:20210902T153000
DTSTAMP:20260424T004852
CREATED:20210829T210256Z
LAST-MODIFIED:20210829T211923Z
UID:9522-1630591200-1630596600@uncafefrancais.com
SUMMARY:La Pause-Café Débutants
DESCRIPTION:We’ll meet in a café to speak French and on the way\, discover a new Parisian neighbourhood. Before you go\, we’ll work on one aspect of the French language to make it easier. A busy afternoon when you think about it. \nConsumption not included
URL:https://uncafefrancais.com/en/agenda/pausecafe-debutants-210902/
CATEGORIES:[:fr]Groupes de conversations Intermédiaires[:][:en]Intermediate Conversations Groups[:],[:fr]Groupes de conversations[:][:en]Conversation Groups[:],[:fr]Pauses-Café Débutants[:][:en]Beginner Pauses-Café[:],
ATTACH;FMTTYPE=image/png:https://uncafefrancais.com/wp-content/uploads/2020/01/UCF-Jumelle-Pause-cafe_deb.png
END:VEVENT
BEGIN:VEVENT
DTSTART;TZID=Europe/Paris:20210906T183000
DTEND;TZID=Europe/Paris:20210906T203000
DTSTAMP:20260424T004852
CREATED:20210829T175722Z
LAST-MODIFIED:20210829T190049Z
UID:9480-1630953000-1630960200@uncafefrancais.com
SUMMARY:L'Apéro Débutants
DESCRIPTION:Too shy to speak French? Okay\, let’s meet for an ‘apéro’ one evening to go at our own pace…Two hours is a pretty good start\, don’t you think? \n  \nConsumption not included
URL:https://uncafefrancais.com/en/agenda/apero-debutants-210906/
LOCATION:L’Etoile Manquante\, 34\, rue Vieille du Temple\, PARIS\, 75004\, France
CATEGORIES:[:fr]Apéros Débutants[:][:en]Beginner Apéros[:],[:fr]Groupes de conversations Débutants[:][:en]Beginner Conversation Groups[:],[:fr]Groupes de conversations[:][:en]Conversation Groups[:],Apéros
ATTACH;FMTTYPE=image/png:https://uncafefrancais.com/wp-content/uploads/2020/01/UCF-Jumelle-Apero_deb.png
END:VEVENT
BEGIN:VEVENT
DTSTART;TZID=Europe/Paris:20210907T140000
DTEND;TZID=Europe/Paris:20210907T153000
DTSTAMP:20260424T004852
CREATED:20210829T183257Z
LAST-MODIFIED:20210829T194104Z
UID:9501-1631023200-1631028600@uncafefrancais.com
SUMMARY:La Pause-Café Intermédiaires
DESCRIPTION:Afternoons are a great time to have a conversation…Take in a new neighbourhood\, settle into a café with original or historic decor and speak French for a good hour. At the end\, we’ll discover or revisit one particular aspect of French that you find difficult\, by most of all putting it to good use! \nConsumption not included
URL:https://uncafefrancais.com/en/agenda/pausecafe-intermediaires-210907/
CATEGORIES:[:fr]Groupes de conversations Intermédiaires[:][:en]Intermediate Conversations Groups[:],[:fr]Groupes de conversations[:][:en]Conversation Groups[:],[:fr]Pauses-Café Intermédiaires[:][:en]Intermediate Pauses-Café[:],
ATTACH;FMTTYPE=image/png:https://uncafefrancais.com/wp-content/uploads/2020/01/UCF-Jumelle-Pause-cafe_int.png
END:VEVENT
BEGIN:VEVENT
DTSTART;TZID=Europe/Paris:20210908T183000
DTEND;TZID=Europe/Paris:20210908T203000
DTSTAMP:20260424T004852
CREATED:20210829T202547Z
LAST-MODIFIED:20210829T203705Z
UID:9333-1631125800-1631133000@uncafefrancais.com
SUMMARY:L’Apéro Intermédiaires
DESCRIPTION:Drinks in a small group\, and a discussion in French: our secret recipe for improving your French at your ease and ending the day on a high note. \n  \n  \nConsumption not included
URL:https://uncafefrancais.com/en/agenda/apero-intermediaires-210908/
LOCATION:L’Etoile Manquante\, 34\, rue Vieille du Temple\, PARIS\, 75004\, France
CATEGORIES:[:fr]Apéros Intermédiaires[:][:en]Intermediate Apéros[:],[:fr]Groupes de conversations Intermédiaires[:][:en]Intermediate Conversations Groups[:],[:fr]Groupes de conversations[:][:en]Conversation Groups[:],Apéros
ATTACH;FMTTYPE=image/png:https://uncafefrancais.com/wp-content/uploads/2020/01/UCF-Jumelle-Apero_int.png
END:VEVENT
BEGIN:VEVENT
DTSTART;TZID=Europe/Paris:20210909T140000
DTEND;TZID=Europe/Paris:20210909T153000
DTSTAMP:20260424T004852
CREATED:20210829T210401Z
LAST-MODIFIED:20210829T211923Z
UID:9545-1631196000-1631201400@uncafefrancais.com
SUMMARY:La Pause-Café Débutants
DESCRIPTION:We’ll meet in a café to speak French and on the way\, discover a new Parisian neighbourhood. Before you go\, we’ll work on one aspect of the French language to make it easier. A busy afternoon when you think about it. \nConsumption not included
URL:https://uncafefrancais.com/en/agenda/pausecafe-debutants-210909/
CATEGORIES:[:fr]Groupes de conversations Intermédiaires[:][:en]Intermediate Conversations Groups[:],[:fr]Groupes de conversations[:][:en]Conversation Groups[:],[:fr]Pauses-Café Débutants[:][:en]Beginner Pauses-Café[:],
ATTACH;FMTTYPE=image/png:https://uncafefrancais.com/wp-content/uploads/2020/01/UCF-Jumelle-Pause-cafe_deb.png
END:VEVENT
BEGIN:VEVENT
DTSTART;TZID=Europe/Paris:20210913T183000
DTEND;TZID=Europe/Paris:20210913T203000
DTSTAMP:20260424T004852
CREATED:20210829T175729Z
LAST-MODIFIED:20210829T190049Z
UID:9481-1631557800-1631565000@uncafefrancais.com
SUMMARY:L'Apéro Débutants
DESCRIPTION:Too shy to speak French? Okay\, let’s meet for an ‘apéro’ one evening to go at our own pace…Two hours is a pretty good start\, don’t you think? \n  \nConsumption not included
URL:https://uncafefrancais.com/en/agenda/apero-debutants-210913/
LOCATION:L’Etoile Manquante\, 34\, rue Vieille du Temple\, PARIS\, 75004\, France
CATEGORIES:[:fr]Apéros Débutants[:][:en]Beginner Apéros[:],[:fr]Groupes de conversations Débutants[:][:en]Beginner Conversation Groups[:],[:fr]Groupes de conversations[:][:en]Conversation Groups[:],Apéros
ATTACH;FMTTYPE=image/png:https://uncafefrancais.com/wp-content/uploads/2020/01/UCF-Jumelle-Apero_deb.png
END:VEVENT
BEGIN:VEVENT
DTSTART;TZID=Europe/Paris:20210914T140000
DTEND;TZID=Europe/Paris:20210914T153000
DTSTAMP:20260424T004852
CREATED:20210829T182310Z
LAST-MODIFIED:20210829T190609Z
UID:9502-1631628000-1631633400@uncafefrancais.com
SUMMARY:La Pause-Café Intermédiaires
DESCRIPTION:Afternoons are a great time to have a conversation…Take in a new neighbourhood\, settle into a café with original or historic decor and speak French for a good hour. At the end\, we’ll discover or revisit one particular aspect of French that you find difficult\, by most of all putting it to good use! \nConsumption not included
URL:https://uncafefrancais.com/en/agenda/pausecafe-intermediaires-210914/
CATEGORIES:[:fr]Groupes de conversations Intermédiaires[:][:en]Intermediate Conversations Groups[:],[:fr]Groupes de conversations[:][:en]Conversation Groups[:],[:fr]Pauses-Café Intermédiaires[:][:en]Intermediate Pauses-Café[:],
ATTACH;FMTTYPE=image/png:https://uncafefrancais.com/wp-content/uploads/2020/01/UCF-Jumelle-Pause-cafe_int.png
END:VEVENT
BEGIN:VEVENT
DTSTART;TZID=Europe/Paris:20210914T183000
DTEND;TZID=Europe/Paris:20210914T203000
DTSTAMP:20260424T004852
CREATED:20210829T215449Z
LAST-MODIFIED:20210830T105639Z
UID:9572-1631644200-1631651400@uncafefrancais.com
SUMMARY:L'Apéro Avancés
DESCRIPTION:Bon\, il y a encore des mots ou des expressions qui vous gênent ou que vous ne parvenez pas toujours à placer dans la conversation.\nEt bien\, si au cours d’une anodine conversation\, nous en parlions ? Autour d’un apéro\, par exemple ! En  2h\, nous aurons même le temps de refaire le monde… ou la France ! \n  \nConsommation non comprise
URL:https://uncafefrancais.com/en/agenda/apero-debutants-210914/
LOCATION:L’Etoile Manquante\, 34\, rue Vieille du Temple\, PARIS\, 75004\, France
CATEGORIES:[:fr]Groupes de conversations Avancés[:][:en]Advanced Conversation Groups[:],[:fr]Groupes de conversations[:][:en]Conversation Groups[:]
ATTACH;FMTTYPE=image/png:https://uncafefrancais.com/wp-content/uploads/2019/11/cropped-UCF-Apero-2.png
END:VEVENT
BEGIN:VEVENT
DTSTART;TZID=Europe/Paris:20210915T183000
DTEND;TZID=Europe/Paris:20210915T203000
DTSTAMP:20260424T004852
CREATED:20210724T210045Z
LAST-MODIFIED:20210829T203705Z
UID:9316-1631730600-1631737800@uncafefrancais.com
SUMMARY:L’Apéro Intermédiaires
DESCRIPTION:Drinks in a small group\, and a discussion in French: our secret recipe for improving your French at your ease and ending the day on a high note. \n  \n  \nConsumption not included
URL:https://uncafefrancais.com/en/agenda/apero-intermediaires-210915/
LOCATION:L’Etoile Manquante\, 34\, rue Vieille du Temple\, PARIS\, 75004\, France
CATEGORIES:[:fr]Apéros Intermédiaires[:][:en]Intermediate Apéros[:],[:fr]Groupes de conversations Intermédiaires[:][:en]Intermediate Conversations Groups[:],[:fr]Groupes de conversations[:][:en]Conversation Groups[:],Apéros
ATTACH;FMTTYPE=image/png:https://uncafefrancais.com/wp-content/uploads/2020/01/UCF-Jumelle-Apero_int.png
END:VEVENT
BEGIN:VEVENT
DTSTART;TZID=Europe/Paris:20210916T140000
DTEND;TZID=Europe/Paris:20210916T153000
DTSTAMP:20260424T004852
CREATED:20210829T210431Z
LAST-MODIFIED:20210829T211923Z
UID:9544-1631800800-1631806200@uncafefrancais.com
SUMMARY:La Pause-Café Débutants
DESCRIPTION:We’ll meet in a café to speak French and on the way\, discover a new Parisian neighbourhood. Before you go\, we’ll work on one aspect of the French language to make it easier. A busy afternoon when you think about it. \nConsumption not included
URL:https://uncafefrancais.com/en/agenda/pausecafe-debutants-210916/
CATEGORIES:[:fr]Groupes de conversations Intermédiaires[:][:en]Intermediate Conversations Groups[:],[:fr]Groupes de conversations[:][:en]Conversation Groups[:],[:fr]Pauses-Café Débutants[:][:en]Beginner Pauses-Café[:],
ATTACH;FMTTYPE=image/png:https://uncafefrancais.com/wp-content/uploads/2020/01/UCF-Jumelle-Pause-cafe_deb.png
END:VEVENT
BEGIN:VEVENT
DTSTART;TZID=Europe/Paris:20210920T183000
DTEND;TZID=Europe/Paris:20210920T203000
DTSTAMP:20260424T004852
CREATED:20210829T175746Z
LAST-MODIFIED:20210829T190049Z
UID:9482-1632162600-1632169800@uncafefrancais.com
SUMMARY:L'Apéro Débutants
DESCRIPTION:Too shy to speak French? Okay\, let’s meet for an ‘apéro’ one evening to go at our own pace…Two hours is a pretty good start\, don’t you think? \n  \nConsumption not included
URL:https://uncafefrancais.com/en/agenda/apero-debutants-210920/
LOCATION:L’Etoile Manquante\, 34\, rue Vieille du Temple\, PARIS\, 75004\, France
CATEGORIES:[:fr]Apéros Débutants[:][:en]Beginner Apéros[:],[:fr]Groupes de conversations Débutants[:][:en]Beginner Conversation Groups[:],[:fr]Groupes de conversations[:][:en]Conversation Groups[:],Apéros
ATTACH;FMTTYPE=image/png:https://uncafefrancais.com/wp-content/uploads/2020/01/UCF-Jumelle-Apero_deb.png
END:VEVENT
BEGIN:VEVENT
DTSTART;TZID=Europe/Paris:20210921T140000
DTEND;TZID=Europe/Paris:20210921T153000
DTSTAMP:20260424T004852
CREATED:20210829T183423Z
LAST-MODIFIED:20210829T190609Z
UID:9504-1632232800-1632238200@uncafefrancais.com
SUMMARY:La Pause-Café Intermédiaires
DESCRIPTION:Afternoons are a great time to have a conversation…Take in a new neighbourhood\, settle into a café with original or historic decor and speak French for a good hour. At the end\, we’ll discover or revisit one particular aspect of French that you find difficult\, by most of all putting it to good use! \nConsumption not included
URL:https://uncafefrancais.com/en/agenda/pausecafe-intermediaires-210921/
CATEGORIES:[:fr]Groupes de conversations Intermédiaires[:][:en]Intermediate Conversations Groups[:],[:fr]Groupes de conversations[:][:en]Conversation Groups[:],[:fr]Pauses-Café Intermédiaires[:][:en]Intermediate Pauses-Café[:],
ATTACH;FMTTYPE=image/png:https://uncafefrancais.com/wp-content/uploads/2020/01/UCF-Jumelle-Pause-cafe_int.png
END:VEVENT
BEGIN:VEVENT
DTSTART;TZID=Europe/Paris:20210921T183000
DTEND;TZID=Europe/Paris:20210921T203000
DTSTAMP:20260424T004852
CREATED:20210829T215726Z
LAST-MODIFIED:20210830T105538Z
UID:9571-1632249000-1632256200@uncafefrancais.com
SUMMARY:L'Apéro Avancés
DESCRIPTION:Bon\, il y a encore des mots ou des expressions qui vous gênent ou que vous ne parvenez pas toujours à placer dans la conversation.\nEt bien\, si au cours d’une anodine conversation\, nous en parlions ? Autour d’un apéro\, par exemple ! En  2h\, nous aurons même le temps de refaire le monde… ou la France ! \n  \nConsommation non comprise
URL:https://uncafefrancais.com/en/agenda/apero-debutants-210921/
LOCATION:L’Etoile Manquante\, 34\, rue Vieille du Temple\, PARIS\, 75004\, France
CATEGORIES:[:fr]Groupes de conversations Avancés[:][:en]Advanced Conversation Groups[:],[:fr]Groupes de conversations[:][:en]Conversation Groups[:]
ATTACH;FMTTYPE=image/png:https://uncafefrancais.com/wp-content/uploads/2019/11/cropped-UCF-Apero-2.png
END:VEVENT
BEGIN:VEVENT
DTSTART;TZID=Europe/Paris:20210922T183000
DTEND;TZID=Europe/Paris:20210922T203000
DTSTAMP:20260424T004852
CREATED:20210829T202302Z
LAST-MODIFIED:20210829T203705Z
UID:9525-1632335400-1632342600@uncafefrancais.com
SUMMARY:L’Apéro Intermédiaires
DESCRIPTION:Drinks in a small group\, and a discussion in French: our secret recipe for improving your French at your ease and ending the day on a high note. \n  \nConsumption not included
URL:https://uncafefrancais.com/en/agenda/apero-intermediaires-210922/
LOCATION:L’Etoile Manquante\, 34\, rue Vieille du Temple\, PARIS\, 75004\, France
CATEGORIES:[:fr]Apéros Intermédiaires[:][:en]Intermediate Apéros[:],[:fr]Groupes de conversations Intermédiaires[:][:en]Intermediate Conversations Groups[:],[:fr]Groupes de conversations[:][:en]Conversation Groups[:],Apéros
ATTACH;FMTTYPE=image/png:https://uncafefrancais.com/wp-content/uploads/2020/01/UCF-Jumelle-Apero_int.png
END:VEVENT
BEGIN:VEVENT
DTSTART;TZID=Europe/Paris:20210923T140000
DTEND;TZID=Europe/Paris:20210923T153000
DTSTAMP:20260424T004852
CREATED:20210829T210541Z
LAST-MODIFIED:20210829T211922Z
UID:9546-1632405600-1632411000@uncafefrancais.com
SUMMARY:La Pause-Café Débutants
DESCRIPTION:We’ll meet in a café to speak French and on the way\, discover a new Parisian neighbourhood. Before you go\, we’ll work on one aspect of the French language to make it easier. A busy afternoon when you think about it. \nConsumption not included
URL:https://uncafefrancais.com/en/agenda/pausecafe-debutants-210923/
CATEGORIES:[:fr]Groupes de conversations Intermédiaires[:][:en]Intermediate Conversations Groups[:],[:fr]Groupes de conversations[:][:en]Conversation Groups[:],[:fr]Pauses-Café Débutants[:][:en]Beginner Pauses-Café[:],
ATTACH;FMTTYPE=image/png:https://uncafefrancais.com/wp-content/uploads/2020/01/UCF-Jumelle-Pause-cafe_deb.png
END:VEVENT
BEGIN:VEVENT
DTSTART;TZID=Europe/Paris:20210928T140000
DTEND;TZID=Europe/Paris:20210928T153000
DTSTAMP:20260424T004852
CREATED:20210829T183531Z
LAST-MODIFIED:20210829T190609Z
UID:9505-1632837600-1632843000@uncafefrancais.com
SUMMARY:La Pause-Café Intermédiaires
DESCRIPTION:Afternoons are a great time to have a conversation…Take in a new neighbourhood\, settle into a café with original or historic decor and speak French for a good hour. At the end\, we’ll discover or revisit one particular aspect of French that you find difficult\, by most of all putting it to good use! \n  \nConsumption not included
URL:https://uncafefrancais.com/en/agenda/pausecafe-intermediaires-210928/
CATEGORIES:[:fr]Groupes de conversations Intermédiaires[:][:en]Intermediate Conversations Groups[:],[:fr]Groupes de conversations[:][:en]Conversation Groups[:],[:fr]Pauses-Café Intermédiaires[:][:en]Intermediate Pauses-Café[:],
ATTACH;FMTTYPE=image/png:https://uncafefrancais.com/wp-content/uploads/2020/01/UCF-Jumelle-Pause-cafe_int.png
END:VEVENT
BEGIN:VEVENT
DTSTART;TZID=Europe/Paris:20210928T183000
DTEND;TZID=Europe/Paris:20210928T203000
DTSTAMP:20260424T004852
CREATED:20210829T215730Z
LAST-MODIFIED:20210830T105507Z
UID:9568-1632853800-1632861000@uncafefrancais.com
SUMMARY:L'Apéro Avancés
DESCRIPTION:Bon\, il y a encore des mots ou des expressions qui vous gênent ou que vous ne parvenez pas toujours à placer dans la conversation.\nEt bien\, si au cours d’une anodine conversation\, nous en parlions ? Autour d’un apéro\, par exemple ! En  2h\, nous aurons même le temps de refaire le monde… ou la France ! \n  \nConsommation non comprise
URL:https://uncafefrancais.com/en/agenda/apero-debutants-210928/
LOCATION:L’Etoile Manquante\, 34\, rue Vieille du Temple\, PARIS\, 75004\, France
CATEGORIES:[:fr]Groupes de conversations Avancés[:][:en]Advanced Conversation Groups[:],[:fr]Groupes de conversations[:][:en]Conversation Groups[:]
ATTACH;FMTTYPE=image/png:https://uncafefrancais.com/wp-content/uploads/2019/11/cropped-UCF-Apero-2.png
END:VEVENT
BEGIN:VEVENT
DTSTART;TZID=Europe/Paris:20210929T183000
DTEND;TZID=Europe/Paris:20210929T203000
DTSTAMP:20260424T004852
CREATED:20210829T202722Z
LAST-MODIFIED:20210829T203704Z
UID:9524-1632940200-1632947400@uncafefrancais.com
SUMMARY:L’Apéro Intermédiaires
DESCRIPTION:Drinks in a small group\, and a discussion in French: our secret recipe for improving your French at your ease and ending the day on a high note. \nConsumption not included
URL:https://uncafefrancais.com/en/agenda/apero-intermediaires-210929/
LOCATION:L’Etoile Manquante\, 34\, rue Vieille du Temple\, PARIS\, 75004\, France
CATEGORIES:[:fr]Apéros Intermédiaires[:][:en]Intermediate Apéros[:],[:fr]Groupes de conversations Intermédiaires[:][:en]Intermediate Conversations Groups[:],[:fr]Groupes de conversations[:][:en]Conversation Groups[:],Apéros
ATTACH;FMTTYPE=image/png:https://uncafefrancais.com/wp-content/uploads/2020/01/UCF-Jumelle-Apero_int.png
END:VEVENT
END:VCALENDAR