BEGIN:VCALENDAR
VERSION:2.0
PRODID:-//Un Café Français - ECPv6.15.13.1//NONSGML v1.0//EN
CALSCALE:GREGORIAN
METHOD:PUBLISH
X-WR-CALNAME:Un Café Français
X-ORIGINAL-URL:https://uncafefrancais.com/en
X-WR-CALDESC:Events for Un Café Français
REFRESH-INTERVAL;VALUE=DURATION:PT1H
X-Robots-Tag:noindex
X-PUBLISHED-TTL:PT1H
BEGIN:VTIMEZONE
TZID:Europe/Paris
BEGIN:DAYLIGHT
TZOFFSETFROM:+0100
TZOFFSETTO:+0200
TZNAME:CEST
DTSTART:20220327T010000
END:DAYLIGHT
BEGIN:STANDARD
TZOFFSETFROM:+0200
TZOFFSETTO:+0100
TZNAME:CET
DTSTART:20221030T010000
END:STANDARD
BEGIN:DAYLIGHT
TZOFFSETFROM:+0100
TZOFFSETTO:+0200
TZNAME:CEST
DTSTART:20230326T010000
END:DAYLIGHT
BEGIN:STANDARD
TZOFFSETFROM:+0200
TZOFFSETTO:+0100
TZNAME:CET
DTSTART:20231029T010000
END:STANDARD
BEGIN:DAYLIGHT
TZOFFSETFROM:+0100
TZOFFSETTO:+0200
TZNAME:CEST
DTSTART:20240331T010000
END:DAYLIGHT
BEGIN:STANDARD
TZOFFSETFROM:+0200
TZOFFSETTO:+0100
TZNAME:CET
DTSTART:20241027T010000
END:STANDARD
END:VTIMEZONE
BEGIN:VEVENT
DTSTART;TZID=Europe/Paris:20230904T183000
DTEND;TZID=Europe/Paris:20230904T203000
DTSTAMP:20260419T183658
CREATED:20230912T073148Z
LAST-MODIFIED:20230912T094552Z
UID:11609-1693852200-1693859400@uncafefrancais.com
SUMMARY:L'Apéro Débutants
DESCRIPTION:Trop timide pour parler français ? Alors\, retrouvons-nous un soir à l’« apéro » dans un café\, entre nous\, pour démarrer à votre rythme… Si\, si deux petites heures\, c’est un bon début\, non ? \n  \nConsommation non comprise
URL:https://uncafefrancais.com/en/agenda/apero-debutants-230904/
LOCATION:Brasserie-café Le PARIS\, 24\, rue Richard LENOIR\, PARIS\, 75011\, France
CATEGORIES:[:fr]Apéros Débutants[:][:en]Beginner Apéros[:],[:fr]Groupes de conversations Débutants[:][:en]Beginner Conversation Groups[:],[:fr]Groupes de conversations[:][:en]Conversation Groups[:],Apéros
ATTACH;FMTTYPE=image/png:https://uncafefrancais.com/wp-content/uploads/2020/01/UCF-Jumelle-Apero_deb.png
END:VEVENT
BEGIN:VEVENT
DTSTART;TZID=Europe/Paris:20230906T183000
DTEND;TZID=Europe/Paris:20230906T200000
DTSTAMP:20260419T183658
CREATED:20230912T095933Z
LAST-MODIFIED:20230920T083930Z
UID:11645-1694025000-1694030400@uncafefrancais.com
SUMMARY:L’Apéro Intermédiaires
DESCRIPTION:One of the best proven ways to progress the learning of a new language is to try communicating and conversing with others. In this “apéro” we offer you the opportunity to meet up in a group of people to discuss in french all along while enjoying a French cultural habit. \nConsumption not included
URL:https://uncafefrancais.com/en/agenda/apero-intermediaires-230906/
LOCATION:Le Génie\, 4\, Bld de Beaumarchais\, PARIS\, 75011
CATEGORIES:[:fr]Apéros Intermédiaires[:][:en]Intermediate Apéros[:],[:fr]Groupes de conversations Intermédiaires[:][:en]Intermediate Conversations Groups[:],[:fr]Groupes de conversations[:][:en]Conversation Groups[:],Apéros
ATTACH;FMTTYPE=image/png:https://uncafefrancais.com/wp-content/uploads/2020/01/UCF-Jumelle-Apero_int.png
END:VEVENT
BEGIN:VEVENT
DTSTART;TZID=Europe/Paris:20230911T183000
DTEND;TZID=Europe/Paris:20230911T200000
DTSTAMP:20260419T183659
CREATED:20230912T081921Z
LAST-MODIFIED:20230912T094909Z
UID:11621-1694457000-1694462400@uncafefrancais.com
SUMMARY:L'Apéro Débutants
DESCRIPTION:Too shy to speak French? Okay\, let’s meet for an ‘apéro’ one evening to go at our own pace…Two hours is a pretty good start\, don’t you think? \n  \nConsumption not included
URL:https://uncafefrancais.com/en/agenda/apero-debutants-230911/
LOCATION:Brasserie-café Le PARIS\, 24\, rue Richard LENOIR\, PARIS\, 75011\, France
CATEGORIES:[:fr]Apéros Débutants[:][:en]Beginner Apéros[:],[:fr]Groupes de conversations Débutants[:][:en]Beginner Conversation Groups[:],[:fr]Groupes de conversations[:][:en]Conversation Groups[:],Apéros
ATTACH;FMTTYPE=image/png:https://uncafefrancais.com/wp-content/uploads/2020/01/UCF-Jumelle-Apero_deb.png
END:VEVENT
BEGIN:VEVENT
DTSTART;TZID=Europe/Paris:20230920T183000
DTEND;TZID=Europe/Paris:20230920T200000
DTSTAMP:20260419T183659
CREATED:20230912T100159Z
LAST-MODIFIED:20231013T142011Z
UID:11646-1695234600-1695240000@uncafefrancais.com
SUMMARY:L’Apéro Intermédiaires
DESCRIPTION:One of the best proven ways to progress the learning of a new language is to try communicating and conversing with others. In this “apéro” we offer you the opportunity to meet up in a group of people to discuss in french all along while enjoying a French cultural habit. \nConsumption not included
URL:https://uncafefrancais.com/en/agenda/apero-intermediaires-230920/
LOCATION:Le Génie\, 4\, Bld de Beaumarchais\, PARIS\, 75011
CATEGORIES:[:fr]Apéros Intermédiaires[:][:en]Intermediate Apéros[:],[:fr]Groupes de conversations Intermédiaires[:][:en]Intermediate Conversations Groups[:],[:fr]Groupes de conversations[:][:en]Conversation Groups[:],Apéros
ATTACH;FMTTYPE=image/png:https://uncafefrancais.com/wp-content/uploads/2020/01/UCF-Jumelle-Apero_int.png
END:VEVENT
BEGIN:VEVENT
DTSTART;TZID=Europe/Paris:20230921T100000
DTEND;TZID=Europe/Paris:20230921T120000
DTSTAMP:20260419T183659
CREATED:20230911T083230Z
LAST-MODIFIED:20230920T091454Z
UID:11599-1695290400-1695297600@uncafefrancais.com
SUMMARY:[:en]Guided Tour : LE SUD DU MARAIS[:fr]Visite Guidée : LE SUD DU MARAIS[:]
DESCRIPTION:Welcome\, curious Parisians! We’re delighted to have you join us for an exciting guided tour of the southern Marais\, one of the most iconic neighborhoods in Paris. During this tour\, you’ll uncover fascinating history\, picturesque architecture\, and the vibrant culture of this part of the city. So\, slip into your comfortable walking shoes\, open your eyes wide\, and get ready to explore the southern Marais! \nDuring this tour\, we’ll discover the famous City Hall. This magnificent Renaissance-style town hall is a symbol of the city of Paris and a perfect example of French Renaissance architecture. \nNext\, we’ll wander through the narrow alleys and hidden courtyards of the Marais\, where you’ll uncover the hidden stories behind the facades and learn about famous residents. Just be careful not to end up in one of the neighborhood’s notorious prisons! \nThroughout the tour\, our experienced guide will provide you with historical\, cultural\, and anecdotal information to fully immerse you in the atmosphere of the southern Marais. Feel free to ask questions and snap photos to capture this unique experience. \n  \nWe hope this tour will offer you an enriching perspective on one of the most captivating parts of Paris. So\, join us for an unforgettable 2-hour journey of discovery in the southern Marais! \n  \nNow reserve your spot! \nconsommation non-comprise / consumption not included
URL:https://uncafefrancais.com/en/agenda/vg-sudmarais-230921/
LOCATION:Hôtel de Ville\, France
CATEGORIES:[:fr]Visites Guidées Intermédiares[:][:en]Intermediate Guided Tours[:],[:fr]Visites Guidées[:][:en]Guided Tours[:],Evénement Intermédiaires[:][:en]Intermediates Event[:]
ATTACH;FMTTYPE=image/png:https://uncafefrancais.com/wp-content/uploads/2023/09/I-Le-Sud-du-Marais-UCF-COMPRESS.png
END:VEVENT
BEGIN:VEVENT
DTSTART;TZID=Europe/Paris:20230925T183000
DTEND;TZID=Europe/Paris:20230925T200000
DTSTAMP:20260419T183659
CREATED:20230912T081231Z
LAST-MODIFIED:20230925T103216Z
UID:11622-1695666600-1695672000@uncafefrancais.com
SUMMARY:L'Apéro Débutants
DESCRIPTION:Too shy to speak French? Okay\, let’s meet for an ‘apéro’ one evening to go at our own pace…Two hours is a pretty good start\, don’t you think? \n  \nConsumption not included
URL:https://uncafefrancais.com/en/agenda/apero-debutants-230925/
CATEGORIES:[:fr]Apéros Débutants[:][:en]Beginner Apéros[:],[:fr]Groupes de conversations Débutants[:][:en]Beginner Conversation Groups[:],[:fr]Groupes de conversations[:][:en]Conversation Groups[:],Apéros
ATTACH;FMTTYPE=image/png:https://uncafefrancais.com/wp-content/uploads/2020/01/UCF-Jumelle-Apero_deb.png
END:VEVENT
BEGIN:VEVENT
DTSTART;TZID=Europe/Paris:20230927T183000
DTEND;TZID=Europe/Paris:20230927T200000
DTSTAMP:20260419T183659
CREATED:20230912T095637Z
LAST-MODIFIED:20230927T100919Z
UID:11648-1695839400-1695844800@uncafefrancais.com
SUMMARY:L’Apéro Intermédiaires
DESCRIPTION:One of the best proven ways to progress the learning of a new language is to try communicating and conversing with others. In this “apéro” we offer you the opportunity to meet up in a group of people to discuss in french all along while enjoying a French cultural habit. \nConsumption not included
URL:https://uncafefrancais.com/en/agenda/apero-intermediaires-230927/
LOCATION:Le Génie\, 4\, Bld de Beaumarchais\, PARIS\, 75011
CATEGORIES:[:fr]Apéros Intermédiaires[:][:en]Intermediate Apéros[:],[:fr]Groupes de conversations Intermédiaires[:][:en]Intermediate Conversations Groups[:],[:fr]Groupes de conversations[:][:en]Conversation Groups[:],Apéros
ATTACH;FMTTYPE=image/png:https://uncafefrancais.com/wp-content/uploads/2020/01/UCF-Jumelle-Apero_int.png
END:VEVENT
END:VCALENDAR