BEGIN:VCALENDAR
VERSION:2.0
PRODID:-//Un Café Français - ECPv6.15.13.1//NONSGML v1.0//EN
CALSCALE:GREGORIAN
METHOD:PUBLISH
X-WR-CALNAME:Un Café Français
X-ORIGINAL-URL:https://uncafefrancais.com/en
X-WR-CALDESC:Events for Un Café Français
REFRESH-INTERVAL;VALUE=DURATION:PT1H
X-Robots-Tag:noindex
X-PUBLISHED-TTL:PT1H
BEGIN:VTIMEZONE
TZID:Europe/Paris
BEGIN:DAYLIGHT
TZOFFSETFROM:+0100
TZOFFSETTO:+0200
TZNAME:CEST
DTSTART:20220327T010000
END:DAYLIGHT
BEGIN:STANDARD
TZOFFSETFROM:+0200
TZOFFSETTO:+0100
TZNAME:CET
DTSTART:20221030T010000
END:STANDARD
BEGIN:DAYLIGHT
TZOFFSETFROM:+0100
TZOFFSETTO:+0200
TZNAME:CEST
DTSTART:20230326T010000
END:DAYLIGHT
BEGIN:STANDARD
TZOFFSETFROM:+0200
TZOFFSETTO:+0100
TZNAME:CET
DTSTART:20231029T010000
END:STANDARD
BEGIN:DAYLIGHT
TZOFFSETFROM:+0100
TZOFFSETTO:+0200
TZNAME:CEST
DTSTART:20240331T010000
END:DAYLIGHT
BEGIN:STANDARD
TZOFFSETFROM:+0200
TZOFFSETTO:+0100
TZNAME:CET
DTSTART:20241027T010000
END:STANDARD
END:VTIMEZONE
BEGIN:VTIMEZONE
TZID:Europe/Paris
BEGIN:DAYLIGHT
TZOFFSETFROM:+0100
TZOFFSETTO:+0200
TZNAME:CEST
DTSTART:20220327T010000
END:DAYLIGHT
BEGIN:STANDARD
TZOFFSETFROM:+0200
TZOFFSETTO:+0100
TZNAME:CET
DTSTART:20221030T010000
END:STANDARD
BEGIN:DAYLIGHT
TZOFFSETFROM:+0100
TZOFFSETTO:+0200
TZNAME:CEST
DTSTART:20230326T010000
END:DAYLIGHT
BEGIN:STANDARD
TZOFFSETFROM:+0200
TZOFFSETTO:+0100
TZNAME:CET
DTSTART:20231029T010000
END:STANDARD
BEGIN:DAYLIGHT
TZOFFSETFROM:+0100
TZOFFSETTO:+0200
TZNAME:CEST
DTSTART:20240331T010000
END:DAYLIGHT
BEGIN:STANDARD
TZOFFSETFROM:+0200
TZOFFSETTO:+0100
TZNAME:CET
DTSTART:20241027T010000
END:STANDARD
END:VTIMEZONE
BEGIN:VEVENT
DTSTART;TZID=Europe/Paris:20231002T183000
DTEND;TZID=Europe/Paris:20231002T200000
DTSTAMP:20260419T163810
CREATED:20231013T104618Z
LAST-MODIFIED:20231013T120148Z
UID:11697-1696271400-1696276800@uncafefrancais.com
SUMMARY:L'Apéro Débutants
DESCRIPTION:Too shy to speak French? Okay\, let’s meet for an ‘apéro’ one evening to go at our own pace…Two hours is a pretty good start\, don’t you think? \n  \nConsumption not included
URL:https://uncafefrancais.com/en/agenda/apero-debutants-231002/
LOCATION:Brasserie-café Le PARIS\, 24\, rue Richard LENOIR\, PARIS\, 75011\, France
CATEGORIES:[:fr]Apéros Débutants[:][:en]Beginner Apéros[:],[:fr]Groupes de conversations Débutants[:][:en]Beginner Conversation Groups[:],[:fr]Groupes de conversations[:][:en]Conversation Groups[:],Apéros
ATTACH;FMTTYPE=image/png:https://uncafefrancais.com/wp-content/uploads/2020/01/UCF-Jumelle-Apero_deb.png
END:VEVENT
BEGIN:VEVENT
DTSTART;TZID=Europe/Paris:20231004T183000
DTEND;TZID=Europe/Paris:20231004T200000
DTSTAMP:20260419T163810
CREATED:20231013T131650Z
LAST-MODIFIED:20231013T131650Z
UID:11693-1696444200-1696449600@uncafefrancais.com
SUMMARY:L’Apéro Intermédiaires
DESCRIPTION:One of the best proven ways to progress the learning of a new language is to try communicating and conversing with others. In this “apéro” we offer you the opportunity to meet up in a group of people to discuss in french all along while enjoying a French cultural habit. \nConsumption not included
URL:https://uncafefrancais.com/en/agenda/apero-intermediaires-231004/
LOCATION:Le Génie\, 4\, Bld de Beaumarchais\, PARIS\, 75011
CATEGORIES:[:fr]Apéros Intermédiaires[:][:en]Intermediate Apéros[:],[:fr]Groupes de conversations Intermédiaires[:][:en]Intermediate Conversations Groups[:],[:fr]Groupes de conversations[:][:en]Conversation Groups[:],Apéros
ATTACH;FMTTYPE=image/png:https://uncafefrancais.com/wp-content/uploads/2020/01/UCF-Jumelle-Apero_int.png
END:VEVENT
BEGIN:VEVENT
DTSTART;TZID=Europe/Paris:20231009T183000
DTEND;TZID=Europe/Paris:20231009T200000
DTSTAMP:20260419T163810
CREATED:20231013T104844Z
LAST-MODIFIED:20231013T120213Z
UID:11698-1696876200-1696881600@uncafefrancais.com
SUMMARY:L'Apéro Débutants
DESCRIPTION:Too shy to speak French? Okay\, let’s meet for an ‘apéro’ one evening to go at our own pace…Two hours is a pretty good start\, don’t you think? \n  \nConsumption not included
URL:https://uncafefrancais.com/en/agenda/apero-debutants-231009/
LOCATION:Brasserie-café Le PARIS\, 24\, rue Richard LENOIR\, PARIS\, 75011\, France
CATEGORIES:[:fr]Apéros Débutants[:][:en]Beginner Apéros[:],[:fr]Groupes de conversations Débutants[:][:en]Beginner Conversation Groups[:],[:fr]Groupes de conversations[:][:en]Conversation Groups[:],Apéros
ATTACH;FMTTYPE=image/png:https://uncafefrancais.com/wp-content/uploads/2020/01/UCF-Jumelle-Apero_deb.png
END:VEVENT
BEGIN:VEVENT
DTSTART;TZID=Europe/Paris:20231011T183000
DTEND;TZID=Europe/Paris:20231011T200000
DTSTAMP:20260419T163810
CREATED:20231013T131848Z
LAST-MODIFIED:20231013T144145Z
UID:11737-1697049000-1697054400@uncafefrancais.com
SUMMARY:L’Apéro Intermédiaires
DESCRIPTION:One of the best proven ways to progress the learning of a new language is to try communicating and conversing with others. In this “apéro” we offer you the opportunity to meet up in a group of people to discuss in french all along while enjoying a French cultural habit. \nConsumption not included
URL:https://uncafefrancais.com/en/agenda/apero-intermediaires-231011/
LOCATION:Le Génie\, 4\, Bld de Beaumarchais\, PARIS\, 75011
CATEGORIES:[:fr]Apéros Intermédiaires[:][:en]Intermediate Apéros[:],[:fr]Groupes de conversations Intermédiaires[:][:en]Intermediate Conversations Groups[:],[:fr]Groupes de conversations[:][:en]Conversation Groups[:],Apéros
ATTACH;FMTTYPE=image/png:https://uncafefrancais.com/wp-content/uploads/2020/01/UCF-Jumelle-Apero_int.png
END:VEVENT
BEGIN:VEVENT
DTSTART;TZID=Europe/Paris:20231016T183000
DTEND;TZID=Europe/Paris:20231016T200000
DTSTAMP:20260419T163810
CREATED:20231013T105100Z
LAST-MODIFIED:20231013T120346Z
UID:11701-1697481000-1697486400@uncafefrancais.com
SUMMARY:L'Apéro Débutants
DESCRIPTION:Too shy to speak French? Okay\, let’s meet for an ‘apéro’ one evening to go at our own pace…Two hours is a pretty good start\, don’t you think? \n  \nConsumption not included
URL:https://uncafefrancais.com/en/agenda/apero-debutants-231016/
LOCATION:Brasserie-café Le PARIS\, 24\, rue Richard LENOIR\, PARIS\, 75011\, France
CATEGORIES:[:fr]Apéros Débutants[:][:en]Beginner Apéros[:],[:fr]Groupes de conversations Débutants[:][:en]Beginner Conversation Groups[:],[:fr]Groupes de conversations[:][:en]Conversation Groups[:],Apéros
ATTACH;FMTTYPE=image/png:https://uncafefrancais.com/wp-content/uploads/2020/01/UCF-Jumelle-Apero_deb.png
END:VEVENT
BEGIN:VEVENT
DTSTART;TZID=Europe/Paris:20231017T100000
DTEND;TZID=Europe/Paris:20231017T113000
DTSTAMP:20260419T163810
CREATED:20231013T153906Z
LAST-MODIFIED:20231013T155856Z
UID:11784-1697536800-1697542200@uncafefrancais.com
SUMMARY:Le P’tit Déj’ Débutants
DESCRIPTION:What would you have for breakfast? A comforting cup of tea or coffee\, a friendly conversation in French and a shot of good humour? A good way to start the day. \n  \nConsumption not included
URL:https://uncafefrancais.com/en/agenda/ptitdej-debutants-231017/
CATEGORIES:[:fr]Groupes de conversations Débutants[:][:en]Beginner Conversation Groups[:],[:fr]Groupes de conversations[:][:en]Conversation Groups[:],[:fr]P'tits Déj' Débutants[:][:en]Beginner Breakfasts[:],P'tits Déj'
ATTACH;FMTTYPE=image/png:https://uncafefrancais.com/wp-content/uploads/2020/01/UCF-Jumelle-Pti-Déj_deb.png
END:VEVENT
BEGIN:VEVENT
DTSTART;TZID=Europe/Paris:20231018T183000
DTEND;TZID=Europe/Paris:20231018T200000
DTSTAMP:20260419T163810
CREATED:20231013T132035Z
LAST-MODIFIED:20231018T095239Z
UID:11739-1697653800-1697659200@uncafefrancais.com
SUMMARY:L’Apéro Intermédiaires
DESCRIPTION:One of the best proven ways to progress the learning of a new language is to try communicating and conversing with others. In this “apéro” we offer you the opportunity to meet up in a group of people to discuss in french all along while enjoying a French cultural habit. \nConsumption not included
URL:https://uncafefrancais.com/en/agenda/apero-intermediaires-231018/
LOCATION:Le Génie\, 4\, Bld de Beaumarchais\, PARIS\, 75011
CATEGORIES:[:fr]Apéros Intermédiaires[:][:en]Intermediate Apéros[:],[:fr]Groupes de conversations Intermédiaires[:][:en]Intermediate Conversations Groups[:],[:fr]Groupes de conversations[:][:en]Conversation Groups[:],Apéros
ATTACH;FMTTYPE=image/png:https://uncafefrancais.com/wp-content/uploads/2020/01/UCF-Jumelle-Apero_int.png
END:VEVENT
BEGIN:VEVENT
DTSTART;TZID=Europe/Paris:20231019T093000
DTEND;TZID=Europe/Paris:20231019T110000
DTSTAMP:20260419T163810
CREATED:20231013T150707Z
LAST-MODIFIED:20231013T151819Z
UID:11773-1697707800-1697713200@uncafefrancais.com
SUMMARY:Le P’tit Déj’ Intermédiaires
DESCRIPTION:What if started the day with a pleasant conversation in a charming café? Nothing better for getting up to speed. And to finish our time together\, a new topic or some revision…It’s going to be a nice day! \n  \n  \nConsumption not included
URL:https://uncafefrancais.com/en/agenda/ptitdej-intermediaires-231019/
CATEGORIES:[:fr]Groupes de conversations Intermédiaires[:][:en]Intermediate Conversations Groups[:],[:fr]Groupes de conversations[:][:en]Conversation Groups[:],[:fr]P'tits Déj' Intermédiaires[:][:en]Intermediate Breakfasts[:],P'tits Déj'
ATTACH;FMTTYPE=image/png:https://uncafefrancais.com/wp-content/uploads/2020/01/UCF-Jumelle-Pti-Déj_int.png
END:VEVENT
BEGIN:VEVENT
DTSTART;TZID=Europe/Paris:20231022T190000
DTEND;TZID=Europe/Paris:20231022T190000
DTSTAMP:20260419T163810
CREATED:20230912T110727Z
LAST-MODIFIED:20231012T160241Z
UID:11665-1698001200-1698001200@uncafefrancais.com
SUMMARY:Le dîner du mois
DESCRIPTION:This time\, I propose that we meet once a month for dinner in a French restaurant to experience the French way of life. This could be a great opportunity to improve your French skills by chatting with locals\, taking in the atmosphere and discovering French cuisine.\n  \nYou will only pay for your meal\, however €5 is required to secure your reservation. It will be reimbursed if you\, actually\, participate in the dinner.
URL:https://uncafefrancais.com/en/agenda/ledinerdumois-231022/
LOCATION:PARIS\, PARIS\, 75006\, France
CATEGORIES:Evénement Débutants[:][:en]Beginners Event[:],Evénement Intermédiaires[:][:en]Intermediates Event[:]
ATTACH;FMTTYPE=image/png:https://uncafefrancais.com/wp-content/uploads/2023/03/2023_Le-diner-du-mois.png
END:VEVENT
BEGIN:VEVENT
DTSTART;TZID=Europe/Paris:20231022T190000
DTEND;TZID=Europe/Paris:20231022T223000
DTSTAMP:20260419T163810
CREATED:20240325T225111Z
LAST-MODIFIED:20240326T113010Z
UID:12466-1698001200-1698013800@uncafefrancais.com
SUMMARY:Le dîner du mois de Septembre
DESCRIPTION:This time\, I propose that we meet once a month for dinner in a French restaurant to experience the French way of life. This could be a great opportunity to improve your French skills by chatting with locals\, taking in the atmosphere and discovering French cuisine.\n  \nYou will only pay for your meal\, however €5 is required to secure your reservation. It will be reimbursed if you\, actually\, participate in the dinner.
URL:https://uncafefrancais.com/en/agenda/ledinerdumois-2409/
LOCATION:PARIS\, PARIS\, 75006\, France
CATEGORIES:Evénement Avancés[:][:en]Advanced Event[:],Evénement Débutants[:][:en]Beginners Event[:],Evénement Intermédiaires[:][:en]Intermediates Event[:],Tous Niveaux
ATTACH;FMTTYPE=image/png:https://uncafefrancais.com/wp-content/uploads/2023/03/2023_Le-diner-du-mois.png
END:VEVENT
BEGIN:VEVENT
DTSTART;TZID=Europe/Paris:20231022T190000
DTEND;TZID=Europe/Paris:20231022T223000
DTSTAMP:20260419T163810
CREATED:20240325T231508Z
LAST-MODIFIED:20240326T113721Z
UID:12464-1698001200-1698013800@uncafefrancais.com
SUMMARY:Le dîner du mois de Juillet
DESCRIPTION:This time\, I propose that we meet once a month for dinner in a French restaurant to experience the French way of life. This could be a great opportunity to improve your French skills by chatting with locals\, taking in the atmosphere and discovering French cuisine.\n  \nYou will only pay for your meal\, however €5 is required to secure your reservation. It will be reimbursed if you\, actually\, participate in the dinner.
URL:https://uncafefrancais.com/en/agenda/ledinerdumois-2407/
LOCATION:PARIS\, PARIS\, 75006\, France
CATEGORIES:Evénement Avancés[:][:en]Advanced Event[:],Evénement Débutants[:][:en]Beginners Event[:],Evénement Intermédiaires[:][:en]Intermediates Event[:],Tous Niveaux
ATTACH;FMTTYPE=image/png:https://uncafefrancais.com/wp-content/uploads/2023/03/2023_Le-diner-du-mois.png
END:VEVENT
BEGIN:VEVENT
DTSTART;TZID=Europe/Paris:20231023T183000
DTEND;TZID=Europe/Paris:20231023T200000
DTSTAMP:20260419T163810
CREATED:20231013T105452Z
LAST-MODIFIED:20231013T120601Z
UID:11703-1698085800-1698091200@uncafefrancais.com
SUMMARY:L'Apéro Débutants
DESCRIPTION:Too shy to speak French? Okay\, let’s meet for an ‘apéro’ one evening to go at our own pace…Two hours is a pretty good start\, don’t you think? \n  \nConsumption not included
URL:https://uncafefrancais.com/en/agenda/apero-debutants-231023/
LOCATION:Brasserie-café Le PARIS\, 24\, rue Richard LENOIR\, PARIS\, 75011\, France
CATEGORIES:[:fr]Apéros Débutants[:][:en]Beginner Apéros[:],[:fr]Groupes de conversations Débutants[:][:en]Beginner Conversation Groups[:],[:fr]Groupes de conversations[:][:en]Conversation Groups[:],Apéros
ATTACH;FMTTYPE=image/png:https://uncafefrancais.com/wp-content/uploads/2020/01/UCF-Jumelle-Apero_deb.png
END:VEVENT
BEGIN:VEVENT
DTSTART;TZID=Europe/Paris:20231024T100000
DTEND;TZID=Europe/Paris:20231024T113000
DTSTAMP:20260419T163810
CREATED:20231013T154954Z
LAST-MODIFIED:20231013T154954Z
UID:11789-1698141600-1698147000@uncafefrancais.com
SUMMARY:Le P’tit Déj’ Débutants
DESCRIPTION:What would you have for breakfast? A comforting cup of tea or coffee\, a friendly conversation in French and a shot of good humour? A good way to start the day. \n  \nConsumption not included
URL:https://uncafefrancais.com/en/agenda/ptitdej-debutants-231024/
CATEGORIES:[:fr]Groupes de conversations Débutants[:][:en]Beginner Conversation Groups[:],[:fr]Groupes de conversations[:][:en]Conversation Groups[:],[:fr]P'tits Déj' Débutants[:][:en]Beginner Breakfasts[:],P'tits Déj'
ATTACH;FMTTYPE=image/png:https://uncafefrancais.com/wp-content/uploads/2020/01/UCF-Jumelle-Pti-Déj_deb.png
END:VEVENT
BEGIN:VEVENT
DTSTART;TZID=Europe/Paris:20231025T183000
DTEND;TZID=Europe/Paris:20231025T200000
DTSTAMP:20260419T163810
CREATED:20231013T132321Z
LAST-MODIFIED:20231013T144151Z
UID:11742-1698258600-1698264000@uncafefrancais.com
SUMMARY:L’Apéro Intermédiaires
DESCRIPTION:One of the best proven ways to progress the learning of a new language is to try communicating and conversing with others. In this “apéro” we offer you the opportunity to meet up in a group of people to discuss in french all along while enjoying a French cultural habit. \nConsumption not included
URL:https://uncafefrancais.com/en/agenda/apero-intermediaires-231025/
LOCATION:Le Génie\, 4\, Bld de Beaumarchais\, PARIS\, 75011
CATEGORIES:[:fr]Apéros Intermédiaires[:][:en]Intermediate Apéros[:],[:fr]Groupes de conversations Intermédiaires[:][:en]Intermediate Conversations Groups[:],[:fr]Groupes de conversations[:][:en]Conversation Groups[:],Apéros
ATTACH;FMTTYPE=image/png:https://uncafefrancais.com/wp-content/uploads/2020/01/UCF-Jumelle-Apero_int.png
END:VEVENT
BEGIN:VEVENT
DTSTART;TZID=Europe/Paris:20231026T093000
DTEND;TZID=Europe/Paris:20231026T110000
DTSTAMP:20260419T163810
CREATED:20231013T152107Z
LAST-MODIFIED:20231013T152633Z
UID:11779-1698312600-1698318000@uncafefrancais.com
SUMMARY:Le P’tit Déj’ Intermédiaires
DESCRIPTION:What if started the day with a pleasant conversation in a charming café? Nothing better for getting up to speed. And to finish our time together\, a new topic or some revision…It’s going to be a nice day! \n  \n  \nConsumption not included
URL:https://uncafefrancais.com/en/agenda/le-ptit-dej-intermediaires/
CATEGORIES:[:fr]Groupes de conversations Intermédiaires[:][:en]Intermediate Conversations Groups[:],[:fr]Groupes de conversations[:][:en]Conversation Groups[:],[:fr]P'tits Déj' Intermédiaires[:][:en]Intermediate Breakfasts[:],P'tits Déj'
ATTACH;FMTTYPE=image/png:https://uncafefrancais.com/wp-content/uploads/2020/01/UCF-Jumelle-Pti-Déj_int.png
END:VEVENT
BEGIN:VEVENT
DTSTART;TZID=Europe/Paris:20231030T183000
DTEND;TZID=Europe/Paris:20231030T200000
DTSTAMP:20260419T163810
CREATED:20231013T105602Z
LAST-MODIFIED:20231013T114645Z
UID:11705-1698690600-1698696000@uncafefrancais.com
SUMMARY:L'Apéro Débutants
DESCRIPTION:Too shy to speak French? Okay\, let’s meet for an ‘apéro’ one evening to go at our own pace…Two hours is a pretty good start\, don’t you think? \n  \nConsumption not included
URL:https://uncafefrancais.com/en/agenda/apero-debutants-231030/
LOCATION:Brasserie-café Le PARIS\, 24\, rue Richard LENOIR\, PARIS\, 75011\, France
CATEGORIES:[:fr]Apéros Débutants[:][:en]Beginner Apéros[:],[:fr]Groupes de conversations Débutants[:][:en]Beginner Conversation Groups[:],[:fr]Groupes de conversations[:][:en]Conversation Groups[:],Apéros
ATTACH;FMTTYPE=image/png:https://uncafefrancais.com/wp-content/uploads/2020/01/UCF-Jumelle-Apero_deb.png
END:VEVENT
BEGIN:VEVENT
DTSTART;TZID=Europe/Paris:20231031T100000
DTEND;TZID=Europe/Paris:20231031T113000
DTSTAMP:20260419T163810
CREATED:20231013T155833Z
LAST-MODIFIED:20231013T155833Z
UID:11795-1698746400-1698751800@uncafefrancais.com
SUMMARY:Le P’tit Déj’ Débutants
DESCRIPTION:What would you have for breakfast? A comforting cup of tea or coffee\, a friendly conversation in French and a shot of good humour? A good way to start the day. \n  \nConsumption not included
URL:https://uncafefrancais.com/en/agenda/ptitdej-debutants-231031/
CATEGORIES:[:fr]Groupes de conversations Débutants[:][:en]Beginner Conversation Groups[:],[:fr]Groupes de conversations[:][:en]Conversation Groups[:],[:fr]P'tits Déj' Débutants[:][:en]Beginner Breakfasts[:],P'tits Déj'
ATTACH;FMTTYPE=image/png:https://uncafefrancais.com/wp-content/uploads/2020/01/UCF-Jumelle-Pti-Déj_deb.png
END:VEVENT
END:VCALENDAR