BEGIN:VCALENDAR
VERSION:2.0
PRODID:-//Un Café Français - ECPv6.15.13.1//NONSGML v1.0//EN
CALSCALE:GREGORIAN
METHOD:PUBLISH
X-ORIGINAL-URL:https://uncafefrancais.com/en
X-WR-CALDESC:Events for Un Café Français
REFRESH-INTERVAL;VALUE=DURATION:PT1H
X-Robots-Tag:noindex
X-PUBLISHED-TTL:PT1H
BEGIN:VTIMEZONE
TZID:Europe/Paris
BEGIN:DAYLIGHT
TZOFFSETFROM:+0100
TZOFFSETTO:+0200
TZNAME:CEST
DTSTART:20210328T010000
END:DAYLIGHT
BEGIN:STANDARD
TZOFFSETFROM:+0200
TZOFFSETTO:+0100
TZNAME:CET
DTSTART:20211031T010000
END:STANDARD
BEGIN:DAYLIGHT
TZOFFSETFROM:+0100
TZOFFSETTO:+0200
TZNAME:CEST
DTSTART:20220327T010000
END:DAYLIGHT
BEGIN:STANDARD
TZOFFSETFROM:+0200
TZOFFSETTO:+0100
TZNAME:CET
DTSTART:20221030T010000
END:STANDARD
BEGIN:DAYLIGHT
TZOFFSETFROM:+0100
TZOFFSETTO:+0200
TZNAME:CEST
DTSTART:20230326T010000
END:DAYLIGHT
BEGIN:STANDARD
TZOFFSETFROM:+0200
TZOFFSETTO:+0100
TZNAME:CET
DTSTART:20231029T010000
END:STANDARD
END:VTIMEZONE
BEGIN:VEVENT
DTSTART;TZID=Europe/Paris:20220312T153000
DTEND;TZID=Europe/Paris:20220312T173000
DTSTAMP:20260423T085823
CREATED:20220307T062008Z
LAST-MODIFIED:20220407T043628Z
UID:10693-1647099000-1647106200@uncafefrancais.com
SUMMARY:[:en]Workshop : DRAWING_Proportion 'n' Volume in FRENCH[:fr]Atelier Dessin : Initiez-vous aux Proportion et Volume en français[:]
DESCRIPTION:2 hours to be a Manet-to-be or a Delacroix? Probably not\, but you will learn how to draw from a highly-skilled Parisian fine arts teacher\, learn more about art\, all while improving your french. Plus\, you’ll have a fresh perspective next time you visit the Musee d’Orsay. \nCome with your hands in your pockets : the material will be PROVIDED to you. \nConsumption not included
URL:https://uncafefrancais.com/en/agenda/atelierdessin-proportionetvolume-220312/
CATEGORIES:[:fr]Ateliers Débutants[:][:en]Beginner workshops[:],[:fr]Ateliers Intermédiaires[:][:en]Intermediate workshops[:],[:fr]Ateliers[:][:en]Workshops[:]
ATTACH;FMTTYPE=image/png:https://uncafefrancais.com/wp-content/uploads/2020/01/uncafefrancais_Atelier-Arts-Plastiques-Mains-compressor.png
END:VEVENT
END:VCALENDAR